{"text_format":"1","workbook":"xlsx","n_sheets":5,"sheets":["Schießkladde","GefilterteRangliste","Drucken","MDrucken","Info"],"not_rendered":{"charts":0,"images":0,"macros":1,"external_links":0,"defined_names":19,"comments":1,"pivot_tables":0},"unopened":[],"bounds":{"document_bytes":16777216,"sheet_cells":100000,"rows_first":2000,"rows_last":500,"rows_between":2000,"halvings":0,"cell_chars":16384,"cell_head_chars":4096},"cells_cut":0,"cells_raw":0,"read":"whole","date_system":"1900"}

{"sheet":"Schießkladde","index":0,"n_rows":205,"n_cols":50,"rows_kept":205,"cut":false,"hidden":false,"merged":[[2,38,2,39],[1,0,1,4],[0,0,0,4],[24,3,24,5],[38,3,38,4],[35,3,36,5],[25,3,26,5],[29,3,30,5],[32,3,33,5]]}
["König der Könige",null,null,null,null,{"$f":"COUNTA(E6:E23)","v":13},null,null,null,{"$f":"MAX(AJ6:AJ204)","v":0},null,null,{"$f":"IF(F2=0,\"0\",SMALL(AJ6:AJ204,1))","v":"0"},null,{"$f":"IF(SUBTOTAL(3,O6:O204)=COUNTA(O6:O204),\"kein Filter\",INDEX(O6:O204,MATCH(1,INDEX(SUBTOTAL(3,INDIRECT(\"O\"&ROW(6:204))),),)))","v":"kein Filter"},null,null,null,null,null,null,null,null,null,null,null,null,null,null,null,null,null,null,false,null,null,9.9999999999999998E-13,null,null,null,"DropDown\nFunktion","DropDown\nVerein",1,2,3,null,"such name","such v name","such funkt"]
["2024 in Hassel",null,null,null,null,{"$f":"COUNTA(L6:L204)","v":0},null,null,null,{"$f":"COUNTA(P6:P204)","v":0},null,null,{"$f":"F2-J2","v":0},null,{"$f":"IF(O1=\"kein Filter\",\"\",O1)","v":""},null,null,null,null,null,null,null,null,null,null,null,null,null,null,null,null,null,"<",true]
[null,null,null,"Startnr.","Verein/ Mannschaft","Funktion",null,null,null,"Rang Einzel","Einzel- ergebnis","Name","Vorname","Verein/ Mannschaft","Funktion",1,2,3,4,5,6,7,8,9,10,"St1","St2","St3","St4",null,null,null,null,null,null,"Ges","Rang Kö d Kö, Be d Da","Rang Teilergebnis",null,null,null,null,null,null,null,null,{"$f":"Drucken!$P$4","v":0},{"$f":"Drucken!$P$4","v":0},{"$f":"Drucken!$P$4","v":0}]
[]
[null,null,null,null,null,null,null,null,null,{"$f":"IF(#REF!=\"\",\"\",RANK(AK5,$AK$5:$AK$104,0))","v":{"$error":"#REF!"}},null,{"$f":"IF(SUBTOTAL(3,L6:AI204)-COUNTA(L6:AI204)=0,\"\",\"Tabelle ist gefiltert\")","v":""}]
[null,null,null,1,"KKSV Bergen","Gast",{"$f":"IF(F6=\"\",\"\",COUNTIF(O:O,F6))","v":0},null,null,{"$f":"IF(AJ6=\"\",\"\",RANK(AL6,$AL$6:$AL$204,0))","v":""},{"$f":"AJ6","v":""},null,null,null,null,null,null,null,null,null,null,null,null,null,null,null,null,null,null,null,null,null,null,null,null,{"$f":"IF(P6=\"\",\"\",IF(L6=\"\",\"\",SUM(P6:R6)))","v":""},{"$f":"IFERROR((AJ6*90000000000)+(AQ6*400000000)+(AR6*25000000)+(AS6*2000000)+(Z6*100000+(AA6*1211)+(AB6*110)+(AC6*0.9)),\"\")","v":""},{"$f":"IFERROR(SUBTOTAL(9,AK6,$AK$1),\"\")","v":9.9999999999999998E-13},null,null,{"$f":"eindeutig(F6:F23)","v":"Gast"},{"$f":"eindeutig(E6:E23)","v":"KKSV Bergen"},{"$f":"IFERROR(LARGE(P6:R6,1),\"\")","v":""},{"$f":"IFERROR(SMALL(P6:R6,2),\"\")","v":""},{"$f":"IFERROR(SMALL(P6:R6,1),\"\")","v":""},null,{"$f":"IF(N6=$AU$3,L6,\"\")","v":0},{"$f":"IF(N6=$AV$3,M6,\"\")","v":0},{"$f":"IF(N6=$AW$3,O6,\"\")","v":0},{"$f":"CONCATENATE(L6,\"-\",M6,\"-\",N6)","v":"--"}]
[null,null,null,2,"SV Bleckmar","König",0,null,null,{"$f":"IF(AJ7=\"\",\"\",RANK(AL7,$AL$6:$AL$204,0))","v":""},{"$f":"AJ7","v":""},null,null,null,null,null,null,null,null,null,null,null,null,null,null,null,null,null,null,null,null,null,null,null,null,"",{"$f":"IFERROR((AJ7*90000000000)+(AQ7*400000000)+(AR7*25000000)+(AS7*2000000)+(Z7*100000+(AA7*1211)+(AB7*110)+(AC7*0.9)),\"\")","v":""},{"$f":"IFERROR(SUBTOTAL(9,AK7,$AK$1),\"\")","v":9.9999999999999998E-13},null,null,"König","SV Bleckmar",{"$f":"IFERROR(LARGE(P7:R7,1),\"\")","v":""},{"$f":"IFERROR(SMALL(P7:R7,2),\"\")","v":""},{"$f":"IFERROR(SMALL(P7:R7,1),\"\")","v":""},null,0,0,0,"--"]
[null,null,null,3,"SV Eversen","1.",0,null,null,{"$f":"IF(AJ8=\"\",\"\",RANK(AL8,$AL$6:$AL$204,0))","v":""},{"$f":"AJ8","v":""},null,null,null,null,null,null,null,null,null,null,null,null,null,null,null,null,null,null,null,null,null,null,null,null,"","",9.9999999999999998E-13,null,null,"1.","SV Eversen","","","",null,0,0,0,"--"]
[null,null,null,4,"SG Sülze","2.",0,null,null,{"$f":"IF(AJ9=\"\",\"\",RANK(AL9,$AL$6:$AL$204,0))","v":""},{"$f":"AJ9","v":""},null,null,null,null,null,null,null,null,null,null,null,null,null,null,null,null,null,null,null,null,null,null,null,null,"","",9.9999999999999998E-13,null,null,"2.","SG Sülze","","","",null,0,0,0,"--"]
[null,null,null,5,"SC Bergen","AK",0,null,null,{"$f":"IF(AJ10=\"\",\"\",RANK(AL10,$AL$6:$AL$204,0))","v":""},{"$f":"AJ10","v":""},null,null,null,null,null,null,null,null,null,null,null,null,null,null,null,null,null,null,null,null,null,null,null,null,"","",9.9999999999999998E-13,null,null,"AK","SC Bergen","","","",null,0,0,0,"--"]
[null,null,null,6,"SV Offen",null,"",null,null,{"$f":"IF(AJ11=\"\",\"\",RANK(AL11,$AL$6:$AL$204,0))","v":""},{"$f":"AJ11","v":""},null,null,null,null,null,null,null,null,null,null,null,null,null,null,null,null,null,null,null,null,null,null,null,null,"","",9.9999999999999998E-13,null,null,"","SV Offen","","","",null,0,0,0,"--"]
[null,null,null,7,"SV Hassel",null,"",null,null,{"$f":"IF(AJ12=\"\",\"\",RANK(AL12,$AL$6:$AL$204,0))","v":""},{"$f":"AJ12","v":""},null,null,null,null,null,null,null,null,null,null,null,null,null,null,null,null,null,null,null,null,null,null,null,null,"","",9.9999999999999998E-13,null,null,"","SV Hassel","","","",null,0,0,0,"--"]
[null,null,null,8,"SV Diesten",null,"",null,null,{"$f":"IF(AJ13=\"\",\"\",RANK(AL13,$AL$6:$AL$204,0))","v":""},{"$f":"AJ13","v":""},null,null,null,null,null,null,null,null,null,null,null,null,null,null,null,null,null,null,null,null,null,null,null,null,"","",9.9999999999999998E-13,null,null,"","SV Diesten","","","",null,0,0,0,"--"]
[null,null,null,9,"SG Bollersen",null,"",null,null,{"$f":"IF(AJ14=\"\",\"\",RANK(AL14,$AL$6:$AL$204,0))","v":""},{"$f":"AJ14","v":""},null,null,null,null,null,null,null,null,null,null,null,null,null,null,null,null,null,null,null,null,null,null,null,null,"","",9.9999999999999998E-13,null,null,"","SG Bollersen","","","",null,0,0,0,"--"]
[null,null,null,10,"SV Becklingen",null,"",null,null,{"$f":"IF(AJ15=\"\",\"\",RANK(AL15,$AL$6:$AL$204,0))","v":""},{"$f":"AJ15","v":""},null,null,null,null,null,null,null,null,null,null,null,null,null,null,null,null,null,null,null,null,null,null,null,null,"","",9.9999999999999998E-13,null,null,"","SV Becklingen","","","",null,0,0,0,"--"]
[null,null,null,98,"SSG Hasselhorst",null,"",null,null,{"$f":"IF(AJ16=\"\",\"\",RANK(AL16,$AL$6:$AL$204,0))","v":""},{"$f":"AJ16","v":""},null,null,null,null,null,null,null,null,null,null,null,null,null,null,null,null,null,null,null,null,null,null,null,null,"","",9.9999999999999998E-13,null,null,"","SSG Hasselhorst","","","",null,0,0,0,"--"]
[null,null,null,99,"SSV Wardböhmen",null,"",null,null,{"$f":"IF(AJ17=\"\",\"\",RANK(AL17,$AL$6:$AL$204,0))","v":""},{"$f":"AJ17","v":""},null,null,null,null,null,null,null,null,null,null,null,null,null,null,null,null,null,null,null,null,null,null,null,null,"","",9.9999999999999998E-13,null,null,"","SSV Wardböhmen","","","",null,0,0,0,"--"]
[null,null,null,100,"Gäste",null,"",null,null,{"$f":"IF(AJ18=\"\",\"\",RANK(AL18,$AL$6:$AL$204,0))","v":""},{"$f":"AJ18","v":""},null,null,null,null,null,null,null,null,null,null,null,null,null,null,null,null,null,null,null,null,null,null,null,null,"","",9.9999999999999998E-13,null,null,"","Gäste","","","",null,0,0,0,"--"]
[null,null,null,null,null,null,"",null,null,{"$f":"IF(AJ19=\"\",\"\",RANK(AL19,$AL$6:$AL$204,0))","v":""},{"$f":"AJ19","v":""},null,null,null,null,null,null,null,null,null,null,null,null,null,null,null,null,null,null,null,null,null,null,null,null,"","",9.9999999999999998E-13,null,null,"","","","","",null,0,0,0,"--"]
[null,null,null,null,null,null,"",null,null,{"$f":"IF(AJ20=\"\",\"\",RANK(AL20,$AL$6:$AL$204,0))","v":""},{"$f":"AJ20","v":""},null,null,null,null,null,null,null,null,null,null,null,null,null,null,null,null,null,null,null,null,null,null,null,null,"","",9.9999999999999998E-13,null,null,"","","","","",null,0,0,0,"--"]
[null,null,null,null,null,null,"",null,null,{"$f":"IF(AJ21=\"\",\"\",RANK(AL21,$AL$6:$AL$204,0))","v":""},{"$f":"AJ21","v":""},null,null,null,null,null,null,null,null,null,null,null,null,null,null,null,null,null,null,null,null,null,null,null,null,"","",9.9999999999999998E-13,null,null,"","","","","",null,0,0,0,"--"]
[null,null,null,null,null,null,"",null,null,{"$f":"IF(AJ22=\"\",\"\",RANK(AL22,$AL$6:$AL$204,0))","v":""},{"$f":"AJ22","v":""},null,null,null,null,null,null,null,null,null,null,null,null,null,null,null,null,null,null,null,null,null,null,null,null,"","",9.9999999999999998E-13,null,null,"","","","","",null,0,0,0,"--"]
[null,null,null,null,null,null,"",null,null,{"$f":"IF(AJ23=\"\",\"\",RANK(AL23,$AL$6:$AL$204,0))","v":""},{"$f":"AJ23","v":""},null,null,null,null,null,null,null,null,null,null,null,null,null,null,null,null,null,null,null,null,null,null,null,null,"","",9.9999999999999998E-13,null,null,"","","","","",null,0,0,0,"--"]
[null,null,null,null,null,null,{"$f":"IF(F25=\"\",\"\",COUNTIF(N:N,F25))","v":""},null,null,{"$f":"IF(AJ24=\"\",\"\",RANK(AL24,$AL$6:$AL$204,0))","v":""},{"$f":"AJ24","v":""},null,null,null,null,null,null,null,null,null,null,null,null,null,null,null,null,null,null,null,null,null,null,null,null,"","",9.9999999999999998E-13,null,null,null,null,"","","",null,0,0,0,"--"]
[null,null,null,"C:\\Auspacken\\",null,null,null,null,null,{"$f":"IF(AJ25=\"\",\"\",RANK(AL25,$AL$6:$AL$204,0))","v":""},{"$f":"AJ25","v":""},null,null,null,null,null,null,null,null,null,null,null,null,null,null,null,null,null,null,null,null,null,null,null,null,"","",9.9999999999999998E-13,null,null,null,null,"","","",null,0,0,0,"--"]
[null,null,null,"In diesem Verzeichnis wird bei jedem speichern eine Sicherungskopie angelegt.",null,null,null,null,null,{"$f":"IF(AJ26=\"\",\"\",RANK(AL26,$AL$6:$AL$204,0))","v":""},{"$f":"AJ26","v":""},null,null,null,null,null,null,null,null,null,null,null,null,null,null,null,null,null,null,null,null,null,null,null,null,"","",9.9999999999999998E-13,null,null,null,null,"","","",null,0,0,0,"--"]
[null,null,null,null,null,null,null,null,null,{"$f":"IF(AJ27=\"\",\"\",RANK(AL27,$AL$6:$AL$204,0))","v":""},{"$f":"AJ27","v":""},null,null,null,null,null,null,null,null,null,null,null,null,null,null,null,null,null,null,null,null,null,null,null,null,"","",9.9999999999999998E-13,null,null,null,null,"","","",null,0,0,0,"--"]
[null,null,null,null,null,null,null,null,null,{"$f":"IF(AJ28=\"\",\"\",RANK(AL28,$AL$6:$AL$204,0))","v":""},{"$f":"AJ28","v":""},null,null,null,null,null,null,null,null,null,null,null,null,null,null,null,null,null,null,null,null,null,null,null,null,"","",9.9999999999999998E-13,null,null,null,null,"","","",null,0,0,0,"--"]
[null,null,null,"Speicherort:",null,null,null,null,null,{"$f":"IF(AJ29=\"\",\"\",RANK(AL29,$AL$6:$AL$204,0))","v":""},{"$f":"AJ29","v":""},null,null,null,null,null,null,null,null,null,null,null,null,null,null,null,null,null,null,null,null,null,null,null,null,"","",9.9999999999999998E-13,null,null,null,null,"","","",null,0,0,0,"--"]
[null,null,null,{"$f":"CELL(\"dateiname\")","v":"C:\\Dokumente\\Schützenverein\\König der Könige\\[KöKö-BdD 1.4.1.xlsm]Schießkladde"},null,null,null,null,null,{"$f":"IF(AJ30=\"\",\"\",RANK(AL30,$AL$6:$AL$204,0))","v":""},{"$f":"AJ30","v":""},null,null,null,null,null,null,null,null,null,null,null,null,null,null,null,null,null,null,null,null,null,null,null,null,"","",9.9999999999999998E-13,null,null,null,null,"","","",null,0,0,0,"--"]
[null,null,null,null,null,null,null,null,null,{"$f":"IF(AJ31=\"\",\"\",RANK(AL31,$AL$6:$AL$204,0))","v":""},{"$f":"AJ31","v":""},null,null,null,null,null,null,null,null,null,null,null,null,null,null,null,null,null,null,null,null,null,null,null,null,"","",9.9999999999999998E-13,null,null,null,null,"","","",null,0,0,0,"--"]
[null,null,null,null,null,null,null,null,null,{"$f":"IF(AJ32=\"\",\"\",RANK(AL32,$AL$6:$AL$204,0))","v":""},{"$f":"AJ32","v":""},null,null,null,null,null,null,null,null,null,null,null,null,null,null,null,null,null,null,null,null,null,null,null,null,"","",9.9999999999999998E-13,null,null,null,null,"","","",null,0,0,0,"--"]
[null,null,null,"Im Protokoll werden alle Änderungen in der Schießkladde dokumentiert.",null,null,null,null,null,{"$f":"IF(AJ33=\"\",\"\",RANK(AL33,$AL$6:$AL$204,0))","v":""},{"$f":"AJ33","v":""},null,null,null,null,null,null,null,null,null,null,null,null,null,null,null,null,null,null,null,null,null,null,null,null,"","",9.9999999999999998E-13,null,null,null,null,"","","",null,0,0,0,"--"]
[null,null,null,null,null,null,null,null,null,{"$f":"IF(AJ34=\"\",\"\",RANK(AL34,$AL$6:$AL$204,0))","v":""},{"$f":"AJ34","v":""},null,null,null,null,null,null,null,null,null,null,null,null,null,null,null,null,null,null,null,null,null,null,null,null,"","",9.9999999999999998E-13,null,null,null,null,"","","",null,0,0,0,"--"]
[null,null,null,null,null,null,null,null,null,{"$f":"IF(AJ35=\"\",\"\",RANK(AL35,$AL$6:$AL$204,0))","v":""},{"$f":"AJ35","v":""},null,null,null,null,null,null,null,null,null,null,null,null,null,null,null,null,null,null,null,null,null,null,null,null,"","",9.9999999999999998E-13,null,null,null,null,"","","",null,0,0,0,"--"]
[null,null,null,"Die Rangfolge wird gem. DSB berechnet. Erst das Endergebnis dann die Anzahl 10, 9, 8 u. s. w.",null,null,null,null,null,{"$f":"IF(AJ36=\"\",\"\",RANK(AL36,$AL$6:$AL$204,0))","v":""},{"$f":"AJ36","v":""},null,null,null,null,null,null,null,null,null,null,null,null,null,null,null,null,null,null,null,null,null,null,null,null,"","",9.9999999999999998E-13,null,null,null,null,"","","",null,0,0,0,"--"]
[null,null,null,null,null,null,null,null,null,{"$f":"IF(AJ37=\"\",\"\",RANK(AL37,$AL$6:$AL$204,0))","v":""},{"$f":"AJ37","v":""},null,null,null,null,null,null,null,null,null,null,null,null,null,null,null,null,null,null,null,null,null,null,null,null,"","",9.9999999999999998E-13,null,null,null,null,"","","",null,0,0,0,"--"]
[null,null,null,null,null,null,null,null,null,{"$f":"IF(AJ38=\"\",\"\",RANK(AL38,$AL$6:$AL$204,0))","v":""},{"$f":"AJ38","v":""},null,null,null,null,null,null,null,null,null,null,null,null,null,null,null,null,null,null,null,null,null,null,null,null,{"$f":"IF(P38=\"\",\"\",IF(L38=\"\",\"\",SUM(P38:R38)))","v":""},"",9.9999999999999998E-13,null,null,null,null,"","","",null,{"$f":"IF(N38=$AU$3,L38,\"\")","v":0},{"$f":"IF(N38=$AV$3,M38,\"\")","v":0},{"$f":"IF(N38=$AW$3,O38,\"\")","v":0},{"$f":"CONCATENATE(L38,\"-\",M38,\"-\",N38)","v":"--"}]
[null,null,null,"Version",null,"1.4",null,null,null,{"$f":"IF(AJ39=\"\",\"\",RANK(AL39,$AL$6:$AL$204,0))","v":""},{"$f":"AJ39","v":""},null,null,null,null,null,null,null,null,null,null,null,null,null,null,null,null,null,null,null,null,null,null,null,null,"","",9.9999999999999998E-13,null,null,null,null,"","","",null,0,0,0,"--"]
[null,null,null,null,null,null,null,null,null,{"$f":"IF(AJ40=\"\",\"\",RANK(AL40,$AL$6:$AL$204,0))","v":""},{"$f":"AJ40","v":""},null,null,null,null,null,null,null,null,null,null,null,null,null,null,null,null,null,null,null,null,null,null,null,null,"","",9.9999999999999998E-13,null,null,null,null,"","","",null,0,0,0,"--"]
[null,null,null,null,null,null,null,null,null,{"$f":"IF(AJ41=\"\",\"\",RANK(AL41,$AL$6:$AL$204,0))","v":""},{"$f":"AJ41","v":""},null,null,null,null,null,null,null,null,null,null,null,null,null,null,null,null,null,null,null,null,null,null,null,null,"","",9.9999999999999998E-13,null,null,null,null,"","","",null,0,0,0,"--"]
[null,null,null,null,null,null,null,null,null,{"$f":"IF(AJ42=\"\",\"\",RANK(AL42,$AL$6:$AL$204,0))","v":""},{"$f":"AJ42","v":""},null,null,null,null,null,null,null,null,null,null,null,null,null,null,null,null,null,null,null,null,null,null,null,null,"","",9.9999999999999998E-13,null,null,null,null,"","","",null,0,0,0,"--"]
[null,null,null,null,null,null,null,null,null,{"$f":"IF(AJ43=\"\",\"\",RANK(AL43,$AL$6:$AL$204,0))","v":""},{"$f":"AJ43","v":""},null,null,null,null,null,null,null,null,null,null,null,null,null,null,null,null,null,null,null,null,null,null,null,null,"","",9.9999999999999998E-13,null,null,null,null,"","","",null,0,0,0,"--"]
[null,null,null,null,null,null,null,null,null,{"$f":"IF(AJ44=\"\",\"\",RANK(AL44,$AL$6:$AL$204,0))","v":""},{"$f":"AJ44","v":""},null,null,null,null,null,null,null,null,null,null,null,null,null,null,null,null,null,null,null,null,null,null,null,null,"","",9.9999999999999998E-13,null,null,null,null,"","","",null,0,0,0,"--"]
[null,null,null,null,null,null,null,null,null,{"$f":"IF(AJ45=\"\",\"\",RANK(AL45,$AL$6:$AL$204,0))","v":""},{"$f":"AJ45","v":""},null,null,null,null,null,null,null,null,null,null,null,null,null,null,null,null,null,null,null,null,null,null,null,null,"","",9.9999999999999998E-13,null,null,null,null,"","","",null,0,0,0,"--"]
[null,null,null,null,null,null,null,null,null,{"$f":"IF(AJ46=\"\",\"\",RANK(AL46,$AL$6:$AL$204,0))","v":""},{"$f":"AJ46","v":""},null,null,null,null,null,null,null,null,null,null,null,null,null,null,null,null,null,null,null,null,null,null,null,null,"","",9.9999999999999998E-13,null,null,null,null,"","","",null,0,0,0,"--"]
[null,null,null,null,null,null,null,null,null,{"$f":"IF(AJ47=\"\",\"\",RANK(AL47,$AL$6:$AL$204,0))","v":""},{"$f":"AJ47","v":""},null,null,null,null,null,null,null,null,null,null,null,null,null,null,null,null,null,null,null,null,null,null,null,null,"","",9.9999999999999998E-13,null,null,null,null,"","","",null,0,0,0,"--"]
[null,null,null,null,null,null,null,null,null,{"$f":"IF(AJ48=\"\",\"\",RANK(AL48,$AL$6:$AL$204,0))","v":""},{"$f":"AJ48","v":""},null,null,null,null,null,null,null,null,null,null,null,null,null,null,null,null,null,null,null,null,null,null,null,null,"","",9.9999999999999998E-13,null,null,null,null,"","","",null,0,0,0,"--"]
[null,null,null,null,null,null,null,null,null,{"$f":"IF(AJ49=\"\",\"\",RANK(AL49,$AL$6:$AL$204,0))","v":""},{"$f":"AJ49","v":""},null,null,null,null,null,null,null,null,null,null,null,null,null,null,null,null,null,null,null,null,null,null,null,null,"","",9.9999999999999998E-13,null,null,null,null,"","","",null,0,0,0,"--"]
[null,null,null,null,null,null,null,null,null,{"$f":"IF(AJ50=\"\",\"\",RANK(AL50,$AL$6:$AL$204,0))","v":""},{"$f":"AJ50","v":""},null,null,null,null,null,null,null,null,null,null,null,null,null,null,null,null,null,null,null,null,null,null,null,null,"","",9.9999999999999998E-13,null,null,null,null,"","","",null,0,0,0,"--"]
[null,null,null,null,null,null,null,null,null,{"$f":"IF(AJ51=\"\",\"\",RANK(AL51,$AL$6:$AL$204,0))","v":""},{"$f":"AJ51","v":""},null,null,null,null,null,null,null,null,null,null,null,null,null,null,null,null,null,null,null,null,null,null,null,null,"","",9.9999999999999998E-13,null,null,null,null,"","","",null,0,0,0,"--"]
[null,null,null,null,null,null,null,null,null,{"$f":"IF(AJ52=\"\",\"\",RANK(AL52,$AL$6:$AL$204,0))","v":""},{"$f":"AJ52","v":""},null,null,null,null,null,null,null,null,null,null,null,null,null,null,null,null,null,null,null,null,null,null,null,null,"","",9.9999999999999998E-13,null,null,null,null,"","","",null,0,0,0,"--"]
[null,null,null,null,null,null,null,null,null,{"$f":"IF(AJ53=\"\",\"\",RANK(AL53,$AL$6:$AL$204,0))","v":""},{"$f":"AJ53","v":""},null,null,null,null,null,null,null,null,null,null,null,null,null,null,null,null,null,null,null,null,null,null,null,null,"","",9.9999999999999998E-13,null,null,null,null,"","","",null,0,0,0,"--"]
[null,null,null,null,null,null,null,null,null,{"$f":"IF(AJ54=\"\",\"\",RANK(AL54,$AL$6:$AL$204,0))","v":""},{"$f":"AJ54","v":""},null,null,null,null,null,null,null,null,null,null,null,null,null,null,null,null,null,null,null,null,null,null,null,null,"","",9.9999999999999998E-13,null,null,null,null,"","","",null,0,0,0,"--"]
[null,null,null,null,null,null,null,null,null,{"$f":"IF(AJ55=\"\",\"\",RANK(AL55,$AL$6:$AL$204,0))","v":""},{"$f":"AJ55","v":""},null,null,null,null,null,null,null,null,null,null,null,null,null,null,null,null,null,null,null,null,null,null,null,null,"","",9.9999999999999998E-13,null,null,null,null,"","","",null,0,0,0,"--"]
[null,null,null,null,null,null,null,null,null,{"$f":"IF(AJ56=\"\",\"\",RANK(AL56,$AL$6:$AL$204,0))","v":""},{"$f":"AJ56","v":""},null,null,null,null,null,null,null,null,null,null,null,null,null,null,null,null,null,null,null,null,null,null,null,null,"","",9.9999999999999998E-13,null,null,null,null,"","","",null,0,0,0,"--"]
[null,null,null,null,null,null,null,null,null,{"$f":"IF(AJ57=\"\",\"\",RANK(AL57,$AL$6:$AL$204,0))","v":""},{"$f":"AJ57","v":""},null,null,null,null,null,null,null,null,null,null,null,null,null,null,null,null,null,null,null,null,null,null,null,null,"","",9.9999999999999998E-13,null,null,null,null,"","","",null,0,0,0,"--"]
[null,null,null,null,null,null,null,null,null,{"$f":"IF(AJ58=\"\",\"\",RANK(AL58,$AL$6:$AL$204,0))","v":""},{"$f":"AJ58","v":""},null,null,null,null,null,null,null,null,null,null,null,null,null,null,null,null,null,null,null,null,null,null,null,null,"","",9.9999999999999998E-13,null,null,null,null,"","","",null,0,0,0,"--"]
[null,null,null,null,null,null,null,null,null,{"$f":"IF(AJ59=\"\",\"\",RANK(AL59,$AL$6:$AL$204,0))","v":""},{"$f":"AJ59","v":""},null,null,null,null,null,null,null,null,null,null,null,null,null,null,null,null,null,null,null,null,null,null,null,null,"","",9.9999999999999998E-13,null,null,null,null,"","","",null,0,0,0,"--"]
[null,null,null,null,null,null,null,null,null,{"$f":"IF(AJ60=\"\",\"\",RANK(AL60,$AL$6:$AL$204,0))","v":""},{"$f":"AJ60","v":""},null,null,null,null,null,null,null,null,null,null,null,null,null,null,null,null,null,null,null,null,null,null,null,null,"","",9.9999999999999998E-13,null,null,null,null,"","","",null,0,0,0,"--"]
[null,null,null,null,null,null,null,null,null,{"$f":"IF(AJ61=\"\",\"\",RANK(AL61,$AL$6:$AL$204,0))","v":""},{"$f":"AJ61","v":""},null,null,null,null,null,null,null,null,null,null,null,null,null,null,null,null,null,null,null,null,null,null,null,null,"","",9.9999999999999998E-13,null,null,null,null,"","","",null,0,0,0,"--"]
[null,null,null,null,null,null,null,null,null,{"$f":"IF(AJ62=\"\",\"\",RANK(AL62,$AL$6:$AL$204,0))","v":""},{"$f":"AJ62","v":""},null,null,null,null,null,null,null,null,null,null,null,null,null,null,null,null,null,null,null,null,null,null,null,null,"","",9.9999999999999998E-13,null,null,null,null,"","","",null,0,0,0,"--"]
[null,null,null,null,null,null,null,null,null,{"$f":"IF(AJ63=\"\",\"\",RANK(AL63,$AL$6:$AL$204,0))","v":""},{"$f":"AJ63","v":""},null,null,null,null,null,null,null,null,null,null,null,null,null,null,null,null,null,null,null,null,null,null,null,null,"","",9.9999999999999998E-13,null,null,null,null,"","","",null,0,0,0,"--"]
[null,null,null,null,null,null,null,null,null,{"$f":"IF(AJ64=\"\",\"\",RANK(AL64,$AL$6:$AL$204,0))","v":""},{"$f":"AJ64","v":""},null,null,null,null,null,null,null,null,null,null,null,null,null,null,null,null,null,null,null,null,null,null,null,null,"","",9.9999999999999998E-13,null,null,null,null,"","","",null,0,0,0,"--"]
[null,null,null,null,null,null,null,null,null,{"$f":"IF(AJ65=\"\",\"\",RANK(AL65,$AL$6:$AL$204,0))","v":""},{"$f":"AJ65","v":""},null,null,null,null,null,null,null,null,null,null,null,null,null,null,null,null,null,null,null,null,null,null,null,null,"","",9.9999999999999998E-13,null,null,null,null,"","","",null,0,0,0,"--"]
[null,null,null,null,null,null,null,null,null,{"$f":"IF(AJ66=\"\",\"\",RANK(AL66,$AL$6:$AL$204,0))","v":""},{"$f":"AJ66","v":""},null,null,null,null,null,null,null,null,null,null,null,null,null,null,null,null,null,null,null,null,null,null,null,null,"","",9.9999999999999998E-13,null,null,null,null,"","","",null,0,0,0,"--"]
[null,null,null,null,null,null,null,null,null,{"$f":"IF(AJ67=\"\",\"\",RANK(AL67,$AL$6:$AL$204,0))","v":""},{"$f":"AJ67","v":""},null,null,null,null,null,null,null,null,null,null,null,null,null,null,null,null,null,null,null,null,null,null,null,null,"","",9.9999999999999998E-13,null,null,null,null,"","","",null,0,0,0,"--"]
[null,null,null,null,null,null,null,null,null,{"$f":"IF(AJ68=\"\",\"\",RANK(AL68,$AL$6:$AL$204,0))","v":""},{"$f":"AJ68","v":""},null,null,null,null,null,null,null,null,null,null,null,null,null,null,null,null,null,null,null,null,null,null,null,null,"","",9.9999999999999998E-13,null,null,null,null,"","","",null,0,0,0,"--"]
[null,null,null,null,null,null,null,null,null,{"$f":"IF(AJ69=\"\",\"\",RANK(AL69,$AL$6:$AL$204,0))","v":""},{"$f":"AJ69","v":""},null,null,null,null,null,null,null,null,null,null,null,null,null,null,null,null,null,null,null,null,null,null,null,null,"","",9.9999999999999998E-13,null,null,null,null,"","","",null,0,0,0,"--"]
[null,null,null,null,null,null,null,null,null,{"$f":"IF(AJ70=\"\",\"\",RANK(AL70,$AL$6:$AL$204,0))","v":""},{"$f":"AJ70","v":""},null,null,null,null,null,null,null,null,null,null,null,null,null,null,null,null,null,null,null,null,null,null,null,null,{"$f":"IF(P70=\"\",\"\",IF(L70=\"\",\"\",SUM(P70:R70)))","v":""},"",9.9999999999999998E-13,null,null,null,null,"","","",null,{"$f":"IF(N70=$AU$3,L70,\"\")","v":0},{"$f":"IF(N70=$AV$3,M70,\"\")","v":0},{"$f":"IF(N70=$AW$3,O70,\"\")","v":0},{"$f":"CONCATENATE(L70,\"-\",M70,\"-\",N70)","v":"--"}]
[null,null,null,null,null,null,null,null,null,{"$f":"IF(AJ71=\"\",\"\",RANK(AL71,$AL$6:$AL$204,0))","v":""},{"$f":"AJ71","v":""},null,null,null,null,null,null,null,null,null,null,null,null,null,null,null,null,null,null,null,null,null,null,null,null,"",{"$f":"IFERROR((AJ71*90000000000)+(AQ71*400000000)+(AR71*25000000)+(AS71*2000000)+(Z71*100000+(AA71*1211)+(AB71*110)+(AC71*0.9)),\"\")","v":""},{"$f":"IFERROR(SUBTOTAL(9,AK71,$AK$1),\"\")","v":9.9999999999999998E-13},null,null,null,null,{"$f":"IFERROR(LARGE(P71:R71,1),\"\")","v":""},{"$f":"IFERROR(SMALL(P71:R71,2),\"\")","v":""},{"$f":"IFERROR(SMALL(P71:R71,1),\"\")","v":""},null,0,0,0,"--"]
[null,null,null,null,null,null,null,null,null,{"$f":"IF(AJ72=\"\",\"\",RANK(AL72,$AL$6:$AL$204,0))","v":""},{"$f":"AJ72","v":""},null,null,null,null,null,null,null,null,null,null,null,null,null,null,null,null,null,null,null,null,null,null,null,null,"","",9.9999999999999998E-13,null,null,null,null,"","","",null,0,0,0,"--"]
[null,null,null,null,null,null,null,null,null,{"$f":"IF(AJ73=\"\",\"\",RANK(AL73,$AL$6:$AL$204,0))","v":""},{"$f":"AJ73","v":""},null,null,null,null,null,null,null,null,null,null,null,null,null,null,null,null,null,null,null,null,null,null,null,null,"","",9.9999999999999998E-13,null,null,null,null,"","","",null,0,0,0,"--"]
[null,null,null,null,null,null,null,null,null,{"$f":"IF(AJ74=\"\",\"\",RANK(AL74,$AL$6:$AL$204,0))","v":""},{"$f":"AJ74","v":""},null,null,null,null,null,null,null,null,null,null,null,null,null,null,null,null,null,null,null,null,null,null,null,null,"","",9.9999999999999998E-13,null,null,null,null,"","","",null,0,0,0,"--"]
[null,null,null,null,null,null,null,null,null,{"$f":"IF(AJ75=\"\",\"\",RANK(AL75,$AL$6:$AL$204,0))","v":""},{"$f":"AJ75","v":""},null,null,null,null,null,null,null,null,null,null,null,null,null,null,null,null,null,null,null,null,null,null,null,null,"","",9.9999999999999998E-13,null,null,null,null,"","","",null,0,0,0,"--"]
[null,null,null,null,null,null,null,null,null,{"$f":"IF(AJ76=\"\",\"\",RANK(AL76,$AL$6:$AL$204,0))","v":""},{"$f":"AJ76","v":""},null,null,null,null,null,null,null,null,null,null,null,null,null,null,null,null,null,null,null,null,null,null,null,null,"","",9.9999999999999998E-13,null,null,null,null,"","","",null,0,0,0,"--"]
[null,null,null,null,null,null,null,null,null,{"$f":"IF(AJ77=\"\",\"\",RANK(AL77,$AL$6:$AL$204,0))","v":""},{"$f":"AJ77","v":""},null,null,null,null,null,null,null,null,null,null,null,null,null,null,null,null,null,null,null,null,null,null,null,null,"","",9.9999999999999998E-13,null,null,null,null,"","","",null,0,0,0,"--"]
[null,null,null,null,null,null,null,null,null,{"$f":"IF(AJ78=\"\",\"\",RANK(AL78,$AL$6:$AL$204,0))","v":""},{"$f":"AJ78","v":""},null,null,null,null,null,null,null,null,null,null,null,null,null,null,null,null,null,null,null,null,null,null,null,null,"","",9.9999999999999998E-13,null,null,null,null,"","","",null,0,0,0,"--"]
[null,null,null,null,null,null,null,null,null,{"$f":"IF(AJ79=\"\",\"\",RANK(AL79,$AL$6:$AL$204,0))","v":""},{"$f":"AJ79","v":""},null,null,null,null,null,null,null,null,null,null,null,null,null,null,null,null,null,null,null,null,null,null,null,null,"","",9.9999999999999998E-13,null,null,null,null,"","","",null,0,0,0,"--"]
[null,null,null,null,null,null,null,null,null,{"$f":"IF(AJ80=\"\",\"\",RANK(AL80,$AL$6:$AL$204,0))","v":""},{"$f":"AJ80","v":""},null,null,null,null,null,null,null,null,null,null,null,null,null,null,null,null,null,null,null,null,null,null,null,null,"","",9.9999999999999998E-13,null,null,null,null,"","","",null,0,0,0,"--"]
[null,null,null,null,null,null,null,null,null,{"$f":"IF(AJ81=\"\",\"\",RANK(AL81,$AL$6:$AL$204,0))","v":""},{"$f":"AJ81","v":""},null,null,null,null,null,null,null,null,null,null,null,null,null,null,null,null,null,null,null,null,null,null,null,null,"","",9.9999999999999998E-13,null,null,null,null,"","","",null,0,0,0,"--"]
[null,null,null,null,null,null,null,null,null,{"$f":"IF(AJ82=\"\",\"\",RANK(AL82,$AL$6:$AL$204,0))","v":""},{"$f":"AJ82","v":""},null,null,null,null,null,null,null,null,null,null,null,null,null,null,null,null,null,null,null,null,null,null,null,null,"","",9.9999999999999998E-13,null,null,null,null,"","","",null,0,0,0,"--"]
[null,null,null,null,null,null,null,null,null,{"$f":"IF(AJ83=\"\",\"\",RANK(AL83,$AL$6:$AL$204,0))","v":""},{"$f":"AJ83","v":""},null,null,null,null,null,null,null,null,null,null,null,null,null,null,null,null,null,null,null,null,null,null,null,null,"","",9.9999999999999998E-13,null,null,null,null,"","","",null,0,0,0,"--"]
[null,null,null,null,null,null,null,null,null,{"$f":"IF(AJ84=\"\",\"\",RANK(AL84,$AL$6:$AL$204,0))","v":""},{"$f":"AJ84","v":""},null,null,null,null,null,null,null,null,null,null,null,null,null,null,null,null,null,null,null,null,null,null,null,null,"","",9.9999999999999998E-13,null,null,null,null,"","","",null,0,0,0,"--"]
[null,null,null,null,null,null,null,null,null,{"$f":"IF(AJ85=\"\",\"\",RANK(AL85,$AL$6:$AL$204,0))","v":""},{"$f":"AJ85","v":""},null,null,null,null,null,null,null,null,null,null,null,null,null,null,null,null,null,null,null,null,null,null,null,null,"","",9.9999999999999998E-13,null,null,null,null,"","","",null,0,0,0,"--"]
[null,null,null,null,null,null,null,null,null,{"$f":"IF(AJ86=\"\",\"\",RANK(AL86,$AL$6:$AL$204,0))","v":""},{"$f":"AJ86","v":""},null,null,null,null,null,null,null,null,null,null,null,null,null,null,null,null,null,null,null,null,null,null,null,null,"","",9.9999999999999998E-13,null,null,null,null,"","","",null,0,0,0,"--"]
[null,null,null,null,null,null,null,null,null,{"$f":"IF(AJ87=\"\",\"\",RANK(AL87,$AL$6:$AL$204,0))","v":""},{"$f":"AJ87","v":""},null,null,null,null,null,null,null,null,null,null,null,null,null,null,null,null,null,null,null,null,null,null,null,null,"","",9.9999999999999998E-13,null,null,null,null,"","","",null,0,0,0,"--"]
[null,null,null,null,null,null,null,null,null,{"$f":"IF(AJ88=\"\",\"\",RANK(AL88,$AL$6:$AL$204,0))","v":""},{"$f":"AJ88","v":""},null,null,null,null,null,null,null,null,null,null,null,null,null,null,null,null,null,null,null,null,null,null,null,null,"","",9.9999999999999998E-13,null,null,null,null,"","","",null,0,0,0,"--"]
[null,null,null,null,null,null,null,null,null,{"$f":"IF(AJ89=\"\",\"\",RANK(AL89,$AL$6:$AL$204,0))","v":""},{"$f":"AJ89","v":""},null,null,null,null,null,null,null,null,null,null,null,null,null,null,null,null,null,null,null,null,null,null,null,null,"","",9.9999999999999998E-13,null,null,null,null,"","","",null,0,0,0,"--"]
[null,null,null,null,null,null,null,null,null,{"$f":"IF(AJ90=\"\",\"\",RANK(AL90,$AL$6:$AL$204,0))","v":""},{"$f":"AJ90","v":""},null,null,null,null,null,null,null,null,null,null,null,null,null,null,null,null,null,null,null,null,null,null,null,null,"","",9.9999999999999998E-13,null,null,null,null,"","","",null,0,0,0,"--"]
[null,null,null,null,null,null,null,null,null,{"$f":"IF(AJ91=\"\",\"\",RANK(AL91,$AL$6:$AL$204,0))","v":""},{"$f":"AJ91","v":""},null,null,null,null,null,null,null,null,null,null,null,null,null,null,null,null,null,null,null,null,null,null,null,null,"","",9.9999999999999998E-13,null,null,null,null,"","","",null,0,0,0,"--"]
[null,null,null,null,null,null,null,null,null,{"$f":"IF(AJ92=\"\",\"\",RANK(AL92,$AL$6:$AL$204,0))","v":""},{"$f":"AJ92","v":""},null,null,null,null,null,null,null,null,null,null,null,null,null,null,null,null,null,null,null,null,null,null,null,null,"","",9.9999999999999998E-13,null,null,null,null,"","","",null,0,0,0,"--"]
[null,null,null,null,null,null,null,null,null,{"$f":"IF(AJ93=\"\",\"\",RANK(AL93,$AL$6:$AL$204,0))","v":""},{"$f":"AJ93","v":""},null,null,null,null,null,null,null,null,null,null,null,null,null,null,null,null,null,null,null,null,null,null,null,null,"","",9.9999999999999998E-13,null,null,null,null,"","","",null,0,0,0,"--"]
[null,null,null,null,null,null,null,null,null,{"$f":"IF(AJ94=\"\",\"\",RANK(AL94,$AL$6:$AL$204,0))","v":""},{"$f":"AJ94","v":""},null,null,null,null,null,null,null,null,null,null,null,null,null,null,null,null,null,null,null,null,null,null,null,null,"","",9.9999999999999998E-13,null,null,null,null,"","","",null,0,0,0,"--"]
[null,null,null,null,null,null,null,null,null,{"$f":"IF(AJ95=\"\",\"\",RANK(AL95,$AL$6:$AL$204,0))","v":""},{"$f":"AJ95","v":""},null,null,null,null,null,null,null,null,null,null,null,null,null,null,null,null,null,null,null,null,null,null,null,null,"","",9.9999999999999998E-13,null,null,null,null,"","","",null,0,0,0,"--"]
[null,null,null,null,null,null,null,null,null,{"$f":"IF(AJ96=\"\",\"\",RANK(AL96,$AL$6:$AL$204,0))","v":""},{"$f":"AJ96","v":""},null,null,null,null,null,null,null,null,null,null,null,null,null,null,null,null,null,null,null,null,null,null,null,null,"","",9.9999999999999998E-13,null,null,null,null,"","","",null,0,0,0,"--"]
[null,null,null,null,null,null,null,null,null,{"$f":"IF(AJ97=\"\",\"\",RANK(AL97,$AL$6:$AL$204,0))","v":""},{"$f":"AJ97","v":""},null,null,null,null,null,null,null,null,null,null,null,null,null,null,null,null,null,null,null,null,null,null,null,null,"","",9.9999999999999998E-13,null,null,null,null,"","","",null,0,0,0,"--"]
[null,null,null,null,null,null,null,null,null,{"$f":"IF(AJ98=\"\",\"\",RANK(AL98,$AL$6:$AL$204,0))","v":""},{"$f":"AJ98","v":""},null,null,null,null,null,null,null,null,null,null,null,null,null,null,null,null,null,null,null,null,null,null,null,null,"","",9.9999999999999998E-13,null,null,null,null,"","","",null,0,0,0,"--"]
[null,null,null,null,null,null,null,null,null,{"$f":"IF(AJ99=\"\",\"\",RANK(AL99,$AL$6:$AL$204,0))","v":""},{"$f":"AJ99","v":""},null,null,null,null,null,null,null,null,null,null,null,null,null,null,null,null,null,null,null,null,null,null,null,null,"","",9.9999999999999998E-13,null,null,null,null,"","","",null,0,0,0,"--"]
[null,null,null,null,null,null,null,null,null,{"$f":"IF(AJ100=\"\",\"\",RANK(AL100,$AL$6:$AL$204,0))","v":""},{"$f":"AJ100","v":""},null,null,null,null,null,null,null,null,null,null,null,null,null,null,null,null,null,null,null,null,null,null,null,null,"","",9.9999999999999998E-13,null,null,null,null,"","","",null,0,0,0,"--"]
[null,null,null,null,null,null,null,null,null,{"$f":"IF(AJ101=\"\",\"\",RANK(AL101,$AL$6:$AL$204,0))","v":""},{"$f":"AJ101","v":""},null,null,null,null,null,null,null,null,null,null,null,null,null,null,null,null,null,null,null,null,null,null,null,null,"","",9.9999999999999998E-13,null,null,null,null,"","","",null,0,0,0,"--"]
[null,null,null,null,null,null,null,null,null,{"$f":"IF(AJ102=\"\",\"\",RANK(AL102,$AL$6:$AL$204,0))","v":""},{"$f":"AJ102","v":""},null,null,null,null,null,null,null,null,null,null,null,null,null,null,null,null,null,null,null,null,null,null,null,null,{"$f":"IF(P102=\"\",\"\",IF(L102=\"\",\"\",SUM(P102:R102)))","v":""},"",9.9999999999999998E-13,null,null,null,null,"","","",null,0,0,0,{"$f":"CONCATENATE(L102,\"-\",M102,\"-\",N102)","v":"--"}]
[null,null,null,null,null,null,null,null,null,{"$f":"IF(AJ103=\"\",\"\",RANK(AL103,$AL$6:$AL$204,0))","v":""},{"$f":"AJ103","v":""},null,null,null,null,null,null,null,null,null,null,null,null,null,null,null,null,null,null,null,null,null,null,null,null,"","",9.9999999999999998E-13,null,null,null,null,"","","",null,0,0,0,"--"]
[null,null,null,null,null,null,null,null,null,{"$f":"IF(AJ104=\"\",\"\",RANK(AL104,$AL$6:$AL$204,0))","v":""},{"$f":"AJ104","v":""},null,null,null,null,null,null,null,null,null,null,null,null,null,null,null,null,null,null,null,null,null,null,null,null,"","",9.9999999999999998E-13,null,null,null,null,"","","",null,0,0,0,"--"]
[null,null,null,null,null,null,null,null,null,{"$f":"IF(AJ105=\"\",\"\",RANK(AL105,$AL$6:$AL$204,0))","v":""},{"$f":"AJ105","v":""},null,null,null,null,null,null,null,null,null,null,null,null,null,null,null,null,null,null,null,null,null,null,null,null,"","",9.9999999999999998E-13,null,null,null,null,"","","",null,null,null,null,"--"]
[null,null,null,null,null,null,null,null,null,{"$f":"IF(AJ106=\"\",\"\",RANK(AL106,$AL$6:$AL$204,0))","v":""},{"$f":"AJ106","v":""},null,null,null,null,null,null,null,null,null,null,null,null,null,null,null,null,null,null,null,null,null,null,null,null,"","",9.9999999999999998E-13,null,null,null,null,"","","",null,null,null,null,"--"]
[null,null,null,null,null,null,null,null,null,{"$f":"IF(AJ107=\"\",\"\",RANK(AL107,$AL$6:$AL$204,0))","v":""},{"$f":"AJ107","v":""},null,null,null,null,null,null,null,null,null,null,null,null,null,null,null,null,null,null,null,null,null,null,null,null,"","",9.9999999999999998E-13,null,null,null,null,"","","",null,null,null,null,"--"]
[null,null,null,null,null,null,null,null,null,{"$f":"IF(AJ108=\"\",\"\",RANK(AL108,$AL$6:$AL$204,0))","v":""},{"$f":"AJ108","v":""},null,null,null,null,null,null,null,null,null,null,null,null,null,null,null,null,null,null,null,null,null,null,null,null,"","",9.9999999999999998E-13,null,null,null,null,"","","",null,null,null,null,"--"]
[null,null,null,null,null,null,null,null,null,{"$f":"IF(AJ109=\"\",\"\",RANK(AL109,$AL$6:$AL$204,0))","v":""},{"$f":"AJ109","v":""},null,null,null,null,null,null,null,null,null,null,null,null,null,null,null,null,null,null,null,null,null,null,null,null,"","",9.9999999999999998E-13,null,null,null,null,"","","",null,null,null,null,"--"]
[null,null,null,null,null,null,null,null,null,{"$f":"IF(AJ110=\"\",\"\",RANK(AL110,$AL$6:$AL$204,0))","v":""},{"$f":"AJ110","v":""},null,null,null,null,null,null,null,null,null,null,null,null,null,null,null,null,null,null,null,null,null,null,null,null,"","",9.9999999999999998E-13,null,null,null,null,"","","",null,null,null,null,"--"]
[null,null,null,null,null,null,null,null,null,{"$f":"IF(AJ111=\"\",\"\",RANK(AL111,$AL$6:$AL$204,0))","v":""},{"$f":"AJ111","v":""},null,null,null,null,null,null,null,null,null,null,null,null,null,null,null,null,null,null,null,null,null,null,null,null,"","",9.9999999999999998E-13,null,null,null,null,"","","",null,null,null,null,"--"]
[null,null,null,null,null,null,null,null,null,{"$f":"IF(AJ112=\"\",\"\",RANK(AL112,$AL$6:$AL$204,0))","v":""},{"$f":"AJ112","v":""},null,null,null,null,null,null,null,null,null,null,null,null,null,null,null,null,null,null,null,null,null,null,null,null,"","",9.9999999999999998E-13,null,null,null,null,"","","",null,null,null,null,"--"]
[null,null,null,null,null,null,null,null,null,{"$f":"IF(AJ113=\"\",\"\",RANK(AL113,$AL$6:$AL$204,0))","v":""},{"$f":"AJ113","v":""},null,null,null,null,null,null,null,null,null,null,null,null,null,null,null,null,null,null,null,null,null,null,null,null,"","",9.9999999999999998E-13,null,null,null,null,"","","",null,null,null,null,"--"]
[null,null,null,null,null,null,null,null,null,{"$f":"IF(AJ114=\"\",\"\",RANK(AL114,$AL$6:$AL$204,0))","v":""},{"$f":"AJ114","v":""},null,null,null,null,null,null,null,null,null,null,null,null,null,null,null,null,null,null,null,null,null,null,null,null,"","",9.9999999999999998E-13,null,null,null,null,"","","",null,null,null,null,"--"]
[null,null,null,null,null,null,null,null,null,{"$f":"IF(AJ115=\"\",\"\",RANK(AL115,$AL$6:$AL$204,0))","v":""},{"$f":"AJ115","v":""},null,null,null,null,null,null,null,null,null,null,null,null,null,null,null,null,null,null,null,null,null,null,null,null,"","",9.9999999999999998E-13,null,null,null,null,"","","",null,null,null,null,"--"]
[null,null,null,null,null,null,null,null,null,{"$f":"IF(AJ116=\"\",\"\",RANK(AL116,$AL$6:$AL$204,0))","v":""},{"$f":"AJ116","v":""},null,null,null,null,null,null,null,null,null,null,null,null,null,null,null,null,null,null,null,null,null,null,null,null,"","",9.9999999999999998E-13,null,null,null,null,"","","",null,null,null,null,"--"]
[null,null,null,null,null,null,null,null,null,{"$f":"IF(AJ117=\"\",\"\",RANK(AL117,$AL$6:$AL$204,0))","v":""},{"$f":"AJ117","v":""},null,null,null,null,null,null,null,null,null,null,null,null,null,null,null,null,null,null,null,null,null,null,null,null,"","",9.9999999999999998E-13,null,null,null,null,"","","",null,null,null,null,"--"]
[null,null,null,null,null,null,null,null,null,{"$f":"IF(AJ118=\"\",\"\",RANK(AL118,$AL$6:$AL$204,0))","v":""},{"$f":"AJ118","v":""},null,null,null,null,null,null,null,null,null,null,null,null,null,null,null,null,null,null,null,null,null,null,null,null,"","",9.9999999999999998E-13,null,null,null,null,"","","",null,null,null,null,"--"]
[null,null,null,null,null,null,null,null,null,{"$f":"IF(AJ119=\"\",\"\",RANK(AL119,$AL$6:$AL$204,0))","v":""},{"$f":"AJ119","v":""},null,null,null,null,null,null,null,null,null,null,null,null,null,null,null,null,null,null,null,null,null,null,null,null,"","",9.9999999999999998E-13,null,null,null,null,"","","",null,null,null,null,"--"]
[null,null,null,null,null,null,null,null,null,{"$f":"IF(AJ120=\"\",\"\",RANK(AL120,$AL$6:$AL$204,0))","v":""},{"$f":"AJ120","v":""},null,null,null,null,null,null,null,null,null,null,null,null,null,null,null,null,null,null,null,null,null,null,null,null,"","",9.9999999999999998E-13,null,null,null,null,"","","",null,null,null,null,"--"]
[null,null,null,null,null,null,null,null,null,{"$f":"IF(AJ121=\"\",\"\",RANK(AL121,$AL$6:$AL$204,0))","v":""},{"$f":"AJ121","v":""},null,null,null,null,null,null,null,null,null,null,null,null,null,null,null,null,null,null,null,null,null,null,null,null,"","",9.9999999999999998E-13,null,null,null,null,"","","",null,null,null,null,"--"]
[null,null,null,null,null,null,null,null,null,{"$f":"IF(AJ122=\"\",\"\",RANK(AL122,$AL$6:$AL$204,0))","v":""},{"$f":"AJ122","v":""},null,null,null,null,null,null,null,null,null,null,null,null,null,null,null,null,null,null,null,null,null,null,null,null,"","",9.9999999999999998E-13,null,null,null,null,"","","",null,null,null,null,"--"]
[null,null,null,null,null,null,null,null,null,{"$f":"IF(AJ123=\"\",\"\",RANK(AL123,$AL$6:$AL$204,0))","v":""},{"$f":"AJ123","v":""},null,null,null,null,null,null,null,null,null,null,null,null,null,null,null,null,null,null,null,null,null,null,null,null,"","",9.9999999999999998E-13,null,null,null,null,"","","",null,null,null,null,"--"]
[null,null,null,null,null,null,null,null,null,{"$f":"IF(AJ124=\"\",\"\",RANK(AL124,$AL$6:$AL$204,0))","v":""},{"$f":"AJ124","v":""},null,null,null,null,null,null,null,null,null,null,null,null,null,null,null,null,null,null,null,null,null,null,null,null,"","",9.9999999999999998E-13,null,null,null,null,"","","",null,null,null,null,"--"]
[null,null,null,null,null,null,null,null,null,{"$f":"IF(AJ125=\"\",\"\",RANK(AL125,$AL$6:$AL$204,0))","v":""},{"$f":"AJ125","v":""},null,null,null,null,null,null,null,null,null,null,null,null,null,null,null,null,null,null,null,null,null,null,null,null,"","",9.9999999999999998E-13,null,null,null,null,"","","",null,null,null,null,"--"]
[null,null,null,null,null,null,null,null,null,{"$f":"IF(AJ126=\"\",\"\",RANK(AL126,$AL$6:$AL$204,0))","v":""},{"$f":"AJ126","v":""},null,null,null,null,null,null,null,null,null,null,null,null,null,null,null,null,null,null,null,null,null,null,null,null,"","",9.9999999999999998E-13,null,null,null,null,"","","",null,null,null,null,"--"]
[null,null,null,null,null,null,null,null,null,{"$f":"IF(AJ127=\"\",\"\",RANK(AL127,$AL$6:$AL$204,0))","v":""},{"$f":"AJ127","v":""},null,null,null,null,null,null,null,null,null,null,null,null,null,null,null,null,null,null,null,null,null,null,null,null,"","",9.9999999999999998E-13,null,null,null,null,"","","",null,null,null,null,"--"]
[null,null,null,null,null,null,null,null,null,{"$f":"IF(AJ128=\"\",\"\",RANK(AL128,$AL$6:$AL$204,0))","v":""},{"$f":"AJ128","v":""},null,null,null,null,null,null,null,null,null,null,null,null,null,null,null,null,null,null,null,null,null,null,null,null,"","",9.9999999999999998E-13,null,null,null,null,"","","",null,null,null,null,"--"]
[null,null,null,null,null,null,null,null,null,{"$f":"IF(AJ129=\"\",\"\",RANK(AL129,$AL$6:$AL$204,0))","v":""},{"$f":"AJ129","v":""},null,null,null,null,null,null,null,null,null,null,null,null,null,null,null,null,null,null,null,null,null,null,null,null,"","",9.9999999999999998E-13,null,null,null,null,"","","",null,null,null,null,"--"]
[null,null,null,null,null,null,null,null,null,{"$f":"IF(AJ130=\"\",\"\",RANK(AL130,$AL$6:$AL$204,0))","v":""},{"$f":"AJ130","v":""},null,null,null,null,null,null,null,null,null,null,null,null,null,null,null,null,null,null,null,null,null,null,null,null,"","",9.9999999999999998E-13,null,null,null,null,"","","",null,null,null,null,"--"]
[null,null,null,null,null,null,null,null,null,{"$f":"IF(AJ131=\"\",\"\",RANK(AL131,$AL$6:$AL$204,0))","v":""},{"$f":"AJ131","v":""},null,null,null,null,null,null,null,null,null,null,null,null,null,null,null,null,null,null,null,null,null,null,null,null,"","",9.9999999999999998E-13,null,null,null,null,"","","",null,null,null,null,"--"]
[null,null,null,null,null,null,null,null,null,{"$f":"IF(AJ132=\"\",\"\",RANK(AL132,$AL$6:$AL$204,0))","v":""},{"$f":"AJ132","v":""},null,null,null,null,null,null,null,null,null,null,null,null,null,null,null,null,null,null,null,null,null,null,null,null,"","",9.9999999999999998E-13,null,null,null,null,"","","",null,null,null,null,"--"]
[null,null,null,null,null,null,null,null,null,{"$f":"IF(AJ133=\"\",\"\",RANK(AL133,$AL$6:$AL$204,0))","v":""},{"$f":"AJ133","v":""},null,null,null,null,null,null,null,null,null,null,null,null,null,null,null,null,null,null,null,null,null,null,null,null,"","",9.9999999999999998E-13,null,null,null,null,"","","",null,null,null,null,"--"]
[null,null,null,null,null,null,null,null,null,{"$f":"IF(AJ134=\"\",\"\",RANK(AL134,$AL$6:$AL$204,0))","v":""},{"$f":"AJ134","v":""},null,null,null,null,null,null,null,null,null,null,null,null,null,null,null,null,null,null,null,null,null,null,null,null,{"$f":"IF(P134=\"\",\"\",IF(L134=\"\",\"\",SUM(P134:R134)))","v":""},"",9.9999999999999998E-13,null,null,null,null,"","","",null,null,null,null,{"$f":"CONCATENATE(L134,\"-\",M134,\"-\",N134)","v":"--"}]
[null,null,null,null,null,null,null,null,null,{"$f":"IF(AJ135=\"\",\"\",RANK(AL135,$AL$6:$AL$204,0))","v":""},{"$f":"AJ135","v":""},null,null,null,null,null,null,null,null,null,null,null,null,null,null,null,null,null,null,null,null,null,null,null,null,"",{"$f":"IFERROR((AJ135*90000000000)+(AQ135*400000000)+(AR135*25000000)+(AS135*2000000)+(Z135*100000+(AA135*1211)+(AB135*110)+(AC135*0.9)),\"\")","v":""},{"$f":"IFERROR(SUBTOTAL(9,AK135,$AK$1),\"\")","v":9.9999999999999998E-13},null,null,null,null,{"$f":"IFERROR(LARGE(P135:R135,1),\"\")","v":""},{"$f":"IFERROR(SMALL(P135:R135,2),\"\")","v":""},{"$f":"IFERROR(SMALL(P135:R135,1),\"\")","v":""},null,null,null,null,"--"]
[null,null,null,null,null,null,null,null,null,{"$f":"IF(AJ136=\"\",\"\",RANK(AL136,$AL$6:$AL$204,0))","v":""},{"$f":"AJ136","v":""},null,null,null,null,null,null,null,null,null,null,null,null,null,null,null,null,null,null,null,null,null,null,null,null,"","",9.9999999999999998E-13,null,null,null,null,"","","",null,null,null,null,"--"]
[null,null,null,null,null,null,null,null,null,{"$f":"IF(AJ137=\"\",\"\",RANK(AL137,$AL$6:$AL$204,0))","v":""},{"$f":"AJ137","v":""},null,null,null,null,null,null,null,null,null,null,null,null,null,null,null,null,null,null,null,null,null,null,null,null,"","",9.9999999999999998E-13,null,null,null,null,"","","",null,null,null,null,"--"]
[null,null,null,null,null,null,null,null,null,{"$f":"IF(AJ138=\"\",\"\",RANK(AL138,$AL$6:$AL$204,0))","v":""},{"$f":"AJ138","v":""},null,null,null,null,null,null,null,null,null,null,null,null,null,null,null,null,null,null,null,null,null,null,null,null,"","",9.9999999999999998E-13,null,null,null,null,"","","",null,null,null,null,"--"]
[null,null,null,null,null,null,null,null,null,{"$f":"IF(AJ139=\"\",\"\",RANK(AL139,$AL$6:$AL$204,0))","v":""},{"$f":"AJ139","v":""},null,null,null,null,null,null,null,null,null,null,null,null,null,null,null,null,null,null,null,null,null,null,null,null,"","",9.9999999999999998E-13,null,null,null,null,"","","",null,null,null,null,"--"]
[null,null,null,null,null,null,null,null,null,{"$f":"IF(AJ140=\"\",\"\",RANK(AL140,$AL$6:$AL$204,0))","v":""},{"$f":"AJ140","v":""},null,null,null,null,null,null,null,null,null,null,null,null,null,null,null,null,null,null,null,null,null,null,null,null,"","",9.9999999999999998E-13,null,null,null,null,"","","",null,null,null,null,"--"]
[null,null,null,null,null,null,null,null,null,{"$f":"IF(AJ141=\"\",\"\",RANK(AL141,$AL$6:$AL$204,0))","v":""},{"$f":"AJ141","v":""},null,null,null,null,null,null,null,null,null,null,null,null,null,null,null,null,null,null,null,null,null,null,null,null,"","",9.9999999999999998E-13,null,null,null,null,"","","",null,null,null,null,"--"]
[null,null,null,null,null,null,null,null,null,{"$f":"IF(AJ142=\"\",\"\",RANK(AL142,$AL$6:$AL$204,0))","v":""},{"$f":"AJ142","v":""},null,null,null,null,null,null,null,null,null,null,null,null,null,null,null,null,null,null,null,null,null,null,null,null,"","",9.9999999999999998E-13,null,null,null,null,"","","",null,null,null,null,"--"]
[null,null,null,null,null,null,null,null,null,{"$f":"IF(AJ143=\"\",\"\",RANK(AL143,$AL$6:$AL$204,0))","v":""},{"$f":"AJ143","v":""},null,null,null,null,null,null,null,null,null,null,null,null,null,null,null,null,null,null,null,null,null,null,null,null,"","",9.9999999999999998E-13,null,null,null,null,"","","",null,null,null,null,"--"]
[null,null,null,null,null,null,null,null,null,{"$f":"IF(AJ144=\"\",\"\",RANK(AL144,$AL$6:$AL$204,0))","v":""},{"$f":"AJ144","v":""},null,null,null,null,null,null,null,null,null,null,null,null,null,null,null,null,null,null,null,null,null,null,null,null,"","",9.9999999999999998E-13,null,null,null,null,"","","",null,null,null,null,"--"]
[null,null,null,null,null,null,null,null,null,{"$f":"IF(AJ145=\"\",\"\",RANK(AL145,$AL$6:$AL$204,0))","v":""},{"$f":"AJ145","v":""},null,null,null,null,null,null,null,null,null,null,null,null,null,null,null,null,null,null,null,null,null,null,null,null,"","",9.9999999999999998E-13,null,null,null,null,"","","",null,null,null,null,"--"]
[null,null,null,null,null,null,null,null,null,{"$f":"IF(AJ146=\"\",\"\",RANK(AL146,$AL$6:$AL$204,0))","v":""},{"$f":"AJ146","v":""},null,null,null,null,null,null,null,null,null,null,null,null,null,null,null,null,null,null,null,null,null,null,null,null,"","",9.9999999999999998E-13,null,null,null,null,"","","",null,null,null,null,"--"]
[null,null,null,null,null,null,null,null,null,{"$f":"IF(AJ147=\"\",\"\",RANK(AL147,$AL$6:$AL$204,0))","v":""},{"$f":"AJ147","v":""},null,null,null,null,null,null,null,null,null,null,null,null,null,null,null,null,null,null,null,null,null,null,null,null,"","",9.9999999999999998E-13,null,null,null,null,"","","",null,null,null,null,"--"]
[null,null,null,null,null,null,null,null,null,{"$f":"IF(AJ148=\"\",\"\",RANK(AL148,$AL$6:$AL$204,0))","v":""},{"$f":"AJ148","v":""},null,null,null,null,null,null,null,null,null,null,null,null,null,null,null,null,null,null,null,null,null,null,null,null,"","",9.9999999999999998E-13,null,null,null,null,"","","",null,null,null,null,"--"]
[null,null,null,null,null,null,null,null,null,{"$f":"IF(AJ149=\"\",\"\",RANK(AL149,$AL$6:$AL$204,0))","v":""},{"$f":"AJ149","v":""},null,null,null,null,null,null,null,null,null,null,null,null,null,null,null,null,null,null,null,null,null,null,null,null,"","",9.9999999999999998E-13,null,null,null,null,"","","",null,null,null,null,"--"]
[null,null,null,null,null,null,null,null,null,{"$f":"IF(AJ150=\"\",\"\",RANK(AL150,$AL$6:$AL$204,0))","v":""},{"$f":"AJ150","v":""},null,null,null,null,null,null,null,null,null,null,null,null,null,null,null,null,null,null,null,null,null,null,null,null,"","",9.9999999999999998E-13,null,null,null,null,"","","",null,null,null,null,"--"]
[null,null,null,null,null,null,null,null,null,{"$f":"IF(AJ151=\"\",\"\",RANK(AL151,$AL$6:$AL$204,0))","v":""},{"$f":"AJ151","v":""},null,null,null,null,null,null,null,null,null,null,null,null,null,null,null,null,null,null,null,null,null,null,null,null,"","",9.9999999999999998E-13,null,null,null,null,"","","",null,null,null,null,"--"]
[null,null,null,null,null,null,null,null,null,{"$f":"IF(AJ152=\"\",\"\",RANK(AL152,$AL$6:$AL$204,0))","v":""},{"$f":"AJ152","v":""},null,null,null,null,null,null,null,null,null,null,null,null,null,null,null,null,null,null,null,null,null,null,null,null,"","",9.9999999999999998E-13,null,null,null,null,"","","",null,null,null,null,"--"]
[null,null,null,null,null,null,null,null,null,{"$f":"IF(AJ153=\"\",\"\",RANK(AL153,$AL$6:$AL$204,0))","v":""},{"$f":"AJ153","v":""},null,null,null,null,null,null,null,null,null,null,null,null,null,null,null,null,null,null,null,null,null,null,null,null,"","",9.9999999999999998E-13,null,null,null,null,"","","",null,null,null,null,"--"]
[null,null,null,null,null,null,null,null,null,{"$f":"IF(AJ154=\"\",\"\",RANK(AL154,$AL$6:$AL$204,0))","v":""},{"$f":"AJ154","v":""},null,null,null,null,null,null,null,null,null,null,null,null,null,null,null,null,null,null,null,null,null,null,null,null,"","",9.9999999999999998E-13,null,null,null,null,"","","",null,null,null,null,"--"]
[null,null,null,null,null,null,null,null,null,{"$f":"IF(AJ155=\"\",\"\",RANK(AL155,$AL$6:$AL$204,0))","v":""},{"$f":"AJ155","v":""},null,null,null,null,null,null,null,null,null,null,null,null,null,null,null,null,null,null,null,null,null,null,null,null,"","",9.9999999999999998E-13,null,null,null,null,"","","",null,null,null,null,"--"]
[null,null,null,null,null,null,null,null,null,{"$f":"IF(AJ156=\"\",\"\",RANK(AL156,$AL$6:$AL$204,0))","v":""},{"$f":"AJ156","v":""},null,null,null,null,null,null,null,null,null,null,null,null,null,null,null,null,null,null,null,null,null,null,null,null,"","",9.9999999999999998E-13,null,null,null,null,"","","",null,null,null,null,"--"]
[null,null,null,null,null,null,null,null,null,{"$f":"IF(AJ157=\"\",\"\",RANK(AL157,$AL$6:$AL$204,0))","v":""},{"$f":"AJ157","v":""},null,null,null,null,null,null,null,null,null,null,null,null,null,null,null,null,null,null,null,null,null,null,null,null,"","",9.9999999999999998E-13,null,null,null,null,"","","",null,null,null,null,"--"]
[null,null,null,null,null,null,null,null,null,{"$f":"IF(AJ158=\"\",\"\",RANK(AL158,$AL$6:$AL$204,0))","v":""},{"$f":"AJ158","v":""},null,null,null,null,null,null,null,null,null,null,null,null,null,null,null,null,null,null,null,null,null,null,null,null,"","",9.9999999999999998E-13,null,null,null,null,"","","",null,null,null,null,"--"]
[null,null,null,null,null,null,null,null,null,{"$f":"IF(AJ159=\"\",\"\",RANK(AL159,$AL$6:$AL$204,0))","v":""},{"$f":"AJ159","v":""},null,null,null,null,null,null,null,null,null,null,null,null,null,null,null,null,null,null,null,null,null,null,null,null,"","",9.9999999999999998E-13,null,null,null,null,"","","",null,null,null,null,"--"]
[null,null,null,null,null,null,null,null,null,{"$f":"IF(AJ160=\"\",\"\",RANK(AL160,$AL$6:$AL$204,0))","v":""},{"$f":"AJ160","v":""},null,null,null,null,null,null,null,null,null,null,null,null,null,null,null,null,null,null,null,null,null,null,null,null,"","",9.9999999999999998E-13,null,null,null,null,"","","",null,null,null,null,"--"]
[null,null,null,null,null,null,null,null,null,{"$f":"IF(AJ161=\"\",\"\",RANK(AL161,$AL$6:$AL$204,0))","v":""},{"$f":"AJ161","v":""},null,null,null,null,null,null,null,null,null,null,null,null,null,null,null,null,null,null,null,null,null,null,null,null,"","",9.9999999999999998E-13,null,null,null,null,"","","",null,null,null,null,"--"]
[null,null,null,null,null,null,null,null,null,{"$f":"IF(AJ162=\"\",\"\",RANK(AL162,$AL$6:$AL$204,0))","v":""},{"$f":"AJ162","v":""},null,null,null,null,null,null,null,null,null,null,null,null,null,null,null,null,null,null,null,null,null,null,null,null,"","",9.9999999999999998E-13,null,null,null,null,"","","",null,null,null,null,"--"]
[null,null,null,null,null,null,null,null,null,{"$f":"IF(AJ163=\"\",\"\",RANK(AL163,$AL$6:$AL$204,0))","v":""},{"$f":"AJ163","v":""},null,null,null,null,null,null,null,null,null,null,null,null,null,null,null,null,null,null,null,null,null,null,null,null,"","",9.9999999999999998E-13,null,null,null,null,"","","",null,null,null,null,"--"]
[null,null,null,null,null,null,null,null,null,{"$f":"IF(AJ164=\"\",\"\",RANK(AL164,$AL$6:$AL$204,0))","v":""},{"$f":"AJ164","v":""},null,null,null,null,null,null,null,null,null,null,null,null,null,null,null,null,null,null,null,null,null,null,null,null,"","",9.9999999999999998E-13,null,null,null,null,"","","",null,null,null,null,"--"]
[null,null,null,null,null,null,null,null,null,{"$f":"IF(AJ165=\"\",\"\",RANK(AL165,$AL$6:$AL$204,0))","v":""},{"$f":"AJ165","v":""},null,null,null,null,null,null,null,null,null,null,null,null,null,null,null,null,null,null,null,null,null,null,null,null,"","",9.9999999999999998E-13,null,null,null,null,"","","",null,null,null,null,"--"]
[null,null,null,null,null,null,null,null,null,{"$f":"IF(AJ166=\"\",\"\",RANK(AL166,$AL$6:$AL$204,0))","v":""},{"$f":"AJ166","v":""},null,null,null,null,null,null,null,null,null,null,null,null,null,null,null,null,null,null,null,null,null,null,null,null,{"$f":"IF(P166=\"\",\"\",IF(L166=\"\",\"\",SUM(P166:R166)))","v":""},"",9.9999999999999998E-13,null,null,null,null,"","","",null,null,null,null,{"$f":"CONCATENATE(L166,\"-\",M166,\"-\",N166)","v":"--"}]
[null,null,null,null,null,null,null,null,null,{"$f":"IF(AJ167=\"\",\"\",RANK(AL167,$AL$6:$AL$204,0))","v":""},{"$f":"AJ167","v":""},null,null,null,null,null,null,null,null,null,null,null,null,null,null,null,null,null,null,null,null,null,null,null,null,"","",9.9999999999999998E-13,null,null,null,null,"","","",null,null,null,null,"--"]
[null,null,null,null,null,null,null,null,null,{"$f":"IF(AJ168=\"\",\"\",RANK(AL168,$AL$6:$AL$204,0))","v":""},{"$f":"AJ168","v":""},null,null,null,null,null,null,null,null,null,null,null,null,null,null,null,null,null,null,null,null,null,null,null,null,"","",9.9999999999999998E-13,null,null,null,null,"","","",null,null,null,null,"--"]
[null,null,null,null,null,null,null,null,null,{"$f":"IF(AJ169=\"\",\"\",RANK(AL169,$AL$6:$AL$204,0))","v":""},{"$f":"AJ169","v":""},null,null,null,null,null,null,null,null,null,null,null,null,null,null,null,null,null,null,null,null,null,null,null,null,"","",9.9999999999999998E-13,null,null,null,null,"","","",null,null,null,null,"--"]
[null,null,null,null,null,null,null,null,null,{"$f":"IF(AJ170=\"\",\"\",RANK(AL170,$AL$6:$AL$204,0))","v":""},{"$f":"AJ170","v":""},null,null,null,null,null,null,null,null,null,null,null,null,null,null,null,null,null,null,null,null,null,null,null,null,"","",9.9999999999999998E-13,null,null,null,null,"","","",null,null,null,null,"--"]
[null,null,null,null,null,null,null,null,null,{"$f":"IF(AJ171=\"\",\"\",RANK(AL171,$AL$6:$AL$204,0))","v":""},{"$f":"AJ171","v":""},null,null,null,null,null,null,null,null,null,null,null,null,null,null,null,null,null,null,null,null,null,null,null,null,"","",9.9999999999999998E-13,null,null,null,null,"","","",null,null,null,null,"--"]
[null,null,null,null,null,null,null,null,null,{"$f":"IF(AJ172=\"\",\"\",RANK(AL172,$AL$6:$AL$204,0))","v":""},{"$f":"AJ172","v":""},null,null,null,null,null,null,null,null,null,null,null,null,null,null,null,null,null,null,null,null,null,null,null,null,"","",9.9999999999999998E-13,null,null,null,null,"","","",null,null,null,null,"--"]
[null,null,null,null,null,null,null,null,null,{"$f":"IF(AJ173=\"\",\"\",RANK(AL173,$AL$6:$AL$204,0))","v":""},{"$f":"AJ173","v":""},null,null,null,null,null,null,null,null,null,null,null,null,null,null,null,null,null,null,null,null,null,null,null,null,"","",9.9999999999999998E-13,null,null,null,null,"","","",null,null,null,null,"--"]
[null,null,null,null,null,null,null,null,null,{"$f":"IF(AJ174=\"\",\"\",RANK(AL174,$AL$6:$AL$204,0))","v":""},{"$f":"AJ174","v":""},null,null,null,null,null,null,null,null,null,null,null,null,null,null,null,null,null,null,null,null,null,null,null,null,"","",9.9999999999999998E-13,null,null,null,null,"","","",null,null,null,null,"--"]
[null,null,null,null,null,null,null,null,null,{"$f":"IF(AJ175=\"\",\"\",RANK(AL175,$AL$6:$AL$204,0))","v":""},{"$f":"AJ175","v":""},null,null,null,null,null,null,null,null,null,null,null,null,null,null,null,null,null,null,null,null,null,null,null,null,"","",9.9999999999999998E-13,null,null,null,null,"","","",null,null,null,null,"--"]
[null,null,null,null,null,null,null,null,null,{"$f":"IF(AJ176=\"\",\"\",RANK(AL176,$AL$6:$AL$204,0))","v":""},{"$f":"AJ176","v":""},null,null,null,null,null,null,null,null,null,null,null,null,null,null,null,null,null,null,null,null,null,null,null,null,"","",9.9999999999999998E-13,null,null,null,null,"","","",null,null,null,null,"--"]
[null,null,null,null,null,null,null,null,null,{"$f":"IF(AJ177=\"\",\"\",RANK(AL177,$AL$6:$AL$204,0))","v":""},{"$f":"AJ177","v":""},null,null,null,null,null,null,null,null,null,null,null,null,null,null,null,null,null,null,null,null,null,null,null,null,"","",9.9999999999999998E-13,null,null,null,null,"","","",null,null,null,null,"--"]
[null,null,null,null,null,null,null,null,null,{"$f":"IF(AJ178=\"\",\"\",RANK(AL178,$AL$6:$AL$204,0))","v":""},{"$f":"AJ178","v":""},null,null,null,null,null,null,null,null,null,null,null,null,null,null,null,null,null,null,null,null,null,null,null,null,"","",9.9999999999999998E-13,null,null,null,null,"","","",null,null,null,null,"--"]
[null,null,null,null,null,null,null,null,null,{"$f":"IF(AJ179=\"\",\"\",RANK(AL179,$AL$6:$AL$204,0))","v":""},{"$f":"AJ179","v":""},null,null,null,null,null,null,null,null,null,null,null,null,null,null,null,null,null,null,null,null,null,null,null,null,"","",9.9999999999999998E-13,null,null,null,null,"","","",null,null,null,null,"--"]
[null,null,null,null,null,null,null,null,null,{"$f":"IF(AJ180=\"\",\"\",RANK(AL180,$AL$6:$AL$204,0))","v":""},{"$f":"AJ180","v":""},null,null,null,null,null,null,null,null,null,null,null,null,null,null,null,null,null,null,null,null,null,null,null,null,"","",9.9999999999999998E-13,null,null,null,null,"","","",null,null,null,null,"--"]
[null,null,null,null,null,null,null,null,null,{"$f":"IF(AJ181=\"\",\"\",RANK(AL181,$AL$6:$AL$204,0))","v":""},{"$f":"AJ181","v":""},null,null,null,null,null,null,null,null,null,null,null,null,null,null,null,null,null,null,null,null,null,null,null,null,"","",9.9999999999999998E-13,null,null,null,null,"","","",null,null,null,null,"--"]
[null,null,null,null,null,null,null,null,null,{"$f":"IF(AJ182=\"\",\"\",RANK(AL182,$AL$6:$AL$204,0))","v":""},{"$f":"AJ182","v":""},null,null,null,null,null,null,null,null,null,null,null,null,null,null,null,null,null,null,null,null,null,null,null,null,"","",9.9999999999999998E-13,null,null,null,null,"","","",null,null,null,null,"--"]
[null,null,null,null,null,null,null,null,null,{"$f":"IF(AJ183=\"\",\"\",RANK(AL183,$AL$6:$AL$204,0))","v":""},{"$f":"AJ183","v":""},null,null,null,null,null,null,null,null,null,null,null,null,null,null,null,null,null,null,null,null,null,null,null,null,"","",9.9999999999999998E-13,null,null,null,null,"","","",null,null,null,null,"--"]
[null,null,null,null,null,null,null,null,null,{"$f":"IF(AJ184=\"\",\"\",RANK(AL184,$AL$6:$AL$204,0))","v":""},{"$f":"AJ184","v":""},null,null,null,null,null,null,null,null,null,null,null,null,null,null,null,null,null,null,null,null,null,null,null,null,"","",9.9999999999999998E-13,null,null,null,null,"","","",null,null,null,null,"--"]
[null,null,null,null,null,null,null,null,null,{"$f":"IF(AJ185=\"\",\"\",RANK(AL185,$AL$6:$AL$204,0))","v":""},{"$f":"AJ185","v":""},null,null,null,null,null,null,null,null,null,null,null,null,null,null,null,null,null,null,null,null,null,null,null,null,"","",9.9999999999999998E-13,null,null,null,null,"","","",null,null,null,null,"--"]
[null,null,null,null,null,null,null,null,null,{"$f":"IF(AJ186=\"\",\"\",RANK(AL186,$AL$6:$AL$204,0))","v":""},{"$f":"AJ186","v":""},null,null,null,null,null,null,null,null,null,null,null,null,null,null,null,null,null,null,null,null,null,null,null,null,"","",9.9999999999999998E-13,null,null,null,null,"","","",null,null,null,null,"--"]
[null,null,null,null,null,null,null,null,null,{"$f":"IF(AJ187=\"\",\"\",RANK(AL187,$AL$6:$AL$204,0))","v":""},{"$f":"AJ187","v":""},null,null,null,null,null,null,null,null,null,null,null,null,null,null,null,null,null,null,null,null,null,null,null,null,"","",9.9999999999999998E-13,null,null,null,null,"","","",null,null,null,null,"--"]
[null,null,null,null,null,null,null,null,null,{"$f":"IF(AJ188=\"\",\"\",RANK(AL188,$AL$6:$AL$204,0))","v":""},{"$f":"AJ188","v":""},null,null,null,null,null,null,null,null,null,null,null,null,null,null,null,null,null,null,null,null,null,null,null,null,"","",9.9999999999999998E-13,null,null,null,null,"","","",null,null,null,null,"--"]
[null,null,null,null,null,null,null,null,null,{"$f":"IF(AJ189=\"\",\"\",RANK(AL189,$AL$6:$AL$204,0))","v":""},{"$f":"AJ189","v":""},null,null,null,null,null,null,null,null,null,null,null,null,null,null,null,null,null,null,null,null,null,null,null,null,"","",9.9999999999999998E-13,null,null,null,null,"","","",null,null,null,null,"--"]
[null,null,null,null,null,null,null,null,null,{"$f":"IF(AJ190=\"\",\"\",RANK(AL190,$AL$6:$AL$204,0))","v":""},{"$f":"AJ190","v":""},null,null,null,null,null,null,null,null,null,null,null,null,null,null,null,null,null,null,null,null,null,null,null,null,"","",9.9999999999999998E-13,null,null,null,null,"","","",null,null,null,null,"--"]
[null,null,null,null,null,null,null,null,null,{"$f":"IF(AJ191=\"\",\"\",RANK(AL191,$AL$6:$AL$204,0))","v":""},{"$f":"AJ191","v":""},null,null,null,null,null,null,null,null,null,null,null,null,null,null,null,null,null,null,null,null,null,null,null,null,"","",9.9999999999999998E-13,null,null,null,null,"","","",null,null,null,null,"--"]
[null,null,null,null,null,null,null,null,null,{"$f":"IF(AJ192=\"\",\"\",RANK(AL192,$AL$6:$AL$204,0))","v":""},{"$f":"AJ192","v":""},null,null,null,null,null,null,null,null,null,null,null,null,null,null,null,null,null,null,null,null,null,null,null,null,"","",9.9999999999999998E-13,null,null,null,null,"","","",null,null,null,null,"--"]
[null,null,null,null,null,null,null,null,null,{"$f":"IF(AJ193=\"\",\"\",RANK(AL193,$AL$6:$AL$204,0))","v":""},{"$f":"AJ193","v":""},null,null,null,null,null,null,null,null,null,null,null,null,null,null,null,null,null,null,null,null,null,null,null,null,"","",9.9999999999999998E-13,null,null,null,null,"","","",null,null,null,null,"--"]
[null,null,null,null,null,null,null,null,null,{"$f":"IF(AJ194=\"\",\"\",RANK(AL194,$AL$6:$AL$204,0))","v":""},{"$f":"AJ194","v":""},null,null,null,null,null,null,null,null,null,null,null,null,null,null,null,null,null,null,null,null,null,null,null,null,"","",9.9999999999999998E-13,null,null,null,null,"","","",null,null,null,null,"--"]
[null,null,null,null,null,null,null,null,null,{"$f":"IF(AJ195=\"\",\"\",RANK(AL195,$AL$6:$AL$204,0))","v":""},{"$f":"AJ195","v":""},null,null,null,null,null,null,null,null,null,null,null,null,null,null,null,null,null,null,null,null,null,null,null,null,"","",9.9999999999999998E-13,null,null,null,null,"","","",null,null,null,null,"--"]
[null,null,null,null,null,null,null,null,null,{"$f":"IF(AJ196=\"\",\"\",RANK(AL196,$AL$6:$AL$204,0))","v":""},{"$f":"AJ196","v":""},null,null,null,null,null,null,null,null,null,null,null,null,null,null,null,null,null,null,null,null,null,null,null,null,"","",9.9999999999999998E-13,null,null,null,null,"","","",null,null,null,null,"--"]
[null,null,null,null,null,null,null,null,null,{"$f":"IF(AJ197=\"\",\"\",RANK(AL197,$AL$6:$AL$204,0))","v":""},{"$f":"AJ197","v":""},null,null,null,null,null,null,null,null,null,null,null,null,null,null,null,null,null,null,null,null,null,null,null,null,"","",9.9999999999999998E-13,null,null,null,null,"","","",null,null,null,null,"--"]
[null,null,null,null,null,null,null,null,null,{"$f":"IF(AJ198=\"\",\"\",RANK(AL198,$AL$6:$AL$204,0))","v":""},{"$f":"AJ198","v":""},null,null,null,null,null,null,null,null,null,null,null,null,null,null,null,null,null,null,null,null,null,null,null,null,{"$f":"IF(P198=\"\",\"\",IF(L198=\"\",\"\",SUM(P198:R198)))","v":""},"",9.9999999999999998E-13,null,null,null,null,"","","",null,null,null,null,{"$f":"CONCATENATE(L198,\"-\",M198,\"-\",N198)","v":"--"}]
[null,null,null,null,null,null,null,null,null,{"$f":"IF(AJ199=\"\",\"\",RANK(AL199,$AL$6:$AL$204,0))","v":""},{"$f":"AJ199","v":""},null,null,null,null,null,null,null,null,null,null,null,null,null,null,null,null,null,null,null,null,null,null,null,null,"",{"$f":"IFERROR((AJ199*90000000000)+(AQ199*400000000)+(AR199*25000000)+(AS199*2000000)+(Z199*100000+(AA199*1211)+(AB199*110)+(AC199*0.9)),\"\")","v":""},{"$f":"IFERROR(SUBTOTAL(9,AK199,$AK$1),\"\")","v":9.9999999999999998E-13},null,null,null,null,{"$f":"IFERROR(LARGE(P199:R199,1),\"\")","v":""},{"$f":"IFERROR(SMALL(P199:R199,2),\"\")","v":""},{"$f":"IFERROR(SMALL(P199:R199,1),\"\")","v":""},null,null,null,null,"--"]
[null,null,null,null,null,null,null,null,null,{"$f":"IF(AJ200=\"\",\"\",RANK(AL200,$AL$6:$AL$204,0))","v":""},{"$f":"AJ200","v":""},null,null,null,null,null,null,null,null,null,null,null,null,null,null,null,null,null,null,null,null,null,null,null,null,"","",9.9999999999999998E-13,null,null,null,null,"","","",null,null,null,null,"--"]
[null,null,null,null,null,null,null,null,null,{"$f":"IF(AJ201=\"\",\"\",RANK(AL201,$AL$6:$AL$204,0))","v":""},{"$f":"AJ201","v":""},null,null,null,null,null,null,null,null,null,null,null,null,null,null,null,null,null,null,null,null,null,null,null,null,"","",9.9999999999999998E-13,null,null,null,null,"","","",null,null,null,null,"--"]
[null,null,null,null,null,null,null,null,null,{"$f":"IF(AJ202=\"\",\"\",RANK(AL202,$AL$6:$AL$204,0))","v":""},{"$f":"AJ202","v":""},null,null,null,null,null,null,null,null,null,null,null,null,null,null,null,null,null,null,null,null,null,null,null,null,"","",9.9999999999999998E-13,null,null,null,null,"","","",null,null,null,null,"--"]
[null,null,null,null,null,null,null,null,null,{"$f":"IF(AJ203=\"\",\"\",RANK(AL203,$AL$6:$AL$204,0))","v":""},{"$f":"AJ203","v":""},null,null,null,null,null,null,null,null,null,null,null,null,null,null,null,null,null,null,null,null,null,null,null,null,"","",9.9999999999999998E-13,null,null,null,null,"","","",null,null,null,null,"--"]
[null,null,null,null,null,null,null,null,null,{"$f":"IF(AJ204=\"\",\"\",RANK(AL204,$AL$6:$AL$204,0))","v":""},{"$f":"AJ204","v":""},null,null,null,null,null,null,null,null,null,null,null,null,null,null,null,null,null,null,null,null,null,null,null,null,"","",9.9999999999999998E-13,null,null,null,null,"","","",null,null,null,null,"--"]
[null,null,null,null,null,null,null,null,null,null,null,null,null,null,null,null,null,null,null,null,null,null,null,null,null,null,null,null,null,null,null,null,null,null,null,null,{"$f":"IF(AJ205=\"\",\"\",(#REF!*90000000000)+(AJ205*400000000)+(Z205*25000000)+(AA205*2000000)+(AE205*100000))","v":""}]

{"sheet":"GefilterteRangliste","index":1,"n_rows":102,"n_cols":15,"rows_kept":102,"cut":false,"hidden":false,"merged":[[0,0,0,14],[1,9,1,13]]}
[{"$f":"CONCATENATE(Schießkladde!A1,\" \",Schießkladde!A2)","v":"König der Könige 2024 in Hassel"}]
["Rang",null,"Name","Vorname","Verein","Funktion",1,2,3,"Stechen",null,null,null,null,"Ges."]
["","",null,null,null,null,null,null,null,null,null,null,null,""]
["","",null,null,null,null,null,null,null,null,null,null,null,""]
["","",null,null,null,null,null,null,null,null,null,null,null,""]
["","",null,null,null,null,null,null,null,null,null,null,null,""]
["","",null,null,null,null,null,null,null,null,null,null,null,""]
["","",null,null,null,null,null,null,null,null,null,null,null,""]
["","",null,null,null,null,null,null,null,null,null,null,null,""]
["","",null,null,null,null,null,null,null,null,null,null,null,""]
["","",null,null,null,null,null,null,null,null,null,null,null,""]
["","",null,null,null,null,null,null,null,null,null,null,null,""]
["","",null,null,null,null,null,null,null,null,null,null,null,""]
["","",null,null,null,null,null,null,null,null,null,null,null,""]
["","",null,null,null,null,null,null,null,null,null,null,null,""]
["","",null,null,null,null,null,null,null,null,null,null,null,""]
["","",null,null,null,null,null,null,null,null,null,null,null,""]
["","",null,null,null,null,null,null,null,null,null,null,null,""]
["","",null,null,null,null,null,null,null,null,null,null,null,""]
["","",null,null,null,null,null,null,null,null,null,null,null,""]
["","",null,null,null,null,null,null,null,null,null,null,null,""]
["","",null,null,null,null,null,null,null,null,null,null,null,""]
["","",null,null,null,null,null,null,null,null,null,null,null,""]
["","",null,null,null,null,null,null,null,null,null,null,null,""]
["","",null,null,null,null,null,null,null,null,null,null,null,""]
["","",null,null,null,null,null,null,null,null,null,null,null,""]
["","",null,null,null,null,null,null,null,null,null,null,null,""]
["","",null,null,null,null,null,null,null,null,null,null,null,""]
["","",null,null,null,null,null,null,null,null,null,null,null,""]
["","",null,null,null,null,null,null,null,null,null,null,null,""]
["","",null,null,null,null,null,null,null,null,null,null,null,""]
["","",null,null,null,null,null,null,null,null,null,null,null,""]
["","",null,null,null,null,null,null,null,null,null,null,null,""]
["","",null,null,null,null,null,null,null,null,null,null,null,""]
["","",null,null,null,null,null,null,null,null,null,null,null,""]
["","",null,null,null,null,null,null,null,null,null,null,null,""]
["","",null,null,null,null,null,null,null,null,null,null,null,""]
["","",null,null,null,null,null,null,null,null,null,null,null,""]
["","",null,null,null,null,null,null,null,null,null,null,null,""]
["","",null,null,null,null,null,null,null,null,null,null,null,""]
["","",null,null,null,null,null,null,null,null,null,null,null,""]
["","",null,null,null,null,null,null,null,null,null,null,null,""]
["","",null,null,null,null,null,null,null,null,null,null,null,""]
["","",null,null,null,null,null,null,null,null,null,null,null,""]
["","",null,null,null,null,null,null,null,null,null,null,null,""]
["","",null,null,null,null,null,null,null,null,null,null,null,""]
["","",null,null,null,null,null,null,null,null,null,null,null,""]
["","",null,null,null,null,null,null,null,null,null,null,null,""]
["","",null,null,null,null,null,null,null,null,null,null,null,""]
["","",null,null,null,null,null,null,null,null,null,null,null,""]
["","",null,null,null,null,null,null,null,null,null,null,null,""]
["","",null,null,null,null,null,null,null,null,null,null,null,""]
["","",null,null,null,null,null,null,null,null,null,null,null,""]
["","",null,null,null,null,null,null,null,null,null,null,null,""]
["","",null,null,null,null,null,null,null,null,null,null,null,""]
["","",null,null,null,null,null,null,null,null,null,null,null,""]
["","",null,null,null,null,null,null,null,null,null,null,null,""]
["","",null,null,null,null,null,null,null,null,null,null,null,""]
["","",null,null,null,null,null,null,null,null,null,null,null,""]
["","",null,null,null,null,null,null,null,null,null,null,null,""]
["","",null,null,null,null,null,null,null,null,null,null,null,""]
["","",null,null,null,null,null,null,null,null,null,null,null,""]
["","",null,null,null,null,null,null,null,null,null,null,null,""]
["","",null,null,null,null,null,null,null,null,null,null,null,""]
["","",null,null,null,null,null,null,null,null,null,null,null,""]
["","",null,null,null,null,null,null,null,null,null,null,null,""]
["","",null,null,null,null,null,null,null,null,null,null,null,""]
["","",null,null,null,null,null,null,null,null,null,null,null,""]
["","",null,null,null,null,null,null,null,null,null,null,null,""]
["","",null,null,null,null,null,null,null,null,null,null,null,""]
["","",null,null,null,null,null,null,null,null,null,null,null,""]
["","",null,null,null,null,null,null,null,null,null,null,null,""]
["","",null,null,null,null,null,null,null,null,null,null,null,""]
["","",null,null,null,null,null,null,null,null,null,null,null,""]
["","",null,null,null,null,null,null,null,null,null,null,null,""]
["","",null,null,null,null,null,null,null,null,null,null,null,""]
["","",null,null,null,null,null,null,null,null,null,null,null,""]
["","",null,null,null,null,null,null,null,null,null,null,null,""]
["","",null,null,null,null,null,null,null,null,null,null,null,""]
["","",null,null,null,null,null,null,null,null,null,null,null,""]
["","",null,null,null,null,null,null,null,null,null,null,null,""]
["","",null,null,null,null,null,null,null,null,null,null,null,""]
["","",null,null,null,null,null,null,null,null,null,null,null,""]
["","",null,null,null,null,null,null,null,null,null,null,null,""]
["","",null,null,null,null,null,null,null,null,null,null,null,""]
["","",null,null,null,null,null,null,null,null,null,null,null,""]
["","",null,null,null,null,null,null,null,null,null,null,null,""]
["","",null,null,null,null,null,null,null,null,null,null,null,""]
["","",null,null,null,null,null,null,null,null,null,null,null,""]
["","",null,null,null,null,null,null,null,null,null,null,null,""]
["","",null,null,null,null,null,null,null,null,null,null,null,""]
["","",null,null,null,null,null,null,null,null,null,null,null,""]
["","",null,null,null,null,null,null,null,null,null,null,null,""]
["","",null,null,null,null,null,null,null,null,null,null,null,""]
["","",null,null,null,null,null,null,null,null,null,null,null,""]
["","",null,null,null,null,null,null,null,null,null,null,null,""]
["","",null,null,null,null,null,null,null,null,null,null,null,""]
["","",null,null,null,null,null,null,null,null,null,null,null,""]
["","",null,null,null,null,null,null,null,null,null,null,null,""]
["","",null,null,null,null,null,null,null,null,null,null,null,""]
["","",null,null,null,null,null,null,null,null,null,null,null,""]
["","",null,null,null,null,null,null,null,null,null,null,null,""]

{"sheet":"Drucken","index":2,"n_rows":203,"n_cols":19,"rows_kept":203,"cut":false,"hidden":true,"merged":[]}
[null,null,null,null,null,null,"Auswählen  Scheiben Einzelschützen"]
[{"$f":"CONCATENATE(B2,\" \", C2,\" \",D2)","v":"  "},{"$f":"IF(Schießkladde!L44=\"\",\"\",Schießkladde!L44)","v":""},{"$f":"IF(Schießkladde!M44=\"\",\"\",Schießkladde!M44)","v":""},{"$f":"IF(Schießkladde!N44=\"\",\"\",Schießkladde!N44)","v":""},{"$f":"IF(Schießkladde!O44=\"\",\"\",Schießkladde!O44)","v":""},null,"  "]
[{"$f":"CONCATENATE(B3,\" \", C3,\" \",D3)","v":"  "},{"$f":"IF(Schießkladde!L28=\"\",\"\",Schießkladde!L28)","v":""},{"$f":"IF(Schießkladde!M28=\"\",\"\",Schießkladde!M28)","v":""},{"$f":"IF(Schießkladde!N28=\"\",\"\",Schießkladde!N28)","v":""},{"$f":"IF(Schießkladde!O28=\"\",\"\",Schießkladde!O28)","v":""}]
[{"$f":"CONCATENATE(B4,\" \", C4,\" \",D4)","v":"  "},{"$f":"IF(Schießkladde!L42=\"\",\"\",Schießkladde!L42)","v":""},{"$f":"IF(Schießkladde!M42=\"\",\"\",Schießkladde!M42)","v":""},{"$f":"IF(Schießkladde!N42=\"\",\"\",Schießkladde!N42)","v":""},{"$f":"IF(Schießkladde!O42=\"\",\"\",Schießkladde!O42)","v":""},null,"Mannschaft auswählen"]
[{"$f":"CONCATENATE(B5,\" \", C5,\" \",D5)","v":"  "},{"$f":"IF(Schießkladde!L21=\"\",\"\",Schießkladde!L21)","v":""},{"$f":"IF(Schießkladde!M21=\"\",\"\",Schießkladde!M21)","v":""},{"$f":"IF(Schießkladde!N21=\"\",\"\",Schießkladde!N21)","v":""},{"$f":"IF(Schießkladde!O21=\"\",\"\",Schießkladde!O21)","v":""},null,"SV Becklingen"]
[{"$f":"CONCATENATE(B6,\" \", C6,\" \",D6)","v":"  "},{"$f":"IF(Schießkladde!L21=\"\",\"\",Schießkladde!L21)","v":""},{"$f":"IF(Schießkladde!M21=\"\",\"\",Schießkladde!M21)","v":""},{"$f":"IF(Schießkladde!N21=\"\",\"\",Schießkladde!N21)","v":""},{"$f":"IF(Schießkladde!O21=\"\",\"\",Schießkladde!O21)","v":""}]
[{"$f":"CONCATENATE(B7,\" \", C7,\" \",D7)","v":"  "},{"$f":"IF(Schießkladde!L38=\"\",\"\",Schießkladde!L38)","v":""},{"$f":"IF(Schießkladde!M38=\"\",\"\",Schießkladde!M38)","v":""},{"$f":"IF(Schießkladde!N38=\"\",\"\",Schießkladde!N38)","v":""},{"$f":"IF(Schießkladde!O38=\"\",\"\",Schießkladde!O38)","v":""}]
[{"$f":"CONCATENATE(B8,\" \", C8,\" \",D8)","v":"  "},{"$f":"IF(Schießkladde!L22=\"\",\"\",Schießkladde!L22)","v":""},{"$f":"IF(Schießkladde!M22=\"\",\"\",Schießkladde!M22)","v":""},{"$f":"IF(Schießkladde!N22=\"\",\"\",Schießkladde!N22)","v":""},{"$f":"IF(Schießkladde!O22=\"\",\"\",Schießkladde!O22)","v":""}]
[{"$f":"CONCATENATE(B9,\" \", C9,\" \",D9)","v":"  "},{"$f":"IF(Schießkladde!L12=\"\",\"\",Schießkladde!L12)","v":""},{"$f":"IF(Schießkladde!M12=\"\",\"\",Schießkladde!M12)","v":""},{"$f":"IF(Schießkladde!N12=\"\",\"\",Schießkladde!N12)","v":""},{"$f":"IF(Schießkladde!O12=\"\",\"\",Schießkladde!O12)","v":""}]
[{"$f":"CONCATENATE(B10,\" \", C10,\" \",D10)","v":"  "},{"$f":"IF(Schießkladde!L14=\"\",\"\",Schießkladde!L14)","v":""},{"$f":"IF(Schießkladde!M14=\"\",\"\",Schießkladde!M14)","v":""},{"$f":"IF(Schießkladde!N14=\"\",\"\",Schießkladde!N14)","v":""},{"$f":"IF(Schießkladde!O14=\"\",\"\",Schießkladde!O14)","v":""}]
[{"$f":"CONCATENATE(B11,\" \", C11,\" \",D11)","v":"  "},{"$f":"IF(Schießkladde!L26=\"\",\"\",Schießkladde!L26)","v":""},{"$f":"IF(Schießkladde!M26=\"\",\"\",Schießkladde!M26)","v":""},{"$f":"IF(Schießkladde!N26=\"\",\"\",Schießkladde!N26)","v":""},{"$f":"IF(Schießkladde!O26=\"\",\"\",Schießkladde!O26)","v":""}]
[{"$f":"CONCATENATE(B12,\" \", C12,\" \",D12)","v":"  "},{"$f":"IF(Schießkladde!L13=\"\",\"\",Schießkladde!L13)","v":""},{"$f":"IF(Schießkladde!M13=\"\",\"\",Schießkladde!M13)","v":""},{"$f":"IF(Schießkladde!N13=\"\",\"\",Schießkladde!N13)","v":""},{"$f":"IF(Schießkladde!O13=\"\",\"\",Schießkladde!O13)","v":""}]
[{"$f":"CONCATENATE(B13,\" \", C13,\" \",D13)","v":"  "},{"$f":"IF(Schießkladde!L47=\"\",\"\",Schießkladde!L47)","v":""},{"$f":"IF(Schießkladde!M47=\"\",\"\",Schießkladde!M47)","v":""},{"$f":"IF(Schießkladde!N47=\"\",\"\",Schießkladde!N47)","v":""},{"$f":"IF(Schießkladde!O47=\"\",\"\",Schießkladde!O47)","v":""}]
[{"$f":"CONCATENATE(B14,\" \", C14,\" \",D14)","v":"  "},{"$f":"IF(Schießkladde!L32=\"\",\"\",Schießkladde!L32)","v":""},{"$f":"IF(Schießkladde!M32=\"\",\"\",Schießkladde!M32)","v":""},{"$f":"IF(Schießkladde!N32=\"\",\"\",Schießkladde!N32)","v":""},{"$f":"IF(Schießkladde!O32=\"\",\"\",Schießkladde!O32)","v":""}]
[{"$f":"CONCATENATE(B15,\" \", C15,\" \",D15)","v":"  "},{"$f":"IF(Schießkladde!L48=\"\",\"\",Schießkladde!L48)","v":""},{"$f":"IF(Schießkladde!M48=\"\",\"\",Schießkladde!M48)","v":""},{"$f":"IF(Schießkladde!N48=\"\",\"\",Schießkladde!N48)","v":""},{"$f":"IF(Schießkladde!O48=\"\",\"\",Schießkladde!O48)","v":""}]
[{"$f":"CONCATENATE(B16,\" \", C16,\" \",D16)","v":"  "},{"$f":"IF(Schießkladde!L30=\"\",\"\",Schießkladde!L30)","v":""},{"$f":"IF(Schießkladde!M30=\"\",\"\",Schießkladde!M30)","v":""},{"$f":"IF(Schießkladde!N30=\"\",\"\",Schießkladde!N30)","v":""},{"$f":"IF(Schießkladde!O30=\"\",\"\",Schießkladde!O30)","v":""}]
[{"$f":"CONCATENATE(B17,\" \", C17,\" \",D17)","v":"  "},{"$f":"IF(Schießkladde!L27=\"\",\"\",Schießkladde!L27)","v":""},{"$f":"IF(Schießkladde!M27=\"\",\"\",Schießkladde!M27)","v":""},{"$f":"IF(Schießkladde!N27=\"\",\"\",Schießkladde!N27)","v":""},{"$f":"IF(Schießkladde!O27=\"\",\"\",Schießkladde!O27)","v":""}]
[{"$f":"CONCATENATE(B18,\" \", C18,\" \",D18)","v":"  "},{"$f":"IF(Schießkladde!L7=\"\",\"\",Schießkladde!L7)","v":""},{"$f":"IF(Schießkladde!M7=\"\",\"\",Schießkladde!M7)","v":""},{"$f":"IF(Schießkladde!N7=\"\",\"\",Schießkladde!N7)","v":""},{"$f":"IF(Schießkladde!O7=\"\",\"\",Schießkladde!O7)","v":""}]
[{"$f":"CONCATENATE(B19,\" \", C19,\" \",D19)","v":"  "},{"$f":"IF(Schießkladde!L15=\"\",\"\",Schießkladde!L15)","v":""},{"$f":"IF(Schießkladde!M15=\"\",\"\",Schießkladde!M15)","v":""},{"$f":"IF(Schießkladde!N15=\"\",\"\",Schießkladde!N15)","v":""},{"$f":"IF(Schießkladde!O15=\"\",\"\",Schießkladde!O15)","v":""},{"$f":"G19","v":0}]
[{"$f":"CONCATENATE(B20,\" \", C20,\" \",D20)","v":"  "},{"$f":"IF(Schießkladde!L18=\"\",\"\",Schießkladde!L18)","v":""},{"$f":"IF(Schießkladde!M18=\"\",\"\",Schießkladde!M18)","v":""},{"$f":"IF(Schießkladde!N18=\"\",\"\",Schießkladde!N18)","v":""},{"$f":"IF(Schießkladde!O18=\"\",\"\",Schießkladde!O18)","v":""}]
[{"$f":"CONCATENATE(B21,\" \", C21,\" \",D21)","v":"  "},{"$f":"IF(Schießkladde!L43=\"\",\"\",Schießkladde!L43)","v":""},{"$f":"IF(Schießkladde!M43=\"\",\"\",Schießkladde!M43)","v":""},{"$f":"IF(Schießkladde!N43=\"\",\"\",Schießkladde!N43)","v":""},{"$f":"IF(Schießkladde!O43=\"\",\"\",Schießkladde!O43)","v":""}]
[{"$f":"CONCATENATE(B22,\" \", C22,\" \",D22)","v":"  "},{"$f":"IF(Schießkladde!L33=\"\",\"\",Schießkladde!L33)","v":""},{"$f":"IF(Schießkladde!M33=\"\",\"\",Schießkladde!M33)","v":""},{"$f":"IF(Schießkladde!N33=\"\",\"\",Schießkladde!N33)","v":""},{"$f":"IF(Schießkladde!O33=\"\",\"\",Schießkladde!O33)","v":""}]
[{"$f":"CONCATENATE(B23,\" \", C23,\" \",D23)","v":"  "},{"$f":"IF(Schießkladde!L37=\"\",\"\",Schießkladde!L37)","v":""},{"$f":"IF(Schießkladde!M37=\"\",\"\",Schießkladde!M37)","v":""},{"$f":"IF(Schießkladde!N37=\"\",\"\",Schießkladde!N37)","v":""},{"$f":"IF(Schießkladde!O37=\"\",\"\",Schießkladde!O37)","v":""}]
[{"$f":"CONCATENATE(B24,\" \", C24,\" \",D24)","v":"  "},{"$f":"IF(Schießkladde!L36=\"\",\"\",Schießkladde!L36)","v":""},{"$f":"IF(Schießkladde!M36=\"\",\"\",Schießkladde!M36)","v":""},{"$f":"IF(Schießkladde!N36=\"\",\"\",Schießkladde!N36)","v":""},{"$f":"IF(Schießkladde!O36=\"\",\"\",Schießkladde!O36)","v":""}]
[{"$f":"CONCATENATE(B25,\" \", C25,\" \",D25)","v":"  "},{"$f":"IF(Schießkladde!L40=\"\",\"\",Schießkladde!L40)","v":""},{"$f":"IF(Schießkladde!M40=\"\",\"\",Schießkladde!M40)","v":""},{"$f":"IF(Schießkladde!N40=\"\",\"\",Schießkladde!N40)","v":""},{"$f":"IF(Schießkladde!O40=\"\",\"\",Schießkladde!O40)","v":""}]
[{"$f":"CONCATENATE(B26,\" \", C26,\" \",D26)","v":"  "},{"$f":"IF(Schießkladde!L19=\"\",\"\",Schießkladde!L19)","v":""},{"$f":"IF(Schießkladde!M19=\"\",\"\",Schießkladde!M19)","v":""},{"$f":"IF(Schießkladde!N19=\"\",\"\",Schießkladde!N19)","v":""},{"$f":"IF(Schießkladde!O19=\"\",\"\",Schießkladde!O19)","v":""},null,null,null,null,null,null,null,null,null,null,{"$f":"VLOOKUP($G$2,$A$2:$E$203,3,0)","v":""},null,null,{"$f":"P26","v":""}]
[{"$f":"CONCATENATE(B27,\" \", C27,\" \",D27)","v":"  "},{"$f":"IF(Schießkladde!L19=\"\",\"\",Schießkladde!L19)","v":""},{"$f":"IF(Schießkladde!M19=\"\",\"\",Schießkladde!M19)","v":""},{"$f":"IF(Schießkladde!N19=\"\",\"\",Schießkladde!N19)","v":""},{"$f":"IF(Schießkladde!O19=\"\",\"\",Schießkladde!O19)","v":""},null,null,null,null,null,null,null,null,{"$f":"VLOOKUP($G$2,$A$2:$E$203,5,0)","v":""},null,{"$f":"VLOOKUP($G$2,$A$2:$E$203,2,0)","v":""},null,null,{"$f":"P27","v":""}]
[{"$f":"CONCATENATE(B28,\" \", C28,\" \",D28)","v":"  "},{"$f":"IF(Schießkladde!L24=\"\",\"\",Schießkladde!L24)","v":""},{"$f":"IF(Schießkladde!M24=\"\",\"\",Schießkladde!M24)","v":""},{"$f":"IF(Schießkladde!N24=\"\",\"\",Schießkladde!N24)","v":""},{"$f":"IF(Schießkladde!O24=\"\",\"\",Schießkladde!O24)","v":""},null,null,null,null,null,null,null,null,{"$f":"VLOOKUP($G$2,$A$2:$E$203,4,0)","v":""},null,"Wertung",null,null,"Probe"]
[{"$f":"CONCATENATE(B29,\" \", C29,\" \",D29)","v":"  "},{"$f":"IF(Schießkladde!L16=\"\",\"\",Schießkladde!L16)","v":""},{"$f":"IF(Schießkladde!M16=\"\",\"\",Schießkladde!M16)","v":""},{"$f":"IF(Schießkladde!N16=\"\",\"\",Schießkladde!N16)","v":""},{"$f":"IF(Schießkladde!O16=\"\",\"\",Schießkladde!O16)","v":""},{"$f":"IF(G29=\"\",\"-\",G29)","v":"-"}]
[{"$f":"CONCATENATE(B30,\" \", C30,\" \",D30)","v":"  "},{"$f":"IF(Schießkladde!L25=\"\",\"\",Schießkladde!L25)","v":""},{"$f":"IF(Schießkladde!M25=\"\",\"\",Schießkladde!M25)","v":""},{"$f":"IF(Schießkladde!N25=\"\",\"\",Schießkladde!N25)","v":""},{"$f":"IF(Schießkladde!O25=\"\",\"\",Schießkladde!O25)","v":""}]
[{"$f":"CONCATENATE(B31,\" \", C31,\" \",D31)","v":"  "},{"$f":"IF(Schießkladde!L29=\"\",\"\",Schießkladde!L29)","v":""},{"$f":"IF(Schießkladde!M29=\"\",\"\",Schießkladde!M29)","v":""},{"$f":"IF(Schießkladde!N29=\"\",\"\",Schießkladde!N29)","v":""},{"$f":"IF(Schießkladde!O29=\"\",\"\",Schießkladde!O29)","v":""}]
[{"$f":"CONCATENATE(B32,\" \", C32,\" \",D32)","v":"  "},{"$f":"IF(Schießkladde!L31=\"\",\"\",Schießkladde!L31)","v":""},{"$f":"IF(Schießkladde!M31=\"\",\"\",Schießkladde!M31)","v":""},{"$f":"IF(Schießkladde!N31=\"\",\"\",Schießkladde!N31)","v":""},{"$f":"IF(Schießkladde!O31=\"\",\"\",Schießkladde!O31)","v":""}]
[{"$f":"CONCATENATE(B33,\" \", C33,\" \",D33)","v":"  "},{"$f":"IF(Schießkladde!L41=\"\",\"\",Schießkladde!L41)","v":""},{"$f":"IF(Schießkladde!M41=\"\",\"\",Schießkladde!M41)","v":""},{"$f":"IF(Schießkladde!N41=\"\",\"\",Schießkladde!N41)","v":""},{"$f":"IF(Schießkladde!O41=\"\",\"\",Schießkladde!O41)","v":""}]
[{"$f":"CONCATENATE(B34,\" \", C34,\" \",D34)","v":"  "},{"$f":"IF(Schießkladde!L8=\"\",\"\",Schießkladde!L8)","v":""},{"$f":"IF(Schießkladde!M8=\"\",\"\",Schießkladde!M8)","v":""},{"$f":"IF(Schießkladde!N8=\"\",\"\",Schießkladde!N8)","v":""},{"$f":"IF(Schießkladde!O8=\"\",\"\",Schießkladde!O8)","v":""}]
[{"$f":"CONCATENATE(B35,\" \", C35,\" \",D35)","v":"  "},{"$f":"IF(Schießkladde!L17=\"\",\"\",Schießkladde!L17)","v":""},{"$f":"IF(Schießkladde!M17=\"\",\"\",Schießkladde!M17)","v":""},{"$f":"IF(Schießkladde!N17=\"\",\"\",Schießkladde!N17)","v":""},{"$f":"IF(Schießkladde!O17=\"\",\"\",Schießkladde!O17)","v":""}]
[{"$f":"CONCATENATE(B36,\" \", C36,\" \",D36)","v":"  "},{"$f":"IF(Schießkladde!L46=\"\",\"\",Schießkladde!L46)","v":""},{"$f":"IF(Schießkladde!M46=\"\",\"\",Schießkladde!M46)","v":""},{"$f":"IF(Schießkladde!N46=\"\",\"\",Schießkladde!N46)","v":""},{"$f":"IF(Schießkladde!O46=\"\",\"\",Schießkladde!O46)","v":""}]
[{"$f":"CONCATENATE(B37,\" \", C37,\" \",D37)","v":"  "},{"$f":"IF(Schießkladde!L23=\"\",\"\",Schießkladde!L23)","v":""},{"$f":"IF(Schießkladde!M23=\"\",\"\",Schießkladde!M23)","v":""},{"$f":"IF(Schießkladde!N23=\"\",\"\",Schießkladde!N23)","v":""},{"$f":"IF(Schießkladde!O23=\"\",\"\",Schießkladde!O23)","v":""}]
[{"$f":"CONCATENATE(B38,\" \", C38,\" \",D38)","v":"  "},{"$f":"IF(Schießkladde!L39=\"\",\"\",Schießkladde!L39)","v":""},{"$f":"IF(Schießkladde!M39=\"\",\"\",Schießkladde!M39)","v":""},{"$f":"IF(Schießkladde!N39=\"\",\"\",Schießkladde!N39)","v":""},{"$f":"IF(Schießkladde!O39=\"\",\"\",Schießkladde!O39)","v":""}]
[{"$f":"CONCATENATE(B39,\" \", C39,\" \",D39)","v":"  "},{"$f":"IF(Schießkladde!L11=\"\",\"\",Schießkladde!L11)","v":""},{"$f":"IF(Schießkladde!M11=\"\",\"\",Schießkladde!M11)","v":""},{"$f":"IF(Schießkladde!N11=\"\",\"\",Schießkladde!N11)","v":""},{"$f":"IF(Schießkladde!O11=\"\",\"\",Schießkladde!O11)","v":""}]
[{"$f":"CONCATENATE(B40,\" \", C40,\" \",D40)","v":"  "},{"$f":"IF(Schießkladde!L10=\"\",\"\",Schießkladde!L10)","v":""},{"$f":"IF(Schießkladde!M10=\"\",\"\",Schießkladde!M10)","v":""},{"$f":"IF(Schießkladde!N10=\"\",\"\",Schießkladde!N10)","v":""},{"$f":"IF(Schießkladde!O10=\"\",\"\",Schießkladde!O10)","v":""}]
[{"$f":"CONCATENATE(B41,\" \", C41,\" \",D41)","v":"  "},{"$f":"IF(Schießkladde!L45=\"\",\"\",Schießkladde!L45)","v":""},{"$f":"IF(Schießkladde!M45=\"\",\"\",Schießkladde!M45)","v":""},{"$f":"IF(Schießkladde!N45=\"\",\"\",Schießkladde!N45)","v":""},{"$f":"IF(Schießkladde!O45=\"\",\"\",Schießkladde!O45)","v":""}]
[{"$f":"CONCATENATE(B42,\" \", C42,\" \",D42)","v":"  "},{"$f":"IF(Schießkladde!L35=\"\",\"\",Schießkladde!L35)","v":""},{"$f":"IF(Schießkladde!M35=\"\",\"\",Schießkladde!M35)","v":""},{"$f":"IF(Schießkladde!N35=\"\",\"\",Schießkladde!N35)","v":""},{"$f":"IF(Schießkladde!O35=\"\",\"\",Schießkladde!O35)","v":""}]
[{"$f":"CONCATENATE(B43,\" \", C43,\" \",D43)","v":"  "},{"$f":"IF(Schießkladde!L6=\"\",\"\",Schießkladde!L6)","v":""},{"$f":"IF(Schießkladde!M6=\"\",\"\",Schießkladde!M6)","v":""},{"$f":"IF(Schießkladde!N6=\"\",\"\",Schießkladde!N6)","v":""},{"$f":"IF(Schießkladde!O6=\"\",\"\",Schießkladde!O6)","v":""}]
[{"$f":"CONCATENATE(B44,\" \", C44,\" \",D44)","v":"  "},{"$f":"IF(Schießkladde!L20=\"\",\"\",Schießkladde!L20)","v":""},{"$f":"IF(Schießkladde!M20=\"\",\"\",Schießkladde!M20)","v":""},{"$f":"IF(Schießkladde!N20=\"\",\"\",Schießkladde!N20)","v":""},{"$f":"IF(Schießkladde!O20=\"\",\"\",Schießkladde!O20)","v":""}]
[{"$f":"CONCATENATE(B45,\" \", C45,\" \",D45)","v":"  "},{"$f":"IF(Schießkladde!L20=\"\",\"\",Schießkladde!L20)","v":""},{"$f":"IF(Schießkladde!M20=\"\",\"\",Schießkladde!M20)","v":""},{"$f":"IF(Schießkladde!N20=\"\",\"\",Schießkladde!N20)","v":""},{"$f":"IF(Schießkladde!O20=\"\",\"\",Schießkladde!O20)","v":""}]
[{"$f":"CONCATENATE(B46,\" \", C46,\" \",D46)","v":"  "},{"$f":"IF(Schießkladde!L34=\"\",\"\",Schießkladde!L34)","v":""},{"$f":"IF(Schießkladde!M34=\"\",\"\",Schießkladde!M34)","v":""},{"$f":"IF(Schießkladde!N34=\"\",\"\",Schießkladde!N34)","v":""},{"$f":"IF(Schießkladde!O34=\"\",\"\",Schießkladde!O34)","v":""}]
[{"$f":"CONCATENATE(B47,\" \", C47,\" \",D47)","v":"  "},{"$f":"IF(Schießkladde!L9=\"\",\"\",Schießkladde!L9)","v":""},{"$f":"IF(Schießkladde!M9=\"\",\"\",Schießkladde!M9)","v":""},{"$f":"IF(Schießkladde!N9=\"\",\"\",Schießkladde!N9)","v":""},{"$f":"IF(Schießkladde!O9=\"\",\"\",Schießkladde!O9)","v":""}]
[{"$f":"CONCATENATE(B48,\" \", C48,\" \",D48)","v":"  "},{"$f":"IF(Schießkladde!L49=\"\",\"\",Schießkladde!L49)","v":""},{"$f":"IF(Schießkladde!M49=\"\",\"\",Schießkladde!M49)","v":""},{"$f":"IF(Schießkladde!N49=\"\",\"\",Schießkladde!N49)","v":""},{"$f":"IF(Schießkladde!O49=\"\",\"\",Schießkladde!O49)","v":""}]
[{"$f":"CONCATENATE(B49,\" \", C49,\" \",D49)","v":"  "},{"$f":"IF(Schießkladde!L50=\"\",\"\",Schießkladde!L50)","v":""},{"$f":"IF(Schießkladde!M50=\"\",\"\",Schießkladde!M50)","v":""},{"$f":"IF(Schießkladde!N50=\"\",\"\",Schießkladde!N50)","v":""},{"$f":"IF(Schießkladde!O50=\"\",\"\",Schießkladde!O50)","v":""}]
[{"$f":"CONCATENATE(B50,\" \", C50,\" \",D50)","v":"  "},{"$f":"IF(Schießkladde!L54=\"\",\"\",Schießkladde!L54)","v":""},{"$f":"IF(Schießkladde!M54=\"\",\"\",Schießkladde!M54)","v":""},{"$f":"IF(Schießkladde!N54=\"\",\"\",Schießkladde!N54)","v":""},{"$f":"IF(Schießkladde!O54=\"\",\"\",Schießkladde!O54)","v":""}]
[{"$f":"CONCATENATE(B51,\" \", C51,\" \",D51)","v":"  "},{"$f":"IF(Schießkladde!L53=\"\",\"\",Schießkladde!L53)","v":""},{"$f":"IF(Schießkladde!M53=\"\",\"\",Schießkladde!M53)","v":""},{"$f":"IF(Schießkladde!N53=\"\",\"\",Schießkladde!N53)","v":""},{"$f":"IF(Schießkladde!O53=\"\",\"\",Schießkladde!O53)","v":""}]
[{"$f":"CONCATENATE(B52,\" \", C52,\" \",D52)","v":"  "},{"$f":"IF(Schießkladde!L52=\"\",\"\",Schießkladde!L52)","v":""},{"$f":"IF(Schießkladde!M52=\"\",\"\",Schießkladde!M52)","v":""},{"$f":"IF(Schießkladde!N52=\"\",\"\",Schießkladde!N52)","v":""},{"$f":"IF(Schießkladde!O52=\"\",\"\",Schießkladde!O52)","v":""}]
[{"$f":"CONCATENATE(B53,\" \", C53,\" \",D53)","v":"  "},{"$f":"IF(Schießkladde!L51=\"\",\"\",Schießkladde!L51)","v":""},{"$f":"IF(Schießkladde!M51=\"\",\"\",Schießkladde!M51)","v":""},{"$f":"IF(Schießkladde!N51=\"\",\"\",Schießkladde!N51)","v":""},{"$f":"IF(Schießkladde!O51=\"\",\"\",Schießkladde!O51)","v":""}]
[{"$f":"CONCATENATE(B54,\" \", C54,\" \",D54)","v":"  "},{"$f":"IF(Schießkladde!L55=\"\",\"\",Schießkladde!L55)","v":""},{"$f":"IF(Schießkladde!M55=\"\",\"\",Schießkladde!M55)","v":""},{"$f":"IF(Schießkladde!N55=\"\",\"\",Schießkladde!N55)","v":""},{"$f":"IF(Schießkladde!O55=\"\",\"\",Schießkladde!O55)","v":""}]
[{"$f":"CONCATENATE(B55,\" \", C55,\" \",D55)","v":"  "},{"$f":"IF(Schießkladde!L56=\"\",\"\",Schießkladde!L56)","v":""},{"$f":"IF(Schießkladde!M56=\"\",\"\",Schießkladde!M56)","v":""},{"$f":"IF(Schießkladde!N56=\"\",\"\",Schießkladde!N56)","v":""},{"$f":"IF(Schießkladde!O56=\"\",\"\",Schießkladde!O56)","v":""}]
[{"$f":"CONCATENATE(B56,\" \", C56,\" \",D56)","v":"  "},{"$f":"IF(Schießkladde!L57=\"\",\"\",Schießkladde!L57)","v":""},{"$f":"IF(Schießkladde!M57=\"\",\"\",Schießkladde!M57)","v":""},{"$f":"IF(Schießkladde!N57=\"\",\"\",Schießkladde!N57)","v":""},{"$f":"IF(Schießkladde!O57=\"\",\"\",Schießkladde!O57)","v":""}]
[{"$f":"CONCATENATE(B57,\" \", C57,\" \",D57)","v":"  "},{"$f":"IF(Schießkladde!L58=\"\",\"\",Schießkladde!L58)","v":""},{"$f":"IF(Schießkladde!M58=\"\",\"\",Schießkladde!M58)","v":""},{"$f":"IF(Schießkladde!N58=\"\",\"\",Schießkladde!N58)","v":""},{"$f":"IF(Schießkladde!O58=\"\",\"\",Schießkladde!O58)","v":""}]
[{"$f":"CONCATENATE(B58,\" \", C58,\" \",D58)","v":"  "},{"$f":"IF(Schießkladde!L59=\"\",\"\",Schießkladde!L59)","v":""},{"$f":"IF(Schießkladde!M59=\"\",\"\",Schießkladde!M59)","v":""},{"$f":"IF(Schießkladde!N59=\"\",\"\",Schießkladde!N59)","v":""},{"$f":"IF(Schießkladde!O59=\"\",\"\",Schießkladde!O59)","v":""}]
[{"$f":"CONCATENATE(B59,\" \", C59,\" \",D59)","v":"  "},{"$f":"IF(Schießkladde!L60=\"\",\"\",Schießkladde!L60)","v":""},{"$f":"IF(Schießkladde!M60=\"\",\"\",Schießkladde!M60)","v":""},{"$f":"IF(Schießkladde!N60=\"\",\"\",Schießkladde!N60)","v":""},{"$f":"IF(Schießkladde!O60=\"\",\"\",Schießkladde!O60)","v":""}]
[{"$f":"CONCATENATE(B60,\" \", C60,\" \",D60)","v":"  "},{"$f":"IF(Schießkladde!L61=\"\",\"\",Schießkladde!L61)","v":""},{"$f":"IF(Schießkladde!M61=\"\",\"\",Schießkladde!M61)","v":""},{"$f":"IF(Schießkladde!N61=\"\",\"\",Schießkladde!N61)","v":""},{"$f":"IF(Schießkladde!O61=\"\",\"\",Schießkladde!O61)","v":""}]
[{"$f":"CONCATENATE(B61,\" \", C61,\" \",D61)","v":"  "},{"$f":"IF(Schießkladde!L62=\"\",\"\",Schießkladde!L62)","v":""},{"$f":"IF(Schießkladde!M62=\"\",\"\",Schießkladde!M62)","v":""},{"$f":"IF(Schießkladde!N62=\"\",\"\",Schießkladde!N62)","v":""},{"$f":"IF(Schießkladde!O62=\"\",\"\",Schießkladde!O62)","v":""}]
[{"$f":"CONCATENATE(B62,\" \", C62,\" \",D62)","v":"  "},{"$f":"IF(Schießkladde!L63=\"\",\"\",Schießkladde!L63)","v":""},{"$f":"IF(Schießkladde!M63=\"\",\"\",Schießkladde!M63)","v":""},{"$f":"IF(Schießkladde!N63=\"\",\"\",Schießkladde!N63)","v":""},{"$f":"IF(Schießkladde!O63=\"\",\"\",Schießkladde!O63)","v":""}]
[{"$f":"CONCATENATE(B63,\" \", C63,\" \",D63)","v":"  "},{"$f":"IF(Schießkladde!L64=\"\",\"\",Schießkladde!L64)","v":""},{"$f":"IF(Schießkladde!M64=\"\",\"\",Schießkladde!M64)","v":""},{"$f":"IF(Schießkladde!N64=\"\",\"\",Schießkladde!N64)","v":""},{"$f":"IF(Schießkladde!O64=\"\",\"\",Schießkladde!O64)","v":""}]
[{"$f":"CONCATENATE(B64,\" \", C64,\" \",D64)","v":"  "},{"$f":"IF(Schießkladde!L65=\"\",\"\",Schießkladde!L65)","v":""},{"$f":"IF(Schießkladde!M65=\"\",\"\",Schießkladde!M65)","v":""},{"$f":"IF(Schießkladde!N65=\"\",\"\",Schießkladde!N65)","v":""},{"$f":"IF(Schießkladde!O65=\"\",\"\",Schießkladde!O65)","v":""}]
[{"$f":"CONCATENATE(B65,\" \", C65,\" \",D65)","v":"  "},{"$f":"IF(Schießkladde!L66=\"\",\"\",Schießkladde!L66)","v":""},{"$f":"IF(Schießkladde!M66=\"\",\"\",Schießkladde!M66)","v":""},{"$f":"IF(Schießkladde!N66=\"\",\"\",Schießkladde!N66)","v":""},{"$f":"IF(Schießkladde!O66=\"\",\"\",Schießkladde!O66)","v":""}]
[{"$f":"CONCATENATE(B66,\" \", C66,\" \",D66)","v":"  "},{"$f":"IF(Schießkladde!L67=\"\",\"\",Schießkladde!L67)","v":""},{"$f":"IF(Schießkladde!M67=\"\",\"\",Schießkladde!M67)","v":""},{"$f":"IF(Schießkladde!N67=\"\",\"\",Schießkladde!N67)","v":""},{"$f":"IF(Schießkladde!O67=\"\",\"\",Schießkladde!O67)","v":""}]
[{"$f":"CONCATENATE(B67,\" \", C67,\" \",D67)","v":"  "},{"$f":"IF(Schießkladde!L68=\"\",\"\",Schießkladde!L68)","v":""},{"$f":"IF(Schießkladde!M68=\"\",\"\",Schießkladde!M68)","v":""},{"$f":"IF(Schießkladde!N68=\"\",\"\",Schießkladde!N68)","v":""},{"$f":"IF(Schießkladde!O68=\"\",\"\",Schießkladde!O68)","v":""}]
[{"$f":"CONCATENATE(B68,\" \", C68,\" \",D68)","v":"  "},{"$f":"IF(Schießkladde!L69=\"\",\"\",Schießkladde!L69)","v":""},{"$f":"IF(Schießkladde!M69=\"\",\"\",Schießkladde!M69)","v":""},{"$f":"IF(Schießkladde!N69=\"\",\"\",Schießkladde!N69)","v":""},{"$f":"IF(Schießkladde!O69=\"\",\"\",Schießkladde!O69)","v":""}]
[{"$f":"CONCATENATE(B69,\" \", C69,\" \",D69)","v":"  "},{"$f":"IF(Schießkladde!L70=\"\",\"\",Schießkladde!L70)","v":""},{"$f":"IF(Schießkladde!M70=\"\",\"\",Schießkladde!M70)","v":""},{"$f":"IF(Schießkladde!N70=\"\",\"\",Schießkladde!N70)","v":""},{"$f":"IF(Schießkladde!O70=\"\",\"\",Schießkladde!O70)","v":""}]
[{"$f":"CONCATENATE(B70,\" \", C70,\" \",D70)","v":"  "},{"$f":"IF(Schießkladde!L71=\"\",\"\",Schießkladde!L71)","v":""},{"$f":"IF(Schießkladde!M71=\"\",\"\",Schießkladde!M71)","v":""},{"$f":"IF(Schießkladde!N71=\"\",\"\",Schießkladde!N71)","v":""},{"$f":"IF(Schießkladde!O71=\"\",\"\",Schießkladde!O71)","v":""}]
[{"$f":"CONCATENATE(B71,\" \", C71,\" \",D71)","v":"  "},{"$f":"IF(Schießkladde!L72=\"\",\"\",Schießkladde!L72)","v":""},{"$f":"IF(Schießkladde!M72=\"\",\"\",Schießkladde!M72)","v":""},{"$f":"IF(Schießkladde!N72=\"\",\"\",Schießkladde!N72)","v":""},{"$f":"IF(Schießkladde!O72=\"\",\"\",Schießkladde!O72)","v":""}]
[{"$f":"CONCATENATE(B72,\" \", C72,\" \",D72)","v":"  "},{"$f":"IF(Schießkladde!L73=\"\",\"\",Schießkladde!L73)","v":""},{"$f":"IF(Schießkladde!M73=\"\",\"\",Schießkladde!M73)","v":""},{"$f":"IF(Schießkladde!N73=\"\",\"\",Schießkladde!N73)","v":""},{"$f":"IF(Schießkladde!O73=\"\",\"\",Schießkladde!O73)","v":""}]
[{"$f":"CONCATENATE(B73,\" \", C73,\" \",D73)","v":"  "},{"$f":"IF(Schießkladde!L74=\"\",\"\",Schießkladde!L74)","v":""},{"$f":"IF(Schießkladde!M74=\"\",\"\",Schießkladde!M74)","v":""},{"$f":"IF(Schießkladde!N74=\"\",\"\",Schießkladde!N74)","v":""},{"$f":"IF(Schießkladde!O74=\"\",\"\",Schießkladde!O74)","v":""}]
[{"$f":"CONCATENATE(B74,\" \", C74,\" \",D74)","v":"  "},{"$f":"IF(Schießkladde!L75=\"\",\"\",Schießkladde!L75)","v":""},{"$f":"IF(Schießkladde!M75=\"\",\"\",Schießkladde!M75)","v":""},{"$f":"IF(Schießkladde!N75=\"\",\"\",Schießkladde!N75)","v":""},{"$f":"IF(Schießkladde!O75=\"\",\"\",Schießkladde!O75)","v":""}]
[{"$f":"CONCATENATE(B75,\" \", C75,\" \",D75)","v":"  "},{"$f":"IF(Schießkladde!L76=\"\",\"\",Schießkladde!L76)","v":""},{"$f":"IF(Schießkladde!M76=\"\",\"\",Schießkladde!M76)","v":""},{"$f":"IF(Schießkladde!N76=\"\",\"\",Schießkladde!N76)","v":""},{"$f":"IF(Schießkladde!O76=\"\",\"\",Schießkladde!O76)","v":""}]
[{"$f":"CONCATENATE(B76,\" \", C76,\" \",D76)","v":"  "},{"$f":"IF(Schießkladde!L77=\"\",\"\",Schießkladde!L77)","v":""},{"$f":"IF(Schießkladde!M77=\"\",\"\",Schießkladde!M77)","v":""},{"$f":"IF(Schießkladde!N77=\"\",\"\",Schießkladde!N77)","v":""},{"$f":"IF(Schießkladde!O77=\"\",\"\",Schießkladde!O77)","v":""}]
[{"$f":"CONCATENATE(B77,\" \", C77,\" \",D77)","v":"  "},{"$f":"IF(Schießkladde!L78=\"\",\"\",Schießkladde!L78)","v":""},{"$f":"IF(Schießkladde!M78=\"\",\"\",Schießkladde!M78)","v":""},{"$f":"IF(Schießkladde!N78=\"\",\"\",Schießkladde!N78)","v":""},{"$f":"IF(Schießkladde!O78=\"\",\"\",Schießkladde!O78)","v":""}]
[{"$f":"CONCATENATE(B78,\" \", C78,\" \",D78)","v":"  "},{"$f":"IF(Schießkladde!L79=\"\",\"\",Schießkladde!L79)","v":""},{"$f":"IF(Schießkladde!M79=\"\",\"\",Schießkladde!M79)","v":""},{"$f":"IF(Schießkladde!N79=\"\",\"\",Schießkladde!N79)","v":""},{"$f":"IF(Schießkladde!O79=\"\",\"\",Schießkladde!O79)","v":""}]
[{"$f":"CONCATENATE(B79,\" \", C79,\" \",D79)","v":"  "},{"$f":"IF(Schießkladde!L80=\"\",\"\",Schießkladde!L80)","v":""},{"$f":"IF(Schießkladde!M80=\"\",\"\",Schießkladde!M80)","v":""},{"$f":"IF(Schießkladde!N80=\"\",\"\",Schießkladde!N80)","v":""},{"$f":"IF(Schießkladde!O80=\"\",\"\",Schießkladde!O80)","v":""}]
[{"$f":"CONCATENATE(B80,\" \", C80,\" \",D80)","v":"  "},{"$f":"IF(Schießkladde!L81=\"\",\"\",Schießkladde!L81)","v":""},{"$f":"IF(Schießkladde!M81=\"\",\"\",Schießkladde!M81)","v":""},{"$f":"IF(Schießkladde!N81=\"\",\"\",Schießkladde!N81)","v":""},{"$f":"IF(Schießkladde!O81=\"\",\"\",Schießkladde!O81)","v":""}]
[{"$f":"CONCATENATE(B81,\" \", C81,\" \",D81)","v":"  "},{"$f":"IF(Schießkladde!L82=\"\",\"\",Schießkladde!L82)","v":""},{"$f":"IF(Schießkladde!M82=\"\",\"\",Schießkladde!M82)","v":""},{"$f":"IF(Schießkladde!N82=\"\",\"\",Schießkladde!N82)","v":""},{"$f":"IF(Schießkladde!O82=\"\",\"\",Schießkladde!O82)","v":""}]
[{"$f":"CONCATENATE(B82,\" \", C82,\" \",D82)","v":"  "},{"$f":"IF(Schießkladde!L83=\"\",\"\",Schießkladde!L83)","v":""},{"$f":"IF(Schießkladde!M83=\"\",\"\",Schießkladde!M83)","v":""},{"$f":"IF(Schießkladde!N83=\"\",\"\",Schießkladde!N83)","v":""},{"$f":"IF(Schießkladde!O83=\"\",\"\",Schießkladde!O83)","v":""}]
[{"$f":"CONCATENATE(B83,\" \", C83,\" \",D83)","v":"  "},{"$f":"IF(Schießkladde!L84=\"\",\"\",Schießkladde!L84)","v":""},{"$f":"IF(Schießkladde!M84=\"\",\"\",Schießkladde!M84)","v":""},{"$f":"IF(Schießkladde!N84=\"\",\"\",Schießkladde!N84)","v":""},{"$f":"IF(Schießkladde!O84=\"\",\"\",Schießkladde!O84)","v":""}]
[{"$f":"CONCATENATE(B84,\" \", C84,\" \",D84)","v":"  "},{"$f":"IF(Schießkladde!L85=\"\",\"\",Schießkladde!L85)","v":""},{"$f":"IF(Schießkladde!M85=\"\",\"\",Schießkladde!M85)","v":""},{"$f":"IF(Schießkladde!N85=\"\",\"\",Schießkladde!N85)","v":""},{"$f":"IF(Schießkladde!O85=\"\",\"\",Schießkladde!O85)","v":""}]
[{"$f":"CONCATENATE(B85,\" \", C85,\" \",D85)","v":"  "},{"$f":"IF(Schießkladde!L86=\"\",\"\",Schießkladde!L86)","v":""},{"$f":"IF(Schießkladde!M86=\"\",\"\",Schießkladde!M86)","v":""},{"$f":"IF(Schießkladde!N86=\"\",\"\",Schießkladde!N86)","v":""},{"$f":"IF(Schießkladde!O86=\"\",\"\",Schießkladde!O86)","v":""}]
[{"$f":"CONCATENATE(B86,\" \", C86,\" \",D86)","v":"  "},{"$f":"IF(Schießkladde!L87=\"\",\"\",Schießkladde!L87)","v":""},{"$f":"IF(Schießkladde!M87=\"\",\"\",Schießkladde!M87)","v":""},{"$f":"IF(Schießkladde!N87=\"\",\"\",Schießkladde!N87)","v":""},{"$f":"IF(Schießkladde!O87=\"\",\"\",Schießkladde!O87)","v":""}]
[{"$f":"CONCATENATE(B87,\" \", C87,\" \",D87)","v":"  "},{"$f":"IF(Schießkladde!L88=\"\",\"\",Schießkladde!L88)","v":""},{"$f":"IF(Schießkladde!M88=\"\",\"\",Schießkladde!M88)","v":""},{"$f":"IF(Schießkladde!N88=\"\",\"\",Schießkladde!N88)","v":""},{"$f":"IF(Schießkladde!O88=\"\",\"\",Schießkladde!O88)","v":""}]
[{"$f":"CONCATENATE(B88,\" \", C88,\" \",D88)","v":"  "},{"$f":"IF(Schießkladde!L89=\"\",\"\",Schießkladde!L89)","v":""},{"$f":"IF(Schießkladde!M89=\"\",\"\",Schießkladde!M89)","v":""},{"$f":"IF(Schießkladde!N89=\"\",\"\",Schießkladde!N89)","v":""},{"$f":"IF(Schießkladde!O89=\"\",\"\",Schießkladde!O89)","v":""}]
[{"$f":"CONCATENATE(B89,\" \", C89,\" \",D89)","v":"  "},{"$f":"IF(Schießkladde!L90=\"\",\"\",Schießkladde!L90)","v":""},{"$f":"IF(Schießkladde!M90=\"\",\"\",Schießkladde!M90)","v":""},{"$f":"IF(Schießkladde!N90=\"\",\"\",Schießkladde!N90)","v":""},{"$f":"IF(Schießkladde!O90=\"\",\"\",Schießkladde!O90)","v":""}]
[{"$f":"CONCATENATE(B90,\" \", C90,\" \",D90)","v":"  "},{"$f":"IF(Schießkladde!L91=\"\",\"\",Schießkladde!L91)","v":""},{"$f":"IF(Schießkladde!M91=\"\",\"\",Schießkladde!M91)","v":""},{"$f":"IF(Schießkladde!N91=\"\",\"\",Schießkladde!N91)","v":""},{"$f":"IF(Schießkladde!O91=\"\",\"\",Schießkladde!O91)","v":""}]
[{"$f":"CONCATENATE(B91,\" \", C91,\" \",D91)","v":"  "},{"$f":"IF(Schießkladde!L92=\"\",\"\",Schießkladde!L92)","v":""},{"$f":"IF(Schießkladde!M92=\"\",\"\",Schießkladde!M92)","v":""},{"$f":"IF(Schießkladde!N92=\"\",\"\",Schießkladde!N92)","v":""},{"$f":"IF(Schießkladde!O92=\"\",\"\",Schießkladde!O92)","v":""}]
[{"$f":"CONCATENATE(B92,\" \", C92,\" \",D92)","v":"  "},{"$f":"IF(Schießkladde!L93=\"\",\"\",Schießkladde!L93)","v":""},{"$f":"IF(Schießkladde!M93=\"\",\"\",Schießkladde!M93)","v":""},{"$f":"IF(Schießkladde!N93=\"\",\"\",Schießkladde!N93)","v":""},{"$f":"IF(Schießkladde!O93=\"\",\"\",Schießkladde!O93)","v":""}]
[{"$f":"CONCATENATE(B93,\" \", C93,\" \",D93)","v":"  "},{"$f":"IF(Schießkladde!L94=\"\",\"\",Schießkladde!L94)","v":""},{"$f":"IF(Schießkladde!M94=\"\",\"\",Schießkladde!M94)","v":""},{"$f":"IF(Schießkladde!N94=\"\",\"\",Schießkladde!N94)","v":""},{"$f":"IF(Schießkladde!O94=\"\",\"\",Schießkladde!O94)","v":""}]
[{"$f":"CONCATENATE(B94,\" \", C94,\" \",D94)","v":"  "},{"$f":"IF(Schießkladde!L95=\"\",\"\",Schießkladde!L95)","v":""},{"$f":"IF(Schießkladde!M95=\"\",\"\",Schießkladde!M95)","v":""},{"$f":"IF(Schießkladde!N95=\"\",\"\",Schießkladde!N95)","v":""},{"$f":"IF(Schießkladde!O95=\"\",\"\",Schießkladde!O95)","v":""}]
[{"$f":"CONCATENATE(B95,\" \", C95,\" \",D95)","v":"  "},{"$f":"IF(Schießkladde!L96=\"\",\"\",Schießkladde!L96)","v":""},{"$f":"IF(Schießkladde!M96=\"\",\"\",Schießkladde!M96)","v":""},{"$f":"IF(Schießkladde!N96=\"\",\"\",Schießkladde!N96)","v":""},{"$f":"IF(Schießkladde!O96=\"\",\"\",Schießkladde!O96)","v":""}]
[{"$f":"CONCATENATE(B96,\" \", C96,\" \",D96)","v":"  "},{"$f":"IF(Schießkladde!L97=\"\",\"\",Schießkladde!L97)","v":""},{"$f":"IF(Schießkladde!M97=\"\",\"\",Schießkladde!M97)","v":""},{"$f":"IF(Schießkladde!N97=\"\",\"\",Schießkladde!N97)","v":""},{"$f":"IF(Schießkladde!O97=\"\",\"\",Schießkladde!O97)","v":""}]
[{"$f":"CONCATENATE(B97,\" \", C97,\" \",D97)","v":"  "},{"$f":"IF(Schießkladde!L98=\"\",\"\",Schießkladde!L98)","v":""},{"$f":"IF(Schießkladde!M98=\"\",\"\",Schießkladde!M98)","v":""},{"$f":"IF(Schießkladde!N98=\"\",\"\",Schießkladde!N98)","v":""},{"$f":"IF(Schießkladde!O98=\"\",\"\",Schießkladde!O98)","v":""}]
[{"$f":"CONCATENATE(B98,\" \", C98,\" \",D98)","v":"  "},{"$f":"IF(Schießkladde!L99=\"\",\"\",Schießkladde!L99)","v":""},{"$f":"IF(Schießkladde!M99=\"\",\"\",Schießkladde!M99)","v":""},{"$f":"IF(Schießkladde!N99=\"\",\"\",Schießkladde!N99)","v":""},{"$f":"IF(Schießkladde!O99=\"\",\"\",Schießkladde!O99)","v":""}]
[{"$f":"CONCATENATE(B99,\" \", C99,\" \",D99)","v":"  "},{"$f":"IF(Schießkladde!L100=\"\",\"\",Schießkladde!L100)","v":""},{"$f":"IF(Schießkladde!M100=\"\",\"\",Schießkladde!M100)","v":""},{"$f":"IF(Schießkladde!N100=\"\",\"\",Schießkladde!N100)","v":""},{"$f":"IF(Schießkladde!O100=\"\",\"\",Schießkladde!O100)","v":""}]
[{"$f":"CONCATENATE(B100,\" \", C100,\" \",D100)","v":"  "},{"$f":"IF(Schießkladde!L101=\"\",\"\",Schießkladde!L101)","v":""},{"$f":"IF(Schießkladde!M101=\"\",\"\",Schießkladde!M101)","v":""},{"$f":"IF(Schießkladde!N101=\"\",\"\",Schießkladde!N101)","v":""},{"$f":"IF(Schießkladde!O101=\"\",\"\",Schießkladde!O101)","v":""}]
[{"$f":"CONCATENATE(B101,\" \", C101,\" \",D101)","v":"  "},{"$f":"IF(Schießkladde!L102=\"\",\"\",Schießkladde!L102)","v":""},{"$f":"IF(Schießkladde!M102=\"\",\"\",Schießkladde!M102)","v":""},{"$f":"IF(Schießkladde!N102=\"\",\"\",Schießkladde!N102)","v":""},{"$f":"IF(Schießkladde!O102=\"\",\"\",Schießkladde!O102)","v":""},null,{"$f":"CONCATENATE(B101,\" \", C101,\" \",D101)","v":"  "}]
[{"$f":"CONCATENATE(B102,\" \", C102,\" \",D102)","v":"  "},{"$f":"IF(Schießkladde!L103=\"\",\"\",Schießkladde!L103)","v":""},{"$f":"IF(Schießkladde!M103=\"\",\"\",Schießkladde!M103)","v":""},{"$f":"IF(Schießkladde!N103=\"\",\"\",Schießkladde!N103)","v":""},{"$f":"IF(Schießkladde!O103=\"\",\"\",Schießkladde!O103)","v":""},null,{"$f":"CONCATENATE(B102,\" \", C102,\" \",D102)","v":"  "}]
[{"$f":"CONCATENATE(B103,\" \", C103,\" \",D103)","v":"  "},{"$f":"IF(Schießkladde!L104=\"\",\"\",Schießkladde!L104)","v":""},{"$f":"IF(Schießkladde!M104=\"\",\"\",Schießkladde!M104)","v":""},{"$f":"IF(Schießkladde!N104=\"\",\"\",Schießkladde!N104)","v":""},{"$f":"IF(Schießkladde!O104=\"\",\"\",Schießkladde!O104)","v":""},null,{"$f":"CONCATENATE(B103,\" \", C103,\" \",D103)","v":"  "}]
[{"$f":"CONCATENATE(B104,\" \", C104,\" \",D104)","v":"  "},{"$f":"IF(Schießkladde!L105=\"\",\"\",Schießkladde!L105)","v":""},{"$f":"IF(Schießkladde!M105=\"\",\"\",Schießkladde!M105)","v":""},{"$f":"IF(Schießkladde!N105=\"\",\"\",Schießkladde!N105)","v":""},{"$f":"IF(Schießkladde!O105=\"\",\"\",Schießkladde!O105)","v":""}]
[{"$f":"CONCATENATE(B105,\" \", C105,\" \",D105)","v":"  "},{"$f":"IF(Schießkladde!L106=\"\",\"\",Schießkladde!L106)","v":""},{"$f":"IF(Schießkladde!M106=\"\",\"\",Schießkladde!M106)","v":""},{"$f":"IF(Schießkladde!N106=\"\",\"\",Schießkladde!N106)","v":""},{"$f":"IF(Schießkladde!O106=\"\",\"\",Schießkladde!O106)","v":""}]
[{"$f":"CONCATENATE(B106,\" \", C106,\" \",D106)","v":"  "},{"$f":"IF(Schießkladde!L107=\"\",\"\",Schießkladde!L107)","v":""},{"$f":"IF(Schießkladde!M107=\"\",\"\",Schießkladde!M107)","v":""},{"$f":"IF(Schießkladde!N107=\"\",\"\",Schießkladde!N107)","v":""},{"$f":"IF(Schießkladde!O107=\"\",\"\",Schießkladde!O107)","v":""}]
[{"$f":"CONCATENATE(B107,\" \", C107,\" \",D107)","v":"  "},{"$f":"IF(Schießkladde!L108=\"\",\"\",Schießkladde!L108)","v":""},{"$f":"IF(Schießkladde!M108=\"\",\"\",Schießkladde!M108)","v":""},{"$f":"IF(Schießkladde!N108=\"\",\"\",Schießkladde!N108)","v":""},{"$f":"IF(Schießkladde!O108=\"\",\"\",Schießkladde!O108)","v":""}]
[{"$f":"CONCATENATE(B108,\" \", C108,\" \",D108)","v":"  "},{"$f":"IF(Schießkladde!L109=\"\",\"\",Schießkladde!L109)","v":""},{"$f":"IF(Schießkladde!M109=\"\",\"\",Schießkladde!M109)","v":""},{"$f":"IF(Schießkladde!N109=\"\",\"\",Schießkladde!N109)","v":""},{"$f":"IF(Schießkladde!O109=\"\",\"\",Schießkladde!O109)","v":""}]
[{"$f":"CONCATENATE(B109,\" \", C109,\" \",D109)","v":"  "},{"$f":"IF(Schießkladde!L110=\"\",\"\",Schießkladde!L110)","v":""},{"$f":"IF(Schießkladde!M110=\"\",\"\",Schießkladde!M110)","v":""},{"$f":"IF(Schießkladde!N110=\"\",\"\",Schießkladde!N110)","v":""},{"$f":"IF(Schießkladde!O110=\"\",\"\",Schießkladde!O110)","v":""}]
[{"$f":"CONCATENATE(B110,\" \", C110,\" \",D110)","v":"  "},{"$f":"IF(Schießkladde!L111=\"\",\"\",Schießkladde!L111)","v":""},{"$f":"IF(Schießkladde!M111=\"\",\"\",Schießkladde!M111)","v":""},{"$f":"IF(Schießkladde!N111=\"\",\"\",Schießkladde!N111)","v":""},{"$f":"IF(Schießkladde!O111=\"\",\"\",Schießkladde!O111)","v":""}]
[{"$f":"CONCATENATE(B111,\" \", C111,\" \",D111)","v":"  "},{"$f":"IF(Schießkladde!L112=\"\",\"\",Schießkladde!L112)","v":""},{"$f":"IF(Schießkladde!M112=\"\",\"\",Schießkladde!M112)","v":""},{"$f":"IF(Schießkladde!N112=\"\",\"\",Schießkladde!N112)","v":""},{"$f":"IF(Schießkladde!O112=\"\",\"\",Schießkladde!O112)","v":""}]
[{"$f":"CONCATENATE(B112,\" \", C112,\" \",D112)","v":"  "},{"$f":"IF(Schießkladde!L113=\"\",\"\",Schießkladde!L113)","v":""},{"$f":"IF(Schießkladde!M113=\"\",\"\",Schießkladde!M113)","v":""},{"$f":"IF(Schießkladde!N113=\"\",\"\",Schießkladde!N113)","v":""},{"$f":"IF(Schießkladde!O113=\"\",\"\",Schießkladde!O113)","v":""}]
[{"$f":"CONCATENATE(B113,\" \", C113,\" \",D113)","v":"  "},{"$f":"IF(Schießkladde!L114=\"\",\"\",Schießkladde!L114)","v":""},{"$f":"IF(Schießkladde!M114=\"\",\"\",Schießkladde!M114)","v":""},{"$f":"IF(Schießkladde!N114=\"\",\"\",Schießkladde!N114)","v":""},{"$f":"IF(Schießkladde!O114=\"\",\"\",Schießkladde!O114)","v":""}]
[{"$f":"CONCATENATE(B114,\" \", C114,\" \",D114)","v":"  "},{"$f":"IF(Schießkladde!L115=\"\",\"\",Schießkladde!L115)","v":""},{"$f":"IF(Schießkladde!M115=\"\",\"\",Schießkladde!M115)","v":""},{"$f":"IF(Schießkladde!N115=\"\",\"\",Schießkladde!N115)","v":""},{"$f":"IF(Schießkladde!O115=\"\",\"\",Schießkladde!O115)","v":""}]
[{"$f":"CONCATENATE(B115,\" \", C115,\" \",D115)","v":"  "},{"$f":"IF(Schießkladde!L116=\"\",\"\",Schießkladde!L116)","v":""},{"$f":"IF(Schießkladde!M116=\"\",\"\",Schießkladde!M116)","v":""},{"$f":"IF(Schießkladde!N116=\"\",\"\",Schießkladde!N116)","v":""},{"$f":"IF(Schießkladde!O116=\"\",\"\",Schießkladde!O116)","v":""}]
[{"$f":"CONCATENATE(B116,\" \", C116,\" \",D116)","v":"  "},{"$f":"IF(Schießkladde!L117=\"\",\"\",Schießkladde!L117)","v":""},{"$f":"IF(Schießkladde!M117=\"\",\"\",Schießkladde!M117)","v":""},{"$f":"IF(Schießkladde!N117=\"\",\"\",Schießkladde!N117)","v":""},{"$f":"IF(Schießkladde!O117=\"\",\"\",Schießkladde!O117)","v":""}]
[{"$f":"CONCATENATE(B117,\" \", C117,\" \",D117)","v":"  "},{"$f":"IF(Schießkladde!L118=\"\",\"\",Schießkladde!L118)","v":""},{"$f":"IF(Schießkladde!M118=\"\",\"\",Schießkladde!M118)","v":""},{"$f":"IF(Schießkladde!N118=\"\",\"\",Schießkladde!N118)","v":""},{"$f":"IF(Schießkladde!O118=\"\",\"\",Schießkladde!O118)","v":""}]
[{"$f":"CONCATENATE(B118,\" \", C118,\" \",D118)","v":"  "},{"$f":"IF(Schießkladde!L119=\"\",\"\",Schießkladde!L119)","v":""},{"$f":"IF(Schießkladde!M119=\"\",\"\",Schießkladde!M119)","v":""},{"$f":"IF(Schießkladde!N119=\"\",\"\",Schießkladde!N119)","v":""},{"$f":"IF(Schießkladde!O119=\"\",\"\",Schießkladde!O119)","v":""}]
[{"$f":"CONCATENATE(B119,\" \", C119,\" \",D119)","v":"  "},{"$f":"IF(Schießkladde!L120=\"\",\"\",Schießkladde!L120)","v":""},{"$f":"IF(Schießkladde!M120=\"\",\"\",Schießkladde!M120)","v":""},{"$f":"IF(Schießkladde!N120=\"\",\"\",Schießkladde!N120)","v":""},{"$f":"IF(Schießkladde!O120=\"\",\"\",Schießkladde!O120)","v":""}]
[{"$f":"CONCATENATE(B120,\" \", C120,\" \",D120)","v":"  "},{"$f":"IF(Schießkladde!L121=\"\",\"\",Schießkladde!L121)","v":""},{"$f":"IF(Schießkladde!M121=\"\",\"\",Schießkladde!M121)","v":""},{"$f":"IF(Schießkladde!N121=\"\",\"\",Schießkladde!N121)","v":""},{"$f":"IF(Schießkladde!O121=\"\",\"\",Schießkladde!O121)","v":""}]
[{"$f":"CONCATENATE(B121,\" \", C121,\" \",D121)","v":"  "},{"$f":"IF(Schießkladde!L122=\"\",\"\",Schießkladde!L122)","v":""},{"$f":"IF(Schießkladde!M122=\"\",\"\",Schießkladde!M122)","v":""},{"$f":"IF(Schießkladde!N122=\"\",\"\",Schießkladde!N122)","v":""},{"$f":"IF(Schießkladde!O122=\"\",\"\",Schießkladde!O122)","v":""}]
[{"$f":"CONCATENATE(B122,\" \", C122,\" \",D122)","v":"  "},{"$f":"IF(Schießkladde!L123=\"\",\"\",Schießkladde!L123)","v":""},{"$f":"IF(Schießkladde!M123=\"\",\"\",Schießkladde!M123)","v":""},{"$f":"IF(Schießkladde!N123=\"\",\"\",Schießkladde!N123)","v":""},{"$f":"IF(Schießkladde!O123=\"\",\"\",Schießkladde!O123)","v":""}]
[{"$f":"CONCATENATE(B123,\" \", C123,\" \",D123)","v":"  "},{"$f":"IF(Schießkladde!L124=\"\",\"\",Schießkladde!L124)","v":""},{"$f":"IF(Schießkladde!M124=\"\",\"\",Schießkladde!M124)","v":""},{"$f":"IF(Schießkladde!N124=\"\",\"\",Schießkladde!N124)","v":""},{"$f":"IF(Schießkladde!O124=\"\",\"\",Schießkladde!O124)","v":""}]
[{"$f":"CONCATENATE(B124,\" \", C124,\" \",D124)","v":"  "},{"$f":"IF(Schießkladde!L125=\"\",\"\",Schießkladde!L125)","v":""},{"$f":"IF(Schießkladde!M125=\"\",\"\",Schießkladde!M125)","v":""},{"$f":"IF(Schießkladde!N125=\"\",\"\",Schießkladde!N125)","v":""},{"$f":"IF(Schießkladde!O125=\"\",\"\",Schießkladde!O125)","v":""}]
[{"$f":"CONCATENATE(B125,\" \", C125,\" \",D125)","v":"  "},{"$f":"IF(Schießkladde!L126=\"\",\"\",Schießkladde!L126)","v":""},{"$f":"IF(Schießkladde!M126=\"\",\"\",Schießkladde!M126)","v":""},{"$f":"IF(Schießkladde!N126=\"\",\"\",Schießkladde!N126)","v":""},{"$f":"IF(Schießkladde!O126=\"\",\"\",Schießkladde!O126)","v":""}]
[{"$f":"CONCATENATE(B126,\" \", C126,\" \",D126)","v":"  "},{"$f":"IF(Schießkladde!L127=\"\",\"\",Schießkladde!L127)","v":""},{"$f":"IF(Schießkladde!M127=\"\",\"\",Schießkladde!M127)","v":""},{"$f":"IF(Schießkladde!N127=\"\",\"\",Schießkladde!N127)","v":""},{"$f":"IF(Schießkladde!O127=\"\",\"\",Schießkladde!O127)","v":""}]
[{"$f":"CONCATENATE(B127,\" \", C127,\" \",D127)","v":"  "},{"$f":"IF(Schießkladde!L128=\"\",\"\",Schießkladde!L128)","v":""},{"$f":"IF(Schießkladde!M128=\"\",\"\",Schießkladde!M128)","v":""},{"$f":"IF(Schießkladde!N128=\"\",\"\",Schießkladde!N128)","v":""},{"$f":"IF(Schießkladde!O128=\"\",\"\",Schießkladde!O128)","v":""}]
[{"$f":"CONCATENATE(B128,\" \", C128,\" \",D128)","v":"  "},{"$f":"IF(Schießkladde!L129=\"\",\"\",Schießkladde!L129)","v":""},{"$f":"IF(Schießkladde!M129=\"\",\"\",Schießkladde!M129)","v":""},{"$f":"IF(Schießkladde!N129=\"\",\"\",Schießkladde!N129)","v":""},{"$f":"IF(Schießkladde!O129=\"\",\"\",Schießkladde!O129)","v":""}]
[{"$f":"CONCATENATE(B129,\" \", C129,\" \",D129)","v":"  "},{"$f":"IF(Schießkladde!L130=\"\",\"\",Schießkladde!L130)","v":""},{"$f":"IF(Schießkladde!M130=\"\",\"\",Schießkladde!M130)","v":""},{"$f":"IF(Schießkladde!N130=\"\",\"\",Schießkladde!N130)","v":""},{"$f":"IF(Schießkladde!O130=\"\",\"\",Schießkladde!O130)","v":""}]
[{"$f":"CONCATENATE(B130,\" \", C130,\" \",D130)","v":"  "},{"$f":"IF(Schießkladde!L131=\"\",\"\",Schießkladde!L131)","v":""},{"$f":"IF(Schießkladde!M131=\"\",\"\",Schießkladde!M131)","v":""},{"$f":"IF(Schießkladde!N131=\"\",\"\",Schießkladde!N131)","v":""},{"$f":"IF(Schießkladde!O131=\"\",\"\",Schießkladde!O131)","v":""}]
[{"$f":"CONCATENATE(B131,\" \", C131,\" \",D131)","v":"  "},{"$f":"IF(Schießkladde!L132=\"\",\"\",Schießkladde!L132)","v":""},{"$f":"IF(Schießkladde!M132=\"\",\"\",Schießkladde!M132)","v":""},{"$f":"IF(Schießkladde!N132=\"\",\"\",Schießkladde!N132)","v":""},{"$f":"IF(Schießkladde!O132=\"\",\"\",Schießkladde!O132)","v":""}]
[{"$f":"CONCATENATE(B132,\" \", C132,\" \",D132)","v":"  "},{"$f":"IF(Schießkladde!L133=\"\",\"\",Schießkladde!L133)","v":""},{"$f":"IF(Schießkladde!M133=\"\",\"\",Schießkladde!M133)","v":""},{"$f":"IF(Schießkladde!N133=\"\",\"\",Schießkladde!N133)","v":""},{"$f":"IF(Schießkladde!O133=\"\",\"\",Schießkladde!O133)","v":""}]
[{"$f":"CONCATENATE(B133,\" \", C133,\" \",D133)","v":"  "},{"$f":"IF(Schießkladde!L134=\"\",\"\",Schießkladde!L134)","v":""},{"$f":"IF(Schießkladde!M134=\"\",\"\",Schießkladde!M134)","v":""},{"$f":"IF(Schießkladde!N134=\"\",\"\",Schießkladde!N134)","v":""},{"$f":"IF(Schießkladde!O134=\"\",\"\",Schießkladde!O134)","v":""}]
[{"$f":"CONCATENATE(B134,\" \", C134,\" \",D134)","v":"  "},{"$f":"IF(Schießkladde!L135=\"\",\"\",Schießkladde!L135)","v":""},{"$f":"IF(Schießkladde!M135=\"\",\"\",Schießkladde!M135)","v":""},{"$f":"IF(Schießkladde!N135=\"\",\"\",Schießkladde!N135)","v":""},{"$f":"IF(Schießkladde!O135=\"\",\"\",Schießkladde!O135)","v":""}]
[{"$f":"CONCATENATE(B135,\" \", C135,\" \",D135)","v":"  "},{"$f":"IF(Schießkladde!L136=\"\",\"\",Schießkladde!L136)","v":""},{"$f":"IF(Schießkladde!M136=\"\",\"\",Schießkladde!M136)","v":""},{"$f":"IF(Schießkladde!N136=\"\",\"\",Schießkladde!N136)","v":""},{"$f":"IF(Schießkladde!O136=\"\",\"\",Schießkladde!O136)","v":""}]
[{"$f":"CONCATENATE(B136,\" \", C136,\" \",D136)","v":"  "},{"$f":"IF(Schießkladde!L137=\"\",\"\",Schießkladde!L137)","v":""},{"$f":"IF(Schießkladde!M137=\"\",\"\",Schießkladde!M137)","v":""},{"$f":"IF(Schießkladde!N137=\"\",\"\",Schießkladde!N137)","v":""},{"$f":"IF(Schießkladde!O137=\"\",\"\",Schießkladde!O137)","v":""}]
[{"$f":"CONCATENATE(B137,\" \", C137,\" \",D137)","v":"  "},{"$f":"IF(Schießkladde!L138=\"\",\"\",Schießkladde!L138)","v":""},{"$f":"IF(Schießkladde!M138=\"\",\"\",Schießkladde!M138)","v":""},{"$f":"IF(Schießkladde!N138=\"\",\"\",Schießkladde!N138)","v":""},{"$f":"IF(Schießkladde!O138=\"\",\"\",Schießkladde!O138)","v":""}]
[{"$f":"CONCATENATE(B138,\" \", C138,\" \",D138)","v":"  "},{"$f":"IF(Schießkladde!L139=\"\",\"\",Schießkladde!L139)","v":""},{"$f":"IF(Schießkladde!M139=\"\",\"\",Schießkladde!M139)","v":""},{"$f":"IF(Schießkladde!N139=\"\",\"\",Schießkladde!N139)","v":""},{"$f":"IF(Schießkladde!O139=\"\",\"\",Schießkladde!O139)","v":""}]
[{"$f":"CONCATENATE(B139,\" \", C139,\" \",D139)","v":"  "},{"$f":"IF(Schießkladde!L140=\"\",\"\",Schießkladde!L140)","v":""},{"$f":"IF(Schießkladde!M140=\"\",\"\",Schießkladde!M140)","v":""},{"$f":"IF(Schießkladde!N140=\"\",\"\",Schießkladde!N140)","v":""},{"$f":"IF(Schießkladde!O140=\"\",\"\",Schießkladde!O140)","v":""}]
[{"$f":"CONCATENATE(B140,\" \", C140,\" \",D140)","v":"  "},{"$f":"IF(Schießkladde!L141=\"\",\"\",Schießkladde!L141)","v":""},{"$f":"IF(Schießkladde!M141=\"\",\"\",Schießkladde!M141)","v":""},{"$f":"IF(Schießkladde!N141=\"\",\"\",Schießkladde!N141)","v":""},{"$f":"IF(Schießkladde!O141=\"\",\"\",Schießkladde!O141)","v":""}]
[{"$f":"CONCATENATE(B141,\" \", C141,\" \",D141)","v":"  "},{"$f":"IF(Schießkladde!L142=\"\",\"\",Schießkladde!L142)","v":""},{"$f":"IF(Schießkladde!M142=\"\",\"\",Schießkladde!M142)","v":""},{"$f":"IF(Schießkladde!N142=\"\",\"\",Schießkladde!N142)","v":""},{"$f":"IF(Schießkladde!O142=\"\",\"\",Schießkladde!O142)","v":""}]
[{"$f":"CONCATENATE(B142,\" \", C142,\" \",D142)","v":"  "},{"$f":"IF(Schießkladde!L143=\"\",\"\",Schießkladde!L143)","v":""},{"$f":"IF(Schießkladde!M143=\"\",\"\",Schießkladde!M143)","v":""},{"$f":"IF(Schießkladde!N143=\"\",\"\",Schießkladde!N143)","v":""},{"$f":"IF(Schießkladde!O143=\"\",\"\",Schießkladde!O143)","v":""}]
[{"$f":"CONCATENATE(B143,\" \", C143,\" \",D143)","v":"  "},{"$f":"IF(Schießkladde!L144=\"\",\"\",Schießkladde!L144)","v":""},{"$f":"IF(Schießkladde!M144=\"\",\"\",Schießkladde!M144)","v":""},{"$f":"IF(Schießkladde!N144=\"\",\"\",Schießkladde!N144)","v":""},{"$f":"IF(Schießkladde!O144=\"\",\"\",Schießkladde!O144)","v":""}]
[{"$f":"CONCATENATE(B144,\" \", C144,\" \",D144)","v":"  "},{"$f":"IF(Schießkladde!L145=\"\",\"\",Schießkladde!L145)","v":""},{"$f":"IF(Schießkladde!M145=\"\",\"\",Schießkladde!M145)","v":""},{"$f":"IF(Schießkladde!N145=\"\",\"\",Schießkladde!N145)","v":""},{"$f":"IF(Schießkladde!O145=\"\",\"\",Schießkladde!O145)","v":""}]
[{"$f":"CONCATENATE(B145,\" \", C145,\" \",D145)","v":"  "},{"$f":"IF(Schießkladde!L146=\"\",\"\",Schießkladde!L146)","v":""},{"$f":"IF(Schießkladde!M146=\"\",\"\",Schießkladde!M146)","v":""},{"$f":"IF(Schießkladde!N146=\"\",\"\",Schießkladde!N146)","v":""},{"$f":"IF(Schießkladde!O146=\"\",\"\",Schießkladde!O146)","v":""}]
[{"$f":"CONCATENATE(B146,\" \", C146,\" \",D146)","v":"  "},{"$f":"IF(Schießkladde!L147=\"\",\"\",Schießkladde!L147)","v":""},{"$f":"IF(Schießkladde!M147=\"\",\"\",Schießkladde!M147)","v":""},{"$f":"IF(Schießkladde!N147=\"\",\"\",Schießkladde!N147)","v":""},{"$f":"IF(Schießkladde!O147=\"\",\"\",Schießkladde!O147)","v":""}]
[{"$f":"CONCATENATE(B147,\" \", C147,\" \",D147)","v":"  "},{"$f":"IF(Schießkladde!L148=\"\",\"\",Schießkladde!L148)","v":""},{"$f":"IF(Schießkladde!M148=\"\",\"\",Schießkladde!M148)","v":""},{"$f":"IF(Schießkladde!N148=\"\",\"\",Schießkladde!N148)","v":""},{"$f":"IF(Schießkladde!O148=\"\",\"\",Schießkladde!O148)","v":""}]
[{"$f":"CONCATENATE(B148,\" \", C148,\" \",D148)","v":"  "},{"$f":"IF(Schießkladde!L149=\"\",\"\",Schießkladde!L149)","v":""},{"$f":"IF(Schießkladde!M149=\"\",\"\",Schießkladde!M149)","v":""},{"$f":"IF(Schießkladde!N149=\"\",\"\",Schießkladde!N149)","v":""},{"$f":"IF(Schießkladde!O149=\"\",\"\",Schießkladde!O149)","v":""}]
[{"$f":"CONCATENATE(B149,\" \", C149,\" \",D149)","v":"  "},{"$f":"IF(Schießkladde!L150=\"\",\"\",Schießkladde!L150)","v":""},{"$f":"IF(Schießkladde!M150=\"\",\"\",Schießkladde!M150)","v":""},{"$f":"IF(Schießkladde!N150=\"\",\"\",Schießkladde!N150)","v":""},{"$f":"IF(Schießkladde!O150=\"\",\"\",Schießkladde!O150)","v":""}]
[{"$f":"CONCATENATE(B150,\" \", C150,\" \",D150)","v":"  "},{"$f":"IF(Schießkladde!L151=\"\",\"\",Schießkladde!L151)","v":""},{"$f":"IF(Schießkladde!M151=\"\",\"\",Schießkladde!M151)","v":""},{"$f":"IF(Schießkladde!N151=\"\",\"\",Schießkladde!N151)","v":""},{"$f":"IF(Schießkladde!O151=\"\",\"\",Schießkladde!O151)","v":""}]
[{"$f":"CONCATENATE(B151,\" \", C151,\" \",D151)","v":"  "},{"$f":"IF(Schießkladde!L152=\"\",\"\",Schießkladde!L152)","v":""},{"$f":"IF(Schießkladde!M152=\"\",\"\",Schießkladde!M152)","v":""},{"$f":"IF(Schießkladde!N152=\"\",\"\",Schießkladde!N152)","v":""},{"$f":"IF(Schießkladde!O152=\"\",\"\",Schießkladde!O152)","v":""}]
[{"$f":"CONCATENATE(B152,\" \", C152,\" \",D152)","v":"  "},{"$f":"IF(Schießkladde!L153=\"\",\"\",Schießkladde!L153)","v":""},{"$f":"IF(Schießkladde!M153=\"\",\"\",Schießkladde!M153)","v":""},{"$f":"IF(Schießkladde!N153=\"\",\"\",Schießkladde!N153)","v":""},{"$f":"IF(Schießkladde!O153=\"\",\"\",Schießkladde!O153)","v":""}]
[{"$f":"CONCATENATE(B153,\" \", C153,\" \",D153)","v":"  "},{"$f":"IF(Schießkladde!L154=\"\",\"\",Schießkladde!L154)","v":""},{"$f":"IF(Schießkladde!M154=\"\",\"\",Schießkladde!M154)","v":""},{"$f":"IF(Schießkladde!N154=\"\",\"\",Schießkladde!N154)","v":""},{"$f":"IF(Schießkladde!O154=\"\",\"\",Schießkladde!O154)","v":""}]
[{"$f":"CONCATENATE(B154,\" \", C154,\" \",D154)","v":"  "},{"$f":"IF(Schießkladde!L155=\"\",\"\",Schießkladde!L155)","v":""},{"$f":"IF(Schießkladde!M155=\"\",\"\",Schießkladde!M155)","v":""},{"$f":"IF(Schießkladde!N155=\"\",\"\",Schießkladde!N155)","v":""},{"$f":"IF(Schießkladde!O155=\"\",\"\",Schießkladde!O155)","v":""}]
[{"$f":"CONCATENATE(B155,\" \", C155,\" \",D155)","v":"  "},{"$f":"IF(Schießkladde!L156=\"\",\"\",Schießkladde!L156)","v":""},{"$f":"IF(Schießkladde!M156=\"\",\"\",Schießkladde!M156)","v":""},{"$f":"IF(Schießkladde!N156=\"\",\"\",Schießkladde!N156)","v":""},{"$f":"IF(Schießkladde!O156=\"\",\"\",Schießkladde!O156)","v":""}]
[{"$f":"CONCATENATE(B156,\" \", C156,\" \",D156)","v":"  "},{"$f":"IF(Schießkladde!L157=\"\",\"\",Schießkladde!L157)","v":""},{"$f":"IF(Schießkladde!M157=\"\",\"\",Schießkladde!M157)","v":""},{"$f":"IF(Schießkladde!N157=\"\",\"\",Schießkladde!N157)","v":""},{"$f":"IF(Schießkladde!O157=\"\",\"\",Schießkladde!O157)","v":""}]
[{"$f":"CONCATENATE(B157,\" \", C157,\" \",D157)","v":"  "},{"$f":"IF(Schießkladde!L158=\"\",\"\",Schießkladde!L158)","v":""},{"$f":"IF(Schießkladde!M158=\"\",\"\",Schießkladde!M158)","v":""},{"$f":"IF(Schießkladde!N158=\"\",\"\",Schießkladde!N158)","v":""},{"$f":"IF(Schießkladde!O158=\"\",\"\",Schießkladde!O158)","v":""}]
[{"$f":"CONCATENATE(B158,\" \", C158,\" \",D158)","v":"  "},{"$f":"IF(Schießkladde!L159=\"\",\"\",Schießkladde!L159)","v":""},{"$f":"IF(Schießkladde!M159=\"\",\"\",Schießkladde!M159)","v":""},{"$f":"IF(Schießkladde!N159=\"\",\"\",Schießkladde!N159)","v":""},{"$f":"IF(Schießkladde!O159=\"\",\"\",Schießkladde!O159)","v":""}]
[{"$f":"CONCATENATE(B159,\" \", C159,\" \",D159)","v":"  "},{"$f":"IF(Schießkladde!L160=\"\",\"\",Schießkladde!L160)","v":""},{"$f":"IF(Schießkladde!M160=\"\",\"\",Schießkladde!M160)","v":""},{"$f":"IF(Schießkladde!N160=\"\",\"\",Schießkladde!N160)","v":""},{"$f":"IF(Schießkladde!O160=\"\",\"\",Schießkladde!O160)","v":""}]
[{"$f":"CONCATENATE(B160,\" \", C160,\" \",D160)","v":"  "},{"$f":"IF(Schießkladde!L161=\"\",\"\",Schießkladde!L161)","v":""},{"$f":"IF(Schießkladde!M161=\"\",\"\",Schießkladde!M161)","v":""},{"$f":"IF(Schießkladde!N161=\"\",\"\",Schießkladde!N161)","v":""},{"$f":"IF(Schießkladde!O161=\"\",\"\",Schießkladde!O161)","v":""}]
[{"$f":"CONCATENATE(B161,\" \", C161,\" \",D161)","v":"  "},{"$f":"IF(Schießkladde!L162=\"\",\"\",Schießkladde!L162)","v":""},{"$f":"IF(Schießkladde!M162=\"\",\"\",Schießkladde!M162)","v":""},{"$f":"IF(Schießkladde!N162=\"\",\"\",Schießkladde!N162)","v":""},{"$f":"IF(Schießkladde!O162=\"\",\"\",Schießkladde!O162)","v":""}]
[{"$f":"CONCATENATE(B162,\" \", C162,\" \",D162)","v":"  "},{"$f":"IF(Schießkladde!L163=\"\",\"\",Schießkladde!L163)","v":""},{"$f":"IF(Schießkladde!M163=\"\",\"\",Schießkladde!M163)","v":""},{"$f":"IF(Schießkladde!N163=\"\",\"\",Schießkladde!N163)","v":""},{"$f":"IF(Schießkladde!O163=\"\",\"\",Schießkladde!O163)","v":""}]
[{"$f":"CONCATENATE(B163,\" \", C163,\" \",D163)","v":"  "},{"$f":"IF(Schießkladde!L164=\"\",\"\",Schießkladde!L164)","v":""},{"$f":"IF(Schießkladde!M164=\"\",\"\",Schießkladde!M164)","v":""},{"$f":"IF(Schießkladde!N164=\"\",\"\",Schießkladde!N164)","v":""},{"$f":"IF(Schießkladde!O164=\"\",\"\",Schießkladde!O164)","v":""}]
[{"$f":"CONCATENATE(B164,\" \", C164,\" \",D164)","v":"  "},{"$f":"IF(Schießkladde!L165=\"\",\"\",Schießkladde!L165)","v":""},{"$f":"IF(Schießkladde!M165=\"\",\"\",Schießkladde!M165)","v":""},{"$f":"IF(Schießkladde!N165=\"\",\"\",Schießkladde!N165)","v":""},{"$f":"IF(Schießkladde!O165=\"\",\"\",Schießkladde!O165)","v":""}]
[{"$f":"CONCATENATE(B165,\" \", C165,\" \",D165)","v":"  "},{"$f":"IF(Schießkladde!L166=\"\",\"\",Schießkladde!L166)","v":""},{"$f":"IF(Schießkladde!M166=\"\",\"\",Schießkladde!M166)","v":""},{"$f":"IF(Schießkladde!N166=\"\",\"\",Schießkladde!N166)","v":""},{"$f":"IF(Schießkladde!O166=\"\",\"\",Schießkladde!O166)","v":""}]
[{"$f":"CONCATENATE(B166,\" \", C166,\" \",D166)","v":"  "},{"$f":"IF(Schießkladde!L167=\"\",\"\",Schießkladde!L167)","v":""},{"$f":"IF(Schießkladde!M167=\"\",\"\",Schießkladde!M167)","v":""},{"$f":"IF(Schießkladde!N167=\"\",\"\",Schießkladde!N167)","v":""},{"$f":"IF(Schießkladde!O167=\"\",\"\",Schießkladde!O167)","v":""}]
[{"$f":"CONCATENATE(B167,\" \", C167,\" \",D167)","v":"  "},{"$f":"IF(Schießkladde!L168=\"\",\"\",Schießkladde!L168)","v":""},{"$f":"IF(Schießkladde!M168=\"\",\"\",Schießkladde!M168)","v":""},{"$f":"IF(Schießkladde!N168=\"\",\"\",Schießkladde!N168)","v":""},{"$f":"IF(Schießkladde!O168=\"\",\"\",Schießkladde!O168)","v":""}]
[{"$f":"CONCATENATE(B168,\" \", C168,\" \",D168)","v":"  "},{"$f":"IF(Schießkladde!L169=\"\",\"\",Schießkladde!L169)","v":""},{"$f":"IF(Schießkladde!M169=\"\",\"\",Schießkladde!M169)","v":""},{"$f":"IF(Schießkladde!N169=\"\",\"\",Schießkladde!N169)","v":""},{"$f":"IF(Schießkladde!O169=\"\",\"\",Schießkladde!O169)","v":""}]
[{"$f":"CONCATENATE(B169,\" \", C169,\" \",D169)","v":"  "},{"$f":"IF(Schießkladde!L170=\"\",\"\",Schießkladde!L170)","v":""},{"$f":"IF(Schießkladde!M170=\"\",\"\",Schießkladde!M170)","v":""},{"$f":"IF(Schießkladde!N170=\"\",\"\",Schießkladde!N170)","v":""},{"$f":"IF(Schießkladde!O170=\"\",\"\",Schießkladde!O170)","v":""}]
[{"$f":"CONCATENATE(B170,\" \", C170,\" \",D170)","v":"  "},{"$f":"IF(Schießkladde!L171=\"\",\"\",Schießkladde!L171)","v":""},{"$f":"IF(Schießkladde!M171=\"\",\"\",Schießkladde!M171)","v":""},{"$f":"IF(Schießkladde!N171=\"\",\"\",Schießkladde!N171)","v":""},{"$f":"IF(Schießkladde!O171=\"\",\"\",Schießkladde!O171)","v":""}]
[{"$f":"CONCATENATE(B171,\" \", C171,\" \",D171)","v":"  "},{"$f":"IF(Schießkladde!L172=\"\",\"\",Schießkladde!L172)","v":""},{"$f":"IF(Schießkladde!M172=\"\",\"\",Schießkladde!M172)","v":""},{"$f":"IF(Schießkladde!N172=\"\",\"\",Schießkladde!N172)","v":""},{"$f":"IF(Schießkladde!O172=\"\",\"\",Schießkladde!O172)","v":""}]
[{"$f":"CONCATENATE(B172,\" \", C172,\" \",D172)","v":"  "},{"$f":"IF(Schießkladde!L173=\"\",\"\",Schießkladde!L173)","v":""},{"$f":"IF(Schießkladde!M173=\"\",\"\",Schießkladde!M173)","v":""},{"$f":"IF(Schießkladde!N173=\"\",\"\",Schießkladde!N173)","v":""},{"$f":"IF(Schießkladde!O173=\"\",\"\",Schießkladde!O173)","v":""}]
[{"$f":"CONCATENATE(B173,\" \", C173,\" \",D173)","v":"  "},{"$f":"IF(Schießkladde!L174=\"\",\"\",Schießkladde!L174)","v":""},{"$f":"IF(Schießkladde!M174=\"\",\"\",Schießkladde!M174)","v":""},{"$f":"IF(Schießkladde!N174=\"\",\"\",Schießkladde!N174)","v":""},{"$f":"IF(Schießkladde!O174=\"\",\"\",Schießkladde!O174)","v":""}]
[{"$f":"CONCATENATE(B174,\" \", C174,\" \",D174)","v":"  "},{"$f":"IF(Schießkladde!L175=\"\",\"\",Schießkladde!L175)","v":""},{"$f":"IF(Schießkladde!M175=\"\",\"\",Schießkladde!M175)","v":""},{"$f":"IF(Schießkladde!N175=\"\",\"\",Schießkladde!N175)","v":""},{"$f":"IF(Schießkladde!O175=\"\",\"\",Schießkladde!O175)","v":""}]
[{"$f":"CONCATENATE(B175,\" \", C175,\" \",D175)","v":"  "},{"$f":"IF(Schießkladde!L176=\"\",\"\",Schießkladde!L176)","v":""},{"$f":"IF(Schießkladde!M176=\"\",\"\",Schießkladde!M176)","v":""},{"$f":"IF(Schießkladde!N176=\"\",\"\",Schießkladde!N176)","v":""},{"$f":"IF(Schießkladde!O176=\"\",\"\",Schießkladde!O176)","v":""}]
[{"$f":"CONCATENATE(B176,\" \", C176,\" \",D176)","v":"  "},{"$f":"IF(Schießkladde!L177=\"\",\"\",Schießkladde!L177)","v":""},{"$f":"IF(Schießkladde!M177=\"\",\"\",Schießkladde!M177)","v":""},{"$f":"IF(Schießkladde!N177=\"\",\"\",Schießkladde!N177)","v":""},{"$f":"IF(Schießkladde!O177=\"\",\"\",Schießkladde!O177)","v":""}]
[{"$f":"CONCATENATE(B177,\" \", C177,\" \",D177)","v":"  "},{"$f":"IF(Schießkladde!L178=\"\",\"\",Schießkladde!L178)","v":""},{"$f":"IF(Schießkladde!M178=\"\",\"\",Schießkladde!M178)","v":""},{"$f":"IF(Schießkladde!N178=\"\",\"\",Schießkladde!N178)","v":""},{"$f":"IF(Schießkladde!O178=\"\",\"\",Schießkladde!O178)","v":""}]
[{"$f":"CONCATENATE(B178,\" \", C178,\" \",D178)","v":"  "},{"$f":"IF(Schießkladde!L179=\"\",\"\",Schießkladde!L179)","v":""},{"$f":"IF(Schießkladde!M179=\"\",\"\",Schießkladde!M179)","v":""},{"$f":"IF(Schießkladde!N179=\"\",\"\",Schießkladde!N179)","v":""},{"$f":"IF(Schießkladde!O179=\"\",\"\",Schießkladde!O179)","v":""}]
[{"$f":"CONCATENATE(B179,\" \", C179,\" \",D179)","v":"  "},{"$f":"IF(Schießkladde!L180=\"\",\"\",Schießkladde!L180)","v":""},{"$f":"IF(Schießkladde!M180=\"\",\"\",Schießkladde!M180)","v":""},{"$f":"IF(Schießkladde!N180=\"\",\"\",Schießkladde!N180)","v":""},{"$f":"IF(Schießkladde!O180=\"\",\"\",Schießkladde!O180)","v":""}]
[{"$f":"CONCATENATE(B180,\" \", C180,\" \",D180)","v":"  "},{"$f":"IF(Schießkladde!L181=\"\",\"\",Schießkladde!L181)","v":""},{"$f":"IF(Schießkladde!M181=\"\",\"\",Schießkladde!M181)","v":""},{"$f":"IF(Schießkladde!N181=\"\",\"\",Schießkladde!N181)","v":""},{"$f":"IF(Schießkladde!O181=\"\",\"\",Schießkladde!O181)","v":""}]
[{"$f":"CONCATENATE(B181,\" \", C181,\" \",D181)","v":"  "},{"$f":"IF(Schießkladde!L182=\"\",\"\",Schießkladde!L182)","v":""},{"$f":"IF(Schießkladde!M182=\"\",\"\",Schießkladde!M182)","v":""},{"$f":"IF(Schießkladde!N182=\"\",\"\",Schießkladde!N182)","v":""},{"$f":"IF(Schießkladde!O182=\"\",\"\",Schießkladde!O182)","v":""}]
[{"$f":"CONCATENATE(B182,\" \", C182,\" \",D182)","v":"  "},{"$f":"IF(Schießkladde!L183=\"\",\"\",Schießkladde!L183)","v":""},{"$f":"IF(Schießkladde!M183=\"\",\"\",Schießkladde!M183)","v":""},{"$f":"IF(Schießkladde!N183=\"\",\"\",Schießkladde!N183)","v":""},{"$f":"IF(Schießkladde!O183=\"\",\"\",Schießkladde!O183)","v":""}]
[{"$f":"CONCATENATE(B183,\" \", C183,\" \",D183)","v":"  "},{"$f":"IF(Schießkladde!L184=\"\",\"\",Schießkladde!L184)","v":""},{"$f":"IF(Schießkladde!M184=\"\",\"\",Schießkladde!M184)","v":""},{"$f":"IF(Schießkladde!N184=\"\",\"\",Schießkladde!N184)","v":""},{"$f":"IF(Schießkladde!O184=\"\",\"\",Schießkladde!O184)","v":""}]
[{"$f":"CONCATENATE(B184,\" \", C184,\" \",D184)","v":"  "},{"$f":"IF(Schießkladde!L185=\"\",\"\",Schießkladde!L185)","v":""},{"$f":"IF(Schießkladde!M185=\"\",\"\",Schießkladde!M185)","v":""},{"$f":"IF(Schießkladde!N185=\"\",\"\",Schießkladde!N185)","v":""},{"$f":"IF(Schießkladde!O185=\"\",\"\",Schießkladde!O185)","v":""}]
[{"$f":"CONCATENATE(B185,\" \", C185,\" \",D185)","v":"  "},{"$f":"IF(Schießkladde!L186=\"\",\"\",Schießkladde!L186)","v":""},{"$f":"IF(Schießkladde!M186=\"\",\"\",Schießkladde!M186)","v":""},{"$f":"IF(Schießkladde!N186=\"\",\"\",Schießkladde!N186)","v":""},{"$f":"IF(Schießkladde!O186=\"\",\"\",Schießkladde!O186)","v":""}]
[{"$f":"CONCATENATE(B186,\" \", C186,\" \",D186)","v":"  "},{"$f":"IF(Schießkladde!L187=\"\",\"\",Schießkladde!L187)","v":""},{"$f":"IF(Schießkladde!M187=\"\",\"\",Schießkladde!M187)","v":""},{"$f":"IF(Schießkladde!N187=\"\",\"\",Schießkladde!N187)","v":""},{"$f":"IF(Schießkladde!O187=\"\",\"\",Schießkladde!O187)","v":""}]
[{"$f":"CONCATENATE(B187,\" \", C187,\" \",D187)","v":"  "},{"$f":"IF(Schießkladde!L188=\"\",\"\",Schießkladde!L188)","v":""},{"$f":"IF(Schießkladde!M188=\"\",\"\",Schießkladde!M188)","v":""},{"$f":"IF(Schießkladde!N188=\"\",\"\",Schießkladde!N188)","v":""},{"$f":"IF(Schießkladde!O188=\"\",\"\",Schießkladde!O188)","v":""}]
[{"$f":"CONCATENATE(B188,\" \", C188,\" \",D188)","v":"  "},{"$f":"IF(Schießkladde!L189=\"\",\"\",Schießkladde!L189)","v":""},{"$f":"IF(Schießkladde!M189=\"\",\"\",Schießkladde!M189)","v":""},{"$f":"IF(Schießkladde!N189=\"\",\"\",Schießkladde!N189)","v":""},{"$f":"IF(Schießkladde!O189=\"\",\"\",Schießkladde!O189)","v":""}]
[{"$f":"CONCATENATE(B189,\" \", C189,\" \",D189)","v":"  "},{"$f":"IF(Schießkladde!L190=\"\",\"\",Schießkladde!L190)","v":""},{"$f":"IF(Schießkladde!M190=\"\",\"\",Schießkladde!M190)","v":""},{"$f":"IF(Schießkladde!N190=\"\",\"\",Schießkladde!N190)","v":""},{"$f":"IF(Schießkladde!O190=\"\",\"\",Schießkladde!O190)","v":""}]
[{"$f":"CONCATENATE(B190,\" \", C190,\" \",D190)","v":"  "},{"$f":"IF(Schießkladde!L191=\"\",\"\",Schießkladde!L191)","v":""},{"$f":"IF(Schießkladde!M191=\"\",\"\",Schießkladde!M191)","v":""},{"$f":"IF(Schießkladde!N191=\"\",\"\",Schießkladde!N191)","v":""},{"$f":"IF(Schießkladde!O191=\"\",\"\",Schießkladde!O191)","v":""}]
[{"$f":"CONCATENATE(B191,\" \", C191,\" \",D191)","v":"  "},{"$f":"IF(Schießkladde!L192=\"\",\"\",Schießkladde!L192)","v":""},{"$f":"IF(Schießkladde!M192=\"\",\"\",Schießkladde!M192)","v":""},{"$f":"IF(Schießkladde!N192=\"\",\"\",Schießkladde!N192)","v":""},{"$f":"IF(Schießkladde!O192=\"\",\"\",Schießkladde!O192)","v":""}]
[{"$f":"CONCATENATE(B192,\" \", C192,\" \",D192)","v":"  "},{"$f":"IF(Schießkladde!L193=\"\",\"\",Schießkladde!L193)","v":""},{"$f":"IF(Schießkladde!M193=\"\",\"\",Schießkladde!M193)","v":""},{"$f":"IF(Schießkladde!N193=\"\",\"\",Schießkladde!N193)","v":""},{"$f":"IF(Schießkladde!O193=\"\",\"\",Schießkladde!O193)","v":""}]
[{"$f":"CONCATENATE(B193,\" \", C193,\" \",D193)","v":"  "},{"$f":"IF(Schießkladde!L194=\"\",\"\",Schießkladde!L194)","v":""},{"$f":"IF(Schießkladde!M194=\"\",\"\",Schießkladde!M194)","v":""},{"$f":"IF(Schießkladde!N194=\"\",\"\",Schießkladde!N194)","v":""},{"$f":"IF(Schießkladde!O194=\"\",\"\",Schießkladde!O194)","v":""}]
[{"$f":"CONCATENATE(B194,\" \", C194,\" \",D194)","v":"  "},{"$f":"IF(Schießkladde!L195=\"\",\"\",Schießkladde!L195)","v":""},{"$f":"IF(Schießkladde!M195=\"\",\"\",Schießkladde!M195)","v":""},{"$f":"IF(Schießkladde!N195=\"\",\"\",Schießkladde!N195)","v":""},{"$f":"IF(Schießkladde!O195=\"\",\"\",Schießkladde!O195)","v":""}]
[{"$f":"CONCATENATE(B195,\" \", C195,\" \",D195)","v":"  "},{"$f":"IF(Schießkladde!L196=\"\",\"\",Schießkladde!L196)","v":""},{"$f":"IF(Schießkladde!M196=\"\",\"\",Schießkladde!M196)","v":""},{"$f":"IF(Schießkladde!N196=\"\",\"\",Schießkladde!N196)","v":""},{"$f":"IF(Schießkladde!O196=\"\",\"\",Schießkladde!O196)","v":""}]
[{"$f":"CONCATENATE(B196,\" \", C196,\" \",D196)","v":"  "},{"$f":"IF(Schießkladde!L197=\"\",\"\",Schießkladde!L197)","v":""},{"$f":"IF(Schießkladde!M197=\"\",\"\",Schießkladde!M197)","v":""},{"$f":"IF(Schießkladde!N197=\"\",\"\",Schießkladde!N197)","v":""},{"$f":"IF(Schießkladde!O197=\"\",\"\",Schießkladde!O197)","v":""}]
[{"$f":"CONCATENATE(B197,\" \", C197,\" \",D197)","v":"  "},{"$f":"IF(Schießkladde!L198=\"\",\"\",Schießkladde!L198)","v":""},{"$f":"IF(Schießkladde!M198=\"\",\"\",Schießkladde!M198)","v":""},{"$f":"IF(Schießkladde!N198=\"\",\"\",Schießkladde!N198)","v":""},{"$f":"IF(Schießkladde!O198=\"\",\"\",Schießkladde!O198)","v":""}]
[{"$f":"CONCATENATE(B198,\" \", C198,\" \",D198)","v":"  "},{"$f":"IF(Schießkladde!L199=\"\",\"\",Schießkladde!L199)","v":""},{"$f":"IF(Schießkladde!M199=\"\",\"\",Schießkladde!M199)","v":""},{"$f":"IF(Schießkladde!N199=\"\",\"\",Schießkladde!N199)","v":""},{"$f":"IF(Schießkladde!O199=\"\",\"\",Schießkladde!O199)","v":""}]
[{"$f":"CONCATENATE(B199,\" \", C199,\" \",D199)","v":"  "},{"$f":"IF(Schießkladde!L200=\"\",\"\",Schießkladde!L200)","v":""},{"$f":"IF(Schießkladde!M200=\"\",\"\",Schießkladde!M200)","v":""},{"$f":"IF(Schießkladde!N200=\"\",\"\",Schießkladde!N200)","v":""},{"$f":"IF(Schießkladde!O200=\"\",\"\",Schießkladde!O200)","v":""}]
[{"$f":"CONCATENATE(B200,\" \", C200,\" \",D200)","v":"  "},{"$f":"IF(Schießkladde!L201=\"\",\"\",Schießkladde!L201)","v":""},{"$f":"IF(Schießkladde!M201=\"\",\"\",Schießkladde!M201)","v":""},{"$f":"IF(Schießkladde!N201=\"\",\"\",Schießkladde!N201)","v":""},{"$f":"IF(Schießkladde!O201=\"\",\"\",Schießkladde!O201)","v":""}]
[{"$f":"CONCATENATE(B201,\" \", C201,\" \",D201)","v":"  "},{"$f":"IF(Schießkladde!L202=\"\",\"\",Schießkladde!L202)","v":""},{"$f":"IF(Schießkladde!M202=\"\",\"\",Schießkladde!M202)","v":""},{"$f":"IF(Schießkladde!N202=\"\",\"\",Schießkladde!N202)","v":""},{"$f":"IF(Schießkladde!O202=\"\",\"\",Schießkladde!O202)","v":""}]
[{"$f":"CONCATENATE(B202,\" \", C202,\" \",D202)","v":"  "},{"$f":"IF(Schießkladde!L203=\"\",\"\",Schießkladde!L203)","v":""},{"$f":"IF(Schießkladde!M203=\"\",\"\",Schießkladde!M203)","v":""},{"$f":"IF(Schießkladde!N203=\"\",\"\",Schießkladde!N203)","v":""},{"$f":"IF(Schießkladde!O203=\"\",\"\",Schießkladde!O203)","v":""}]
[{"$f":"CONCATENATE(B203,\" \", C203,\" \",D203)","v":"  "},{"$f":"IF(Schießkladde!L204=\"\",\"\",Schießkladde!L204)","v":""},{"$f":"IF(Schießkladde!M204=\"\",\"\",Schießkladde!M204)","v":""},{"$f":"IF(Schießkladde!N204=\"\",\"\",Schießkladde!N204)","v":""},{"$f":"IF(Schießkladde!O204=\"\",\"\",Schießkladde!O204)","v":""}]

{"sheet":"MDrucken","index":3,"n_rows":28,"n_cols":13,"rows_kept":28,"cut":false,"hidden":true,"merged":[]}
[null,null,null,null,null,null,{"$f":"COUNTA(A:A)","v":0}]
[]
[]
[]
[]
[]
[]
[]
[]
[]
[]
[]
[]
[]
[]
[]
[]
[]
[]
[]
[]
[]
[]
[]
[]
[null,null,null,null,null,null,null,null,null,"f",null,null,{"$f":"J26","v":"f"}]
[null,null,null,null,null,null,null,"König",null,"ff",{"$f":"H27","v":"König"},null,{"$f":"J27","v":"ff"}]
[null,null,null,null,null,null,null,"SG Bollersen",null,"Probe",{"$f":"H28","v":"SG Bollersen"},null,"Wertung"]

{"sheet":"Info","index":4,"n_rows":4,"n_cols":5,"rows_kept":4,"cut":false,"hidden":false,"merged":[]}
["Zelle","Teilnehmer","vorher","neu","Änderungszeitpunkt"]
["F7",null,"Damenbeste","König","2026-02-27T09:57:52"]
["F7",null,"König","Damenbeste","2026-02-27T09:58:01"]
["F7",null,"Damenbeste","König","2026-02-27T10:01:25"]