{"text_format":"1","workbook":"xlsx","n_sheets":4,"sheets":["Start","Schießkladde","Hilfe","Info"],"not_rendered":{"charts":0,"images":0,"macros":1,"external_links":0,"defined_names":22,"comments":2,"pivot_tables":0},"unopened":[],"bounds":{"document_bytes":16777216,"sheet_cells":100000,"rows_first":2000,"rows_last":500,"rows_between":2000,"halvings":0,"cell_chars":16384,"cell_head_chars":4096},"cells_cut":0,"cells_raw":0,"read":"whole","date_system":"1900"}

{"sheet":"Start","index":0,"n_rows":946,"n_cols":19,"rows_kept":946,"cut":false,"hidden":false,"merged":[[31,2,31,14],[125,2,125,5],[115,2,115,3],[35,2,35,6],[27,1,27,3],[123,2,123,5],[123,6,123,7],[125,6,125,7],[108,3,108,7],[24,1,25,3],[24,5,25,5],[264,6,264,7],[29,1,29,3],[121,2,121,5],[122,2,122,5],[122,6,122,7],[121,6,121,7],[111,2,111,5],[113,2,113,5],[117,2,117,5],[109,2,109,5],[110,2,110,5],[114,2,114,5],[33,2,33,6],[119,3,119,5],[21,1,21,3],[22,1,22,3],[21,5,22,5],[8,1,8,7],[15,5,16,5],[16,1,16,3],[15,1,15,3],[18,5,19,5],[18,1,18,3],[19,1,19,3],[0,1,0,7],[13,1,13,3],[12,1,12,3],[12,5,13,7],[1,1,4,7],[6,1,6,7],[10,3,10,7],[267,6,267,7],[266,6,266,7],[262,6,262,7],[261,6,261,7],[263,6,263,7],[265,6,265,7]]}
[null,"Teilerauswertung",null,null,null,null,null,null,"Version 3.4.3",null,null,null,null,null,{"$f":"IF(Schießkladde!G1=0,\"2\",\"1\")","v":"2"}]
[null,"Dies ist ein Programm um Teilerergebnisse beim Schießen zu berechnen. Hier werden die eingetragenen Einzel-Teiler sortiert und die beiden kleinsten Einzel-Teiler zum Gesamt-Teiler addiert sowie eine Rangliste erstellt. (Sortierreihenfolge: Gesamt-Teiler denn kleinster Einzel-Teiler)",null,null,null,null,null,null,null,null,null,null,null,{"$f":"IF(Schießkladde!G1=1,\"Das Schießen hat begonnen,\",\"\")","v":""}]
[null,null,null,null,null,null,null,null,null,null,null,null,null,{"$f":"IF(Schießkladde!G1=1,\"keine Eingabe mehr möglich.\",\"\")","v":""}]
[]
[]
[]
[null,"Außerdem werden die Gesamtsätze und der Kassenbestand ermittelt, sowie der zu zahlende Betrag für jeden einzelnen Schützen. Außerdem kann eine Essenliste erstellt werden."]
[]
[null,"Parametereingabe"]
[]
[null,null,null,"Die gelben Felder müssen immer ausgefüllt werden"]
[]
[null,"Anlass des Schießens ",null,null,null,"Winterpreisschießen 2025"]
[null,"z. B. Preisschießen am 1.4.2001"]
[]
[null,"Preis der Pflichtsätze",null,null,null,2.5]
[null,"Format beachten: 15,00"]
[]
[null,"Preis pro Einzelsatz",null,null,null,2.5,{"$f":"F19","v":2.5}]
[null,"Format beachten: 2,50"]
[]
[null,"Anzahl der Pflichtsätze",null,null,null,2,{"$f":"F22","v":2}]
[null,"für die Anzeige ab alle Pflichtsätze geschossen sind"]
[]
[null,"Preis für  Essen bei der Siegerehrung",null,null,null,20,{"$f":"Essengeld","v":20}]
[]
[]
[null,"Wechselgeld",null,null,null,null,{"$f":"Wechselgeld","v":0}]
[]
[null,"Heute ist der",null,null,null,{"$f":"TODAY()","v":"2026-03-01"},{"$f":"F30","v":"2026-03-01"}]
[]
[null,"akt. Speicherort",{"$f":"CELL(\"dateiname\")","v":"C:\\Dokumente\\Schützenverein\\Preisschießen\\[Teilerauswertung Vorlage 200 3.4.3.xlsm]Start"}]
[]
[null,"Backup","C:\\Auspacken\\"]
[null,null,{"$f":"C36","v":"Teilerauswertung Vorlage 200 3.4.3.xlsm"}]
[null,"Dateiname",{"$f":"MID(CELL(\"Dateiname\"),FIND(\"[\",CELL(\"Dateiname\"))+1,FIND(\"]\",CELL(\"Dateiname\"))-FIND(\"[\",CELL(\"Dateiname\"))-1)","v":"Teilerauswertung Vorlage 200 3.4.3.xlsm"}]
[]
[]
[]
[]
[]
[]
[]
[]
[]
[]
[]
[]
[]
[]
[]
[]
[]
[]
[]
[]
[]
[]
[]
[]
[]
[]
[]
[]
[]
[]
[]
[]
[]
[]
[]
[]
[]
[]
[]
[]
[]
[]
[]
[]
[]
[]
[]
[]
[]
[]
[]
[]
[]
[]
[]
[]
[]
[]
[]
[]
[]
[]
[]
[]
[]
[]
[]
[]
[]
[]
[]
[]
[null,null,"Statistik",{"$f":"Start!F13","v":"Winterpreisschießen 2025"}]
[null,null,"Pflichtsätze",null,null,null,{"$f":"Schießkladde!K1*Schießkladde!J3","v":0},"€",null,null,{"$f":"SUM(Schießkladde!P5:P5)","v":0},{"$f":"SUM(Schießkladde!R5:R5)","v":0},{"$f":"SUM(Schießkladde!T5:T5)","v":0},{"$f":"SUM(Schießkladde!V5:V5)","v":0},{"$f":"SUM(Schießkladde!X5:X5)","v":0},{"$f":"SUM(Schießkladde!Z5:Z5)","v":0},{"$f":"SUM(Schießkladde!AB5:AB5)","v":0},{"$f":"SUM(Schießkladde!AD5:AD5)","v":0},{"$f":"SUM(K110:R110)","v":0}]
[null,null,"Schießen",null,null,null,{"$f":"(Schießkladde!M1*Start!F19)","v":0},"€"]
[null,null,"Essengeld",null,null,null,{"$f":"Start!F25*Schießkladde!T1","v":0},"€"]
[null,null,null,null,null,"Spenden",{"$f":"SUM(Schießkladde!AL5:AL104)","v":0},"€"]
[null,null,"Wechselgeld",null,null,null,{"$f":"Wechselgeld","v":0},"€"]
[null,null,"Außenstände",null,null,null,{"$f":"SUM(Schießkladde!AG5:AG104)","v":0},"€"]
[null,null,null,null,{"$f":"S110","v":0},"Kassenstand",{"$f":"SUM(G110:H114)-(G115)","v":0},"€"]
[]
[null,null,"Sätze pro Schütze",null,null,null,{"$f":"Schießkladde!M1/Schießkladde!K1","v":{"$error":"#DIV/0!"}}]
[]
[null,null,null,"Einnahme pro Teilnehmer",null,null,{"$f":"(G116-G115-G113)/G122","v":{"$error":"#DIV/0!"}},"€"]
[]
[null,null,"Teilnehmer",null,null,null,{"$f":"Schießkladde!G1","v":0}]
[null,null,"davon haben geschossen",null,null,null,{"$f":"Schießkladde!K1","v":0}]
[null,null,"Anzahl der geschossenen Sätze",null,null,null,{"$f":"Schießkladde!M1","v":0}]
[]
[null,null,"Anzahl der Essen zur Siegerehrung",null,null,null,{"$f":"Schießkladde!T1","v":0}]
[]
[]
[]
[]
[]
[]
[]
[]
[]
[]
[]
[]
[]
[]
[]
[]
[]
[]
[]
[]
[]
[]
[]
[]
[]
[]
[]
[]
[]
[]
[]
[]
[]
[null,null,null,null,1]
[null,null,null,null,3]
[null,null,null,null,4]
[null,null,null,null,5]
[null,null,null,null,6]
[null,null,null,null,7]
[null,null,null,null,8]
[null,null,null,null,9]
[null,null,null,null,10]
[null,null,null,null,11]
[null,null,null,null,12]
[null,null,null,null,13]
[null,null,null,null,14]
[null,null,null,null,15]
[null,null,null,null,16]
[null,null,null,null,17]
[null,null,null,null,18]
[null,null,null,null,19]
[null,null,null,null,20]
[null,null,null,null,21]
[null,null,null,null,22]
[null,null,null,null,23]
[null,null,null,null,24]
[null,null,null,null,25]
[null,null,null,null,26]
[null,null,null,null,27]
[null,null,null,null,28]
[null,null,null,null,29]
[null,null,null,null,30]
[null,null,null,null,31]
[null,null,null,null,32]
[null,null,null,null,33]
[null,null,null,null,34]
[null,null,null,null,35]
[null,null,null,null,36]
[null,null,null,null,37]
[null,null,null,null,38]
[null,null,null,null,39]
[null,null,null,null,40]
[null,null,null,null,41]
[null,null,null,null,42]
[null,null,null,null,43]
[null,null,null,null,44]
[null,null,null,null,45]
[null,null,null,null,46]
[null,null,null,null,47]
[null,null,null,null,48]
[null,null,null,null,49]
[null,null,null,null,50]
[null,null,null,null,51]
[null,null,null,null,52]
[null,null,null,null,53]
[null,null,null,null,54]
[null,null,null,null,55]
[null,null,null,null,56]
[null,null,null,null,57]
[null,null,null,null,58]
[null,null,null,null,59]
[null,null,null,null,60]
[null,null,null,null,61]
[null,null,null,null,62]
[null,null,null,null,63]
[null,null,null,null,64]
[null,null,null,null,65]
[null,null,null,null,66]
[null,null,null,null,67]
[null,null,null,null,68]
[null,null,null,null,69]
[null,null,null,null,70]
[null,null,null,null,71]
[null,null,null,null,72]
[null,null,null,null,73]
[null,null,null,null,74]
[null,null,null,null,75]
[null,null,null,null,76]
[null,null,null,null,77]
[null,null,null,null,78]
[null,null,null,null,79]
[null,null,null,null,80]
[null,null,null,null,81]
[null,null,null,null,82]
[null,null,null,null,83]
[null,null,null,null,84]
[null,null,null,null,85]
[null,null,null,null,86]
[null,null,null,null,87]
[null,null,null,null,88]
[null,null,null,null,89]
[null,null,null,null,90]
[null,null,null,null,91]
[null,null,null,null,92]
[null,null,null,null,93]
[null,null,null,null,94]
[null,null,null,null,95]
[null,null,null,null,96]
[]
[]
[]
[]
[]
[]
[]
[null,null,null,null,null,null,{"$f":"C110","v":"Pflichtsätze"},null,{"$f":"G110","v":0},{"$f":"H110","v":"€"}]
[null,null,null,null,null,null,{"$f":"C111","v":"Schießen"},null,{"$f":"G111","v":0},{"$f":"H110","v":"€"}]
[null,null,null,null,null,null,{"$f":"C112","v":"Essengeld"},null,{"$f":"G112","v":0},{"$f":"H111","v":"€"}]
[null,null,null,null,null,null,"Spenden",null,{"$f":"SUM(Schießkladde!AL5:AL204)","v":0},"€"]
[null,null,null,null,null,null,{"$f":"C114","v":"Wechselgeld"},null,{"$f":"G114","v":0},{"$f":"H112","v":"€"}]
[null,null,null,null,null,{"$f":"C116","v":0},{"$f":"C115","v":"Außenstände"},null,{"$f":"G115","v":0},{"$f":"H115","v":"€"}]
[null,null,null,null,null,null,{"$f":"F116","v":"Kassenstand"},null,{"$f":"G116","v":0},{"$f":"H116","v":"€"}]
[null,null,null,null,null,{"$f":"C118","v":"Sätze pro Schütze"}]
[null,null,null,null,null,null,null,null,{"$f":"G118","v":{"$error":"#DIV/0!"}}]
[]
[null,null,null,null,null,null,{"$f":"D120","v":"Einnahme pro Teilnehmer"},null,{"$f":"G120","v":{"$error":"#DIV/0!"}},{"$f":"H120","v":"€"}]
[null,null,null,null,null,{"$f":"C122","v":"Teilnehmer"},{"$f":"G122","v":0}]
[null,null,null,null,null,{"$f":"C123","v":"davon haben geschossen"},{"$f":"G123","v":0},null,{"$f":"G122","v":0}]
[null,null,null,null,null,{"$f":"C124","v":"Anzahl der geschossenen Sätze"},null,null,{"$f":"G123","v":0}]
[null,null,null,null,null,null,null,null,{"$f":"G124","v":0}]
[null,null,null,null,null,{"$f":"C126","v":"Anzahl der Essen zur Siegerehrung"},{"$f":"G126","v":0}]
[null,null,null,null,null,null,null,null,{"$f":"G126","v":0}]
[]
[]
[]
[]
[]
[]
[]
[]
[]
[]
[]
[]
[]
[]
[null,null,null,null,null,"Teilnehmerliste für das Essen bei der Siegerehrung"]
[]
[null,null,null,null,null,{"$f":"IF(H295<=0,\"\",Schießkladde!B7)","v":""},{"$f":"IF(H295<=0,\"\",Schießkladde!C7)","v":""},{"$f":"Schießkladde!AH7","v":0},"Gesamt",{"$f":"G126","v":0},{"$f":"TODAY()","v":"2026-03-01"}]
[null,null,null,null,null,{"$f":"IF(H296<=0,\"\",Schießkladde!B6)","v":""},{"$f":"IF(H296<=0,\"\",Schießkladde!C6)","v":""},{"$f":"Schießkladde!AH6","v":0}]
[null,null,null,null,null,{"$f":"IF(H297<=0,\"\",Schießkladde!B5)","v":""},{"$f":"IF(H297<=0,\"\",Schießkladde!C5)","v":""},{"$f":"Schießkladde!AH5","v":0}]
[null,null,null,null,null,{"$f":"IF(H298<=0,\"\",Schießkladde!B22)","v":""},{"$f":"IF(H298<=0,\"\",Schießkladde!C22)","v":""},{"$f":"Schießkladde!AH22","v":0}]
[null,null,null,null,null,{"$f":"IF(H299<=0,\"\",Schießkladde!B13)","v":""},{"$f":"IF(H299<=0,\"\",Schießkladde!C13)","v":""},{"$f":"Schießkladde!AH13","v":0}]
[null,null,null,null,null,{"$f":"IF(H300<=0,\"\",Schießkladde!B8)","v":""},{"$f":"IF(H300<=0,\"\",Schießkladde!C8)","v":""},{"$f":"Schießkladde!AH8","v":0}]
[null,null,null,null,null,{"$f":"IF(H301<=0,\"\",Schießkladde!B9)","v":""},{"$f":"IF(H301<=0,\"\",Schießkladde!C9)","v":""},{"$f":"Schießkladde!AH9","v":0}]
[null,null,null,null,null,{"$f":"IF(H302<=0,\"\",Schießkladde!B10)","v":""},{"$f":"IF(H302<=0,\"\",Schießkladde!C10)","v":""},{"$f":"Schießkladde!AH10","v":0}]
[null,null,null,null,null,{"$f":"IF(H303<=0,\"\",Schießkladde!B11)","v":""},{"$f":"IF(H303<=0,\"\",Schießkladde!C11)","v":""},{"$f":"Schießkladde!AH11","v":0}]
[null,null,null,null,null,{"$f":"IF(H304<=0,\"\",Schießkladde!B12)","v":""},{"$f":"IF(H304<=0,\"\",Schießkladde!C12)","v":""},{"$f":"Schießkladde!AH12","v":0}]
[null,null,null,null,null,{"$f":"IF(H305<=0,\"\",Schießkladde!B14)","v":""},{"$f":"IF(H305<=0,\"\",Schießkladde!C14)","v":""},{"$f":"Schießkladde!AH14","v":0}]
[null,null,null,null,null,{"$f":"IF(H306<=0,\"\",Schießkladde!B15)","v":""},{"$f":"IF(H306<=0,\"\",Schießkladde!C15)","v":""},{"$f":"Schießkladde!AH15","v":0}]
[null,null,null,null,null,{"$f":"IF(H307<=0,\"\",Schießkladde!B16)","v":""},{"$f":"IF(H307<=0,\"\",Schießkladde!C16)","v":""},{"$f":"Schießkladde!AH16","v":0}]
[null,null,null,null,null,{"$f":"IF(H308<=0,\"\",Schießkladde!B17)","v":""},{"$f":"IF(H308<=0,\"\",Schießkladde!C17)","v":""},{"$f":"Schießkladde!AH17","v":0}]
[null,null,null,null,null,{"$f":"IF(H309<=0,\"\",Schießkladde!B18)","v":""},{"$f":"IF(H309<=0,\"\",Schießkladde!C18)","v":""},{"$f":"Schießkladde!AH18","v":0}]
[null,null,null,null,null,{"$f":"IF(H310<=0,\"\",Schießkladde!B19)","v":""},{"$f":"IF(H310<=0,\"\",Schießkladde!C19)","v":""},{"$f":"Schießkladde!AH19","v":0}]
[null,null,null,null,null,{"$f":"IF(H311<=0,\"\",Schießkladde!B20)","v":""},{"$f":"IF(H311<=0,\"\",Schießkladde!C20)","v":""},{"$f":"Schießkladde!AH20","v":0}]
[null,null,null,null,null,{"$f":"IF(H312<=0,\"\",Schießkladde!B21)","v":""},{"$f":"IF(H312<=0,\"\",Schießkladde!C21)","v":""},{"$f":"Schießkladde!AH21","v":0}]
[null,null,null,null,null,{"$f":"IF(H313<=0,\"\",Schießkladde!B23)","v":""},{"$f":"IF(H313<=0,\"\",Schießkladde!C23)","v":""},{"$f":"Schießkladde!AH23","v":0}]
[null,null,null,null,null,{"$f":"IF(H314<=0,\"\",Schießkladde!B24)","v":""},{"$f":"IF(H314<=0,\"\",Schießkladde!C24)","v":""},{"$f":"Schießkladde!AH24","v":0}]
[null,null,null,null,null,{"$f":"IF(H315<=0,\"\",Schießkladde!B25)","v":""},{"$f":"IF(H315<=0,\"\",Schießkladde!C25)","v":""},{"$f":"Schießkladde!AH25","v":0}]
[null,null,null,null,null,{"$f":"IF(H316<=0,\"\",Schießkladde!B26)","v":""},{"$f":"IF(H316<=0,\"\",Schießkladde!C26)","v":""},{"$f":"Schießkladde!AH26","v":0}]
[null,null,null,null,null,{"$f":"IF(H317<=0,\"\",Schießkladde!B27)","v":""},{"$f":"IF(H317<=0,\"\",Schießkladde!C27)","v":""},{"$f":"Schießkladde!AH27","v":0}]
[null,null,null,null,null,{"$f":"IF(H318<=0,\"\",Schießkladde!B28)","v":""},{"$f":"IF(H318<=0,\"\",Schießkladde!C28)","v":""},{"$f":"Schießkladde!AH28","v":0}]
[null,null,null,null,null,{"$f":"IF(H319<=0,\"\",Schießkladde!B29)","v":""},{"$f":"IF(H319<=0,\"\",Schießkladde!C29)","v":""},{"$f":"Schießkladde!AH29","v":0}]
[null,null,null,null,null,{"$f":"IF(H320<=0,\"\",Schießkladde!B30)","v":""},{"$f":"IF(H320<=0,\"\",Schießkladde!C30)","v":""},{"$f":"Schießkladde!AH30","v":0}]
[null,null,null,null,null,{"$f":"IF(H321<=0,\"\",Schießkladde!B31)","v":""},{"$f":"IF(H321<=0,\"\",Schießkladde!C31)","v":""},{"$f":"Schießkladde!AH31","v":0}]
[null,null,null,null,null,{"$f":"IF(H322<=0,\"\",Schießkladde!B32)","v":""},{"$f":"IF(H322<=0,\"\",Schießkladde!C32)","v":""},{"$f":"Schießkladde!AH32","v":0}]
[null,null,null,null,null,{"$f":"IF(H323<=0,\"\",Schießkladde!B33)","v":""},{"$f":"IF(H323<=0,\"\",Schießkladde!C33)","v":""},{"$f":"Schießkladde!AH33","v":0}]
[null,null,null,null,null,{"$f":"IF(H324<=0,\"\",Schießkladde!B34)","v":""},{"$f":"IF(H324<=0,\"\",Schießkladde!C34)","v":""},{"$f":"Schießkladde!AH34","v":0}]
[null,null,null,null,null,{"$f":"IF(H325<=0,\"\",Schießkladde!B35)","v":""},{"$f":"IF(H325<=0,\"\",Schießkladde!C35)","v":""},{"$f":"Schießkladde!AH35","v":0}]
[null,null,null,null,null,{"$f":"IF(H326<=0,\"\",Schießkladde!B36)","v":""},{"$f":"IF(H326<=0,\"\",Schießkladde!C36)","v":""},{"$f":"Schießkladde!AH36","v":0}]
[null,null,null,null,null,{"$f":"IF(H327<=0,\"\",Schießkladde!B37)","v":""},{"$f":"IF(H327<=0,\"\",Schießkladde!C37)","v":""},{"$f":"Schießkladde!AH37","v":0}]
[null,null,null,null,null,{"$f":"IF(H328<=0,\"\",Schießkladde!B38)","v":""},{"$f":"IF(H328<=0,\"\",Schießkladde!C38)","v":""},{"$f":"Schießkladde!AH38","v":0}]
[null,null,null,null,null,{"$f":"IF(H329<=0,\"\",Schießkladde!B39)","v":""},{"$f":"IF(H329<=0,\"\",Schießkladde!C39)","v":""},{"$f":"Schießkladde!AH39","v":0}]
[null,null,null,null,null,{"$f":"IF(H330<=0,\"\",Schießkladde!B40)","v":""},{"$f":"IF(H330<=0,\"\",Schießkladde!C40)","v":""},{"$f":"Schießkladde!AH40","v":0}]
[null,null,null,null,null,{"$f":"IF(H331<=0,\"\",Schießkladde!B41)","v":""},{"$f":"IF(H331<=0,\"\",Schießkladde!C41)","v":""},{"$f":"Schießkladde!AH41","v":0}]
[null,null,null,null,null,{"$f":"IF(H332<=0,\"\",Schießkladde!B42)","v":""},{"$f":"IF(H332<=0,\"\",Schießkladde!C42)","v":""},{"$f":"Schießkladde!AH42","v":0}]
[null,null,null,null,null,{"$f":"IF(H333<=0,\"\",Schießkladde!B43)","v":""},{"$f":"IF(H333<=0,\"\",Schießkladde!C43)","v":""},{"$f":"Schießkladde!AH43","v":0}]
[null,null,null,null,null,{"$f":"IF(H334<=0,\"\",Schießkladde!B44)","v":""},{"$f":"IF(H334<=0,\"\",Schießkladde!C44)","v":""},{"$f":"Schießkladde!AH44","v":0}]
[null,null,null,null,null,{"$f":"IF(H335<=0,\"\",Schießkladde!B45)","v":""},{"$f":"IF(H335<=0,\"\",Schießkladde!C45)","v":""},{"$f":"Schießkladde!AH45","v":0}]
[null,null,null,null,null,{"$f":"IF(H336<=0,\"\",Schießkladde!B46)","v":""},{"$f":"IF(H336<=0,\"\",Schießkladde!C46)","v":""},{"$f":"Schießkladde!AH46","v":0}]
[null,null,null,null,null,{"$f":"IF(H337<=0,\"\",Schießkladde!B47)","v":""},{"$f":"IF(H337<=0,\"\",Schießkladde!C47)","v":""},{"$f":"Schießkladde!AH47","v":0}]
[null,null,null,null,null,{"$f":"IF(H338<=0,\"\",Schießkladde!B48)","v":""},{"$f":"IF(H338<=0,\"\",Schießkladde!C48)","v":""},{"$f":"Schießkladde!AH48","v":0}]
[null,null,null,null,null,{"$f":"IF(H339<=0,\"\",Schießkladde!B49)","v":""},{"$f":"IF(H339<=0,\"\",Schießkladde!C49)","v":""},{"$f":"Schießkladde!AH49","v":0}]
[null,null,null,null,null,{"$f":"IF(H340<=0,\"\",Schießkladde!B50)","v":""},{"$f":"IF(H340<=0,\"\",Schießkladde!C50)","v":""},{"$f":"Schießkladde!AH50","v":0}]
[null,null,null,null,null,{"$f":"IF(H341<=0,\"\",Schießkladde!B51)","v":""},{"$f":"IF(H341<=0,\"\",Schießkladde!C51)","v":""},{"$f":"Schießkladde!AH51","v":0}]
[null,null,null,null,null,{"$f":"IF(H342<=0,\"\",Schießkladde!B52)","v":""},{"$f":"IF(H342<=0,\"\",Schießkladde!C52)","v":""},{"$f":"Schießkladde!AH52","v":0}]
[null,null,null,null,null,{"$f":"IF(H343<=0,\"\",Schießkladde!B53)","v":""},{"$f":"IF(H343<=0,\"\",Schießkladde!C53)","v":""},{"$f":"Schießkladde!AH53","v":0}]
[null,null,null,null,null,{"$f":"IF(H344<=0,\"\",Schießkladde!B54)","v":""},{"$f":"IF(H344<=0,\"\",Schießkladde!C54)","v":""},{"$f":"Schießkladde!AH54","v":0}]
[null,null,null,null,null,{"$f":"IF(H345<=0,\"\",Schießkladde!B55)","v":""},{"$f":"IF(H345<=0,\"\",Schießkladde!C55)","v":""},{"$f":"Schießkladde!AH55","v":0}]
[null,null,null,null,null,{"$f":"IF(H346<=0,\"\",Schießkladde!B56)","v":""},{"$f":"IF(H346<=0,\"\",Schießkladde!C56)","v":""},{"$f":"Schießkladde!AH56","v":0}]
[null,null,null,null,null,{"$f":"IF(H347<=0,\"\",Schießkladde!B57)","v":""},{"$f":"IF(H347<=0,\"\",Schießkladde!C57)","v":""},{"$f":"Schießkladde!AH57","v":0}]
[null,null,null,null,null,{"$f":"IF(H348<=0,\"\",Schießkladde!B58)","v":""},{"$f":"IF(H348<=0,\"\",Schießkladde!C58)","v":""},{"$f":"Schießkladde!AH58","v":0}]
[null,null,null,null,null,{"$f":"IF(H349<=0,\"\",Schießkladde!B59)","v":""},{"$f":"IF(H349<=0,\"\",Schießkladde!C59)","v":""},{"$f":"Schießkladde!AH59","v":0}]
[null,null,null,null,null,{"$f":"IF(H350<=0,\"\",Schießkladde!B60)","v":""},{"$f":"IF(H350<=0,\"\",Schießkladde!C60)","v":""},{"$f":"Schießkladde!AH60","v":0}]
[null,null,null,null,null,{"$f":"IF(H351<=0,\"\",Schießkladde!B61)","v":""},{"$f":"IF(H351<=0,\"\",Schießkladde!C61)","v":""},{"$f":"Schießkladde!AH61","v":0}]
[null,null,null,null,null,{"$f":"IF(H352<=0,\"\",Schießkladde!B62)","v":""},{"$f":"IF(H352<=0,\"\",Schießkladde!C62)","v":""},{"$f":"Schießkladde!AH62","v":0}]
[null,null,null,null,null,{"$f":"IF(H353<=0,\"\",Schießkladde!B63)","v":""},{"$f":"IF(H353<=0,\"\",Schießkladde!C63)","v":""},{"$f":"Schießkladde!AH63","v":0}]
[null,null,null,null,null,{"$f":"IF(H354<=0,\"\",Schießkladde!B64)","v":""},{"$f":"IF(H354<=0,\"\",Schießkladde!C64)","v":""},{"$f":"Schießkladde!AH64","v":0}]
[null,null,null,null,null,{"$f":"IF(H355<=0,\"\",Schießkladde!B65)","v":""},{"$f":"IF(H355<=0,\"\",Schießkladde!C65)","v":""},{"$f":"Schießkladde!AH65","v":0}]
[null,null,null,null,null,{"$f":"IF(H356<=0,\"\",Schießkladde!B66)","v":""},{"$f":"IF(H356<=0,\"\",Schießkladde!C66)","v":""},{"$f":"Schießkladde!AH66","v":0}]
[null,null,null,null,null,{"$f":"IF(H357<=0,\"\",Schießkladde!B67)","v":""},{"$f":"IF(H357<=0,\"\",Schießkladde!C67)","v":""},{"$f":"Schießkladde!AH67","v":0}]
[null,null,null,null,null,{"$f":"IF(H358<=0,\"\",Schießkladde!B68)","v":""},{"$f":"IF(H358<=0,\"\",Schießkladde!C68)","v":""},{"$f":"Schießkladde!AH68","v":0}]
[null,null,null,null,null,{"$f":"IF(H359<=0,\"\",Schießkladde!B69)","v":""},{"$f":"IF(H359<=0,\"\",Schießkladde!C69)","v":""},{"$f":"Schießkladde!AH69","v":0}]
[null,null,null,null,null,{"$f":"IF(H360<=0,\"\",Schießkladde!B70)","v":""},{"$f":"IF(H360<=0,\"\",Schießkladde!C70)","v":""},{"$f":"Schießkladde!AH70","v":0}]
[null,null,null,null,null,{"$f":"IF(H361<=0,\"\",Schießkladde!B71)","v":""},{"$f":"IF(H361<=0,\"\",Schießkladde!C71)","v":""},{"$f":"Schießkladde!AH71","v":0}]
[null,null,null,null,null,{"$f":"IF(H362<=0,\"\",Schießkladde!B72)","v":""},{"$f":"IF(H362<=0,\"\",Schießkladde!C72)","v":""},{"$f":"Schießkladde!AH72","v":0}]
[null,null,null,null,null,{"$f":"IF(H363<=0,\"\",Schießkladde!B73)","v":""},{"$f":"IF(H363<=0,\"\",Schießkladde!C73)","v":""},{"$f":"Schießkladde!AH73","v":0}]
[null,null,null,null,null,{"$f":"IF(H364<=0,\"\",Schießkladde!B74)","v":""},{"$f":"IF(H364<=0,\"\",Schießkladde!C74)","v":""},{"$f":"Schießkladde!AH74","v":0}]
[null,null,null,null,null,{"$f":"IF(H365<=0,\"\",Schießkladde!B75)","v":""},{"$f":"IF(H365<=0,\"\",Schießkladde!C75)","v":""},{"$f":"Schießkladde!AH75","v":0}]
[null,null,null,null,null,{"$f":"IF(H366<=0,\"\",Schießkladde!B76)","v":""},{"$f":"IF(H366<=0,\"\",Schießkladde!C76)","v":""},{"$f":"Schießkladde!AH76","v":0}]
[null,null,null,null,null,{"$f":"IF(H367<=0,\"\",Schießkladde!B77)","v":""},{"$f":"IF(H367<=0,\"\",Schießkladde!C77)","v":""},{"$f":"Schießkladde!AH77","v":0}]
[null,null,null,null,null,{"$f":"IF(H368<=0,\"\",Schießkladde!B78)","v":""},{"$f":"IF(H368<=0,\"\",Schießkladde!C78)","v":""},{"$f":"Schießkladde!AH78","v":0}]
[null,null,null,null,null,{"$f":"IF(H369<=0,\"\",Schießkladde!B79)","v":""},{"$f":"IF(H369<=0,\"\",Schießkladde!C79)","v":""},{"$f":"Schießkladde!AH79","v":0}]
[null,null,null,null,null,{"$f":"IF(H370<=0,\"\",Schießkladde!B80)","v":""},{"$f":"IF(H370<=0,\"\",Schießkladde!C80)","v":""},{"$f":"Schießkladde!AH80","v":0}]
[null,null,null,null,null,{"$f":"IF(H371<=0,\"\",Schießkladde!B81)","v":""},{"$f":"IF(H371<=0,\"\",Schießkladde!C81)","v":""},{"$f":"Schießkladde!AH81","v":0}]
[null,null,null,null,null,{"$f":"IF(H372<=0,\"\",Schießkladde!B82)","v":""},{"$f":"IF(H372<=0,\"\",Schießkladde!C82)","v":""},{"$f":"Schießkladde!AH82","v":0}]
[null,null,null,null,null,{"$f":"IF(H373<=0,\"\",Schießkladde!B83)","v":""},{"$f":"IF(H373<=0,\"\",Schießkladde!C83)","v":""},{"$f":"Schießkladde!AH83","v":0}]
[null,null,null,null,null,{"$f":"IF(H374<=0,\"\",Schießkladde!B84)","v":""},{"$f":"IF(H374<=0,\"\",Schießkladde!C84)","v":""},{"$f":"Schießkladde!AH84","v":0}]
[null,null,null,null,null,{"$f":"IF(H375<=0,\"\",Schießkladde!B85)","v":""},{"$f":"IF(H375<=0,\"\",Schießkladde!C85)","v":""},{"$f":"Schießkladde!AH85","v":0}]
[null,null,null,null,null,{"$f":"IF(H376<=0,\"\",Schießkladde!B86)","v":""},{"$f":"IF(H376<=0,\"\",Schießkladde!C86)","v":""},{"$f":"Schießkladde!AH86","v":0}]
[null,null,null,null,null,{"$f":"IF(H377<=0,\"\",Schießkladde!B87)","v":""},{"$f":"IF(H377<=0,\"\",Schießkladde!C87)","v":""},{"$f":"Schießkladde!AH87","v":0}]
[null,null,null,null,null,{"$f":"IF(H378<=0,\"\",Schießkladde!B88)","v":""},{"$f":"IF(H378<=0,\"\",Schießkladde!C88)","v":""},{"$f":"Schießkladde!AH88","v":0}]
[null,null,null,null,null,{"$f":"IF(H379<=0,\"\",Schießkladde!B89)","v":""},{"$f":"IF(H379<=0,\"\",Schießkladde!C89)","v":""},{"$f":"Schießkladde!AH89","v":0}]
[null,null,null,null,null,{"$f":"IF(H380<=0,\"\",Schießkladde!B90)","v":""},{"$f":"IF(H380<=0,\"\",Schießkladde!C90)","v":""},{"$f":"Schießkladde!AH90","v":0}]
[null,null,null,null,null,{"$f":"IF(H381<=0,\"\",Schießkladde!B91)","v":""},{"$f":"IF(H381<=0,\"\",Schießkladde!C91)","v":""},{"$f":"Schießkladde!AH91","v":0}]
[null,null,null,null,null,{"$f":"IF(H382<=0,\"\",Schießkladde!B92)","v":""},{"$f":"IF(H382<=0,\"\",Schießkladde!C92)","v":""},{"$f":"Schießkladde!AH92","v":0}]
[null,null,null,null,null,{"$f":"IF(H383<=0,\"\",Schießkladde!B93)","v":""},{"$f":"IF(H383<=0,\"\",Schießkladde!C93)","v":""},{"$f":"Schießkladde!AH93","v":0}]
[null,null,null,null,null,{"$f":"IF(H384<=0,\"\",Schießkladde!B94)","v":""},{"$f":"IF(H384<=0,\"\",Schießkladde!C94)","v":""},{"$f":"Schießkladde!AH94","v":0}]
[null,null,null,null,null,{"$f":"IF(H385<=0,\"\",Schießkladde!B95)","v":""},{"$f":"IF(H385<=0,\"\",Schießkladde!C95)","v":""},{"$f":"Schießkladde!AH95","v":0}]
[null,null,null,null,null,{"$f":"IF(H386<=0,\"\",Schießkladde!B96)","v":""},{"$f":"IF(H386<=0,\"\",Schießkladde!C96)","v":""},{"$f":"Schießkladde!AH96","v":0}]
[null,null,null,null,null,{"$f":"IF(H387<=0,\"\",Schießkladde!B97)","v":""},{"$f":"IF(H387<=0,\"\",Schießkladde!C97)","v":""},{"$f":"Schießkladde!AH97","v":0}]
[null,null,null,null,null,{"$f":"IF(H388<=0,\"\",Schießkladde!B98)","v":""},{"$f":"IF(H388<=0,\"\",Schießkladde!C98)","v":""},{"$f":"Schießkladde!AH98","v":0}]
[null,null,null,null,null,{"$f":"IF(H389<=0,\"\",Schießkladde!B99)","v":""},{"$f":"IF(H389<=0,\"\",Schießkladde!C99)","v":""},{"$f":"Schießkladde!AH99","v":0}]
[null,null,null,null,null,{"$f":"IF(H390<=0,\"\",Schießkladde!B100)","v":""},{"$f":"IF(H390<=0,\"\",Schießkladde!C100)","v":""},{"$f":"Schießkladde!AH100","v":0}]
[null,null,null,null,null,{"$f":"IF(H391<=0,\"\",Schießkladde!B101)","v":""},{"$f":"IF(H391<=0,\"\",Schießkladde!C101)","v":""},{"$f":"Schießkladde!AH101","v":0}]
[null,null,null,null,null,{"$f":"IF(H392<=0,\"\",Schießkladde!B102)","v":""},{"$f":"IF(H392<=0,\"\",Schießkladde!C102)","v":""},{"$f":"Schießkladde!AH102","v":0}]
[null,null,null,null,null,{"$f":"IF(H393<=0,\"\",Schießkladde!B103)","v":""},{"$f":"IF(H393<=0,\"\",Schießkladde!C103)","v":""},{"$f":"Schießkladde!AH103","v":0}]
[null,null,null,null,null,{"$f":"IF(H394<=0,\"\",Schießkladde!B104)","v":""},{"$f":"IF(H394<=0,\"\",Schießkladde!C104)","v":""},{"$f":"Schießkladde!AH104","v":0}]
[null,null,null,null,null,{"$f":"IF(H395<=0,\"\",Schießkladde!B105)","v":""},{"$f":"IF(H395<=0,\"\",Schießkladde!C105)","v":""},{"$f":"Schießkladde!AH105","v":0}]
[null,null,null,null,null,{"$f":"IF(H396<=0,\"\",Schießkladde!B106)","v":""},{"$f":"IF(H396<=0,\"\",Schießkladde!C106)","v":""},{"$f":"Schießkladde!AH106","v":0}]
[null,null,null,null,null,{"$f":"IF(H397<=0,\"\",Schießkladde!B107)","v":""},{"$f":"IF(H397<=0,\"\",Schießkladde!C107)","v":""},{"$f":"Schießkladde!AH107","v":0}]
[null,null,null,null,null,{"$f":"IF(H398<=0,\"\",Schießkladde!B108)","v":""},{"$f":"IF(H398<=0,\"\",Schießkladde!C108)","v":""},{"$f":"Schießkladde!AH108","v":0}]
[null,null,null,null,null,{"$f":"IF(H399<=0,\"\",Schießkladde!B109)","v":""},{"$f":"IF(H399<=0,\"\",Schießkladde!C109)","v":""},{"$f":"Schießkladde!AH109","v":0}]
[null,null,null,null,null,{"$f":"IF(H400<=0,\"\",Schießkladde!B110)","v":""},{"$f":"IF(H400<=0,\"\",Schießkladde!C110)","v":""},{"$f":"Schießkladde!AH110","v":0}]
[null,null,null,null,null,{"$f":"IF(H401<=0,\"\",Schießkladde!B111)","v":""},{"$f":"IF(H401<=0,\"\",Schießkladde!C111)","v":""},{"$f":"Schießkladde!AH111","v":0}]
[null,null,null,null,null,{"$f":"IF(H402<=0,\"\",Schießkladde!B112)","v":""},{"$f":"IF(H402<=0,\"\",Schießkladde!C112)","v":""},{"$f":"Schießkladde!AH112","v":0}]
[null,null,null,null,null,{"$f":"IF(H403<=0,\"\",Schießkladde!B113)","v":""},{"$f":"IF(H403<=0,\"\",Schießkladde!C113)","v":""},{"$f":"Schießkladde!AH113","v":0}]
[null,null,null,null,null,{"$f":"IF(H404<=0,\"\",Schießkladde!B114)","v":""},{"$f":"IF(H404<=0,\"\",Schießkladde!C114)","v":""},{"$f":"Schießkladde!AH114","v":0}]
[null,null,null,null,null,{"$f":"IF(H405<=0,\"\",Schießkladde!B115)","v":""},{"$f":"IF(H405<=0,\"\",Schießkladde!C115)","v":""},{"$f":"Schießkladde!AH115","v":0}]
[null,null,null,null,null,{"$f":"IF(H406<=0,\"\",Schießkladde!B116)","v":""},{"$f":"IF(H406<=0,\"\",Schießkladde!C116)","v":""},{"$f":"Schießkladde!AH116","v":0}]
[null,null,null,null,null,{"$f":"IF(H407<=0,\"\",Schießkladde!B117)","v":""},{"$f":"IF(H407<=0,\"\",Schießkladde!C117)","v":""},{"$f":"Schießkladde!AH117","v":0}]
[null,null,null,null,null,{"$f":"IF(H408<=0,\"\",Schießkladde!B118)","v":""},{"$f":"IF(H408<=0,\"\",Schießkladde!C118)","v":""},{"$f":"Schießkladde!AH118","v":0}]
[null,null,null,null,null,{"$f":"IF(H409<=0,\"\",Schießkladde!B119)","v":""},{"$f":"IF(H409<=0,\"\",Schießkladde!C119)","v":""},{"$f":"Schießkladde!AH119","v":0}]
[null,null,null,null,null,{"$f":"IF(H410<=0,\"\",Schießkladde!B120)","v":""},{"$f":"IF(H410<=0,\"\",Schießkladde!C120)","v":""},{"$f":"Schießkladde!AH120","v":0}]
[null,null,null,null,null,{"$f":"IF(H411<=0,\"\",Schießkladde!B121)","v":""},{"$f":"IF(H411<=0,\"\",Schießkladde!C121)","v":""},{"$f":"Schießkladde!AH121","v":0}]
[null,null,null,null,null,{"$f":"IF(H412<=0,\"\",Schießkladde!B122)","v":""},{"$f":"IF(H412<=0,\"\",Schießkladde!C122)","v":""},{"$f":"Schießkladde!AH122","v":0}]
[null,null,null,null,null,{"$f":"IF(H413<=0,\"\",Schießkladde!B123)","v":""},{"$f":"IF(H413<=0,\"\",Schießkladde!C123)","v":""},{"$f":"Schießkladde!AH123","v":0}]
[null,null,null,null,null,{"$f":"IF(H414<=0,\"\",Schießkladde!B124)","v":""},{"$f":"IF(H414<=0,\"\",Schießkladde!C124)","v":""},{"$f":"Schießkladde!AH124","v":0}]
[null,null,null,null,null,{"$f":"IF(H415<=0,\"\",Schießkladde!B125)","v":""},{"$f":"IF(H415<=0,\"\",Schießkladde!C125)","v":""},{"$f":"Schießkladde!AH125","v":0}]
[null,null,null,null,null,{"$f":"IF(H416<=0,\"\",Schießkladde!B126)","v":""},{"$f":"IF(H416<=0,\"\",Schießkladde!C126)","v":""},{"$f":"Schießkladde!AH126","v":0}]
[null,null,null,null,null,{"$f":"IF(H417<=0,\"\",Schießkladde!B127)","v":""},{"$f":"IF(H417<=0,\"\",Schießkladde!C127)","v":""},{"$f":"Schießkladde!AH127","v":0}]
[null,null,null,null,null,{"$f":"IF(H418<=0,\"\",Schießkladde!B128)","v":""},{"$f":"IF(H418<=0,\"\",Schießkladde!C128)","v":""},{"$f":"Schießkladde!AH128","v":0}]
[null,null,null,null,null,{"$f":"IF(H419<=0,\"\",Schießkladde!B129)","v":""},{"$f":"IF(H419<=0,\"\",Schießkladde!C129)","v":""},{"$f":"Schießkladde!AH129","v":0}]
[null,null,null,null,null,{"$f":"IF(H420<=0,\"\",Schießkladde!B130)","v":""},{"$f":"IF(H420<=0,\"\",Schießkladde!C130)","v":""},{"$f":"Schießkladde!AH130","v":0}]
[null,null,null,null,null,{"$f":"IF(H421<=0,\"\",Schießkladde!B131)","v":""},{"$f":"IF(H421<=0,\"\",Schießkladde!C131)","v":""},{"$f":"Schießkladde!AH131","v":0}]
[null,null,null,null,null,{"$f":"IF(H422<=0,\"\",Schießkladde!B132)","v":""},{"$f":"IF(H422<=0,\"\",Schießkladde!C132)","v":""},{"$f":"Schießkladde!AH132","v":0}]
[null,null,null,null,null,{"$f":"IF(H423<=0,\"\",Schießkladde!B133)","v":""},{"$f":"IF(H423<=0,\"\",Schießkladde!C133)","v":""},{"$f":"Schießkladde!AH133","v":0}]
[null,null,null,null,null,{"$f":"IF(H424<=0,\"\",Schießkladde!B134)","v":""},{"$f":"IF(H424<=0,\"\",Schießkladde!C134)","v":""},{"$f":"Schießkladde!AH134","v":0}]
[null,null,null,null,null,{"$f":"IF(H425<=0,\"\",Schießkladde!B135)","v":""},{"$f":"IF(H425<=0,\"\",Schießkladde!C135)","v":""},{"$f":"Schießkladde!AH135","v":0}]
[null,null,null,null,null,{"$f":"IF(H426<=0,\"\",Schießkladde!B136)","v":""},{"$f":"IF(H426<=0,\"\",Schießkladde!C136)","v":""},{"$f":"Schießkladde!AH136","v":0}]
[null,null,null,null,null,{"$f":"IF(H427<=0,\"\",Schießkladde!B137)","v":""},{"$f":"IF(H427<=0,\"\",Schießkladde!C137)","v":""},{"$f":"Schießkladde!AH137","v":0}]
[null,null,null,null,null,{"$f":"IF(H428<=0,\"\",Schießkladde!B138)","v":""},{"$f":"IF(H428<=0,\"\",Schießkladde!C138)","v":""},{"$f":"Schießkladde!AH138","v":0}]
[null,null,null,null,null,{"$f":"IF(H429<=0,\"\",Schießkladde!B139)","v":""},{"$f":"IF(H429<=0,\"\",Schießkladde!C139)","v":""},{"$f":"Schießkladde!AH139","v":0}]
[null,null,null,null,null,{"$f":"IF(H430<=0,\"\",Schießkladde!B140)","v":""},{"$f":"IF(H430<=0,\"\",Schießkladde!C140)","v":""},{"$f":"Schießkladde!AH140","v":0}]
[null,null,null,null,null,{"$f":"IF(H431<=0,\"\",Schießkladde!B141)","v":""},{"$f":"IF(H431<=0,\"\",Schießkladde!C141)","v":""},{"$f":"Schießkladde!AH141","v":0}]
[null,null,null,null,null,{"$f":"IF(H432<=0,\"\",Schießkladde!B142)","v":""},{"$f":"IF(H432<=0,\"\",Schießkladde!C142)","v":""},{"$f":"Schießkladde!AH142","v":0}]
[null,null,null,null,null,{"$f":"IF(H433<=0,\"\",Schießkladde!B143)","v":""},{"$f":"IF(H433<=0,\"\",Schießkladde!C143)","v":""},{"$f":"Schießkladde!AH143","v":0}]
[null,null,null,null,null,{"$f":"IF(H434<=0,\"\",Schießkladde!B144)","v":""},{"$f":"IF(H434<=0,\"\",Schießkladde!C144)","v":""},{"$f":"Schießkladde!AH144","v":0}]
[null,null,null,null,null,{"$f":"IF(H435<=0,\"\",Schießkladde!B145)","v":""},{"$f":"IF(H435<=0,\"\",Schießkladde!C145)","v":""},{"$f":"Schießkladde!AH145","v":0}]
[null,null,null,null,null,{"$f":"IF(H436<=0,\"\",Schießkladde!B146)","v":""},{"$f":"IF(H436<=0,\"\",Schießkladde!C146)","v":""},{"$f":"Schießkladde!AH146","v":0}]
[null,null,null,null,null,{"$f":"IF(H437<=0,\"\",Schießkladde!B147)","v":""},{"$f":"IF(H437<=0,\"\",Schießkladde!C147)","v":""},{"$f":"Schießkladde!AH147","v":0}]
[null,null,null,null,null,{"$f":"IF(H438<=0,\"\",Schießkladde!B148)","v":""},{"$f":"IF(H438<=0,\"\",Schießkladde!C148)","v":""},{"$f":"Schießkladde!AH148","v":0}]
[null,null,null,null,null,{"$f":"IF(H439<=0,\"\",Schießkladde!B149)","v":""},{"$f":"IF(H439<=0,\"\",Schießkladde!C149)","v":""},{"$f":"Schießkladde!AH149","v":0}]
[null,null,null,null,null,{"$f":"IF(H440<=0,\"\",Schießkladde!B150)","v":""},{"$f":"IF(H440<=0,\"\",Schießkladde!C150)","v":""},{"$f":"Schießkladde!AH150","v":0}]
[null,null,null,null,null,{"$f":"IF(H441<=0,\"\",Schießkladde!B151)","v":""},{"$f":"IF(H441<=0,\"\",Schießkladde!C151)","v":""},{"$f":"Schießkladde!AH151","v":0}]
[null,null,null,null,null,{"$f":"IF(H442<=0,\"\",Schießkladde!B152)","v":""},{"$f":"IF(H442<=0,\"\",Schießkladde!C152)","v":""},{"$f":"Schießkladde!AH152","v":0}]
[null,null,null,null,null,{"$f":"IF(H443<=0,\"\",Schießkladde!B153)","v":""},{"$f":"IF(H443<=0,\"\",Schießkladde!C153)","v":""},{"$f":"Schießkladde!AH153","v":0}]
[null,null,null,null,null,{"$f":"IF(H444<=0,\"\",Schießkladde!B154)","v":""},{"$f":"IF(H444<=0,\"\",Schießkladde!C154)","v":""},{"$f":"Schießkladde!AH154","v":0}]
[null,null,null,null,null,{"$f":"IF(H445<=0,\"\",Schießkladde!B155)","v":""},{"$f":"IF(H445<=0,\"\",Schießkladde!C155)","v":""},{"$f":"Schießkladde!AH155","v":0}]
[null,null,null,null,null,{"$f":"IF(H446<=0,\"\",Schießkladde!B156)","v":""},{"$f":"IF(H446<=0,\"\",Schießkladde!C156)","v":""},{"$f":"Schießkladde!AH156","v":0}]
[null,null,null,null,null,{"$f":"IF(H447<=0,\"\",Schießkladde!B157)","v":""},{"$f":"IF(H447<=0,\"\",Schießkladde!C157)","v":""},{"$f":"Schießkladde!AH157","v":0}]
[null,null,null,null,null,{"$f":"IF(H448<=0,\"\",Schießkladde!B158)","v":""},{"$f":"IF(H448<=0,\"\",Schießkladde!C158)","v":""},{"$f":"Schießkladde!AH158","v":0}]
[null,null,null,null,null,{"$f":"IF(H449<=0,\"\",Schießkladde!B159)","v":""},{"$f":"IF(H449<=0,\"\",Schießkladde!C159)","v":""},{"$f":"Schießkladde!AH159","v":0}]
[null,null,null,null,null,{"$f":"IF(H450<=0,\"\",Schießkladde!B160)","v":""},{"$f":"IF(H450<=0,\"\",Schießkladde!C160)","v":""},{"$f":"Schießkladde!AH160","v":0}]
[null,null,null,null,null,{"$f":"IF(H451<=0,\"\",Schießkladde!B161)","v":""},{"$f":"IF(H451<=0,\"\",Schießkladde!C161)","v":""},{"$f":"Schießkladde!AH161","v":0}]
[null,null,null,null,null,{"$f":"IF(H452<=0,\"\",Schießkladde!B162)","v":""},{"$f":"IF(H452<=0,\"\",Schießkladde!C162)","v":""},{"$f":"Schießkladde!AH162","v":0}]
[null,null,null,null,null,{"$f":"IF(H453<=0,\"\",Schießkladde!B163)","v":""},{"$f":"IF(H453<=0,\"\",Schießkladde!C163)","v":""},{"$f":"Schießkladde!AH163","v":0}]
[null,null,null,null,null,{"$f":"IF(H454<=0,\"\",Schießkladde!B164)","v":""},{"$f":"IF(H454<=0,\"\",Schießkladde!C164)","v":""},{"$f":"Schießkladde!AH164","v":0}]
[null,null,null,null,null,{"$f":"IF(H455<=0,\"\",Schießkladde!B165)","v":""},{"$f":"IF(H455<=0,\"\",Schießkladde!C165)","v":""},{"$f":"Schießkladde!AH165","v":0}]
[null,null,null,null,null,{"$f":"IF(H456<=0,\"\",Schießkladde!B166)","v":""},{"$f":"IF(H456<=0,\"\",Schießkladde!C166)","v":""},{"$f":"Schießkladde!AH166","v":0}]
[null,null,null,null,null,{"$f":"IF(H457<=0,\"\",Schießkladde!B167)","v":""},{"$f":"IF(H457<=0,\"\",Schießkladde!C167)","v":""},{"$f":"Schießkladde!AH167","v":0}]
[null,null,null,null,null,{"$f":"IF(H458<=0,\"\",Schießkladde!B168)","v":""},{"$f":"IF(H458<=0,\"\",Schießkladde!C168)","v":""},{"$f":"Schießkladde!AH168","v":0}]
[null,null,null,null,null,{"$f":"IF(H459<=0,\"\",Schießkladde!B169)","v":""},{"$f":"IF(H459<=0,\"\",Schießkladde!C169)","v":""},{"$f":"Schießkladde!AH169","v":0}]
[null,null,null,null,null,{"$f":"IF(H460<=0,\"\",Schießkladde!B170)","v":""},{"$f":"IF(H460<=0,\"\",Schießkladde!C170)","v":""},{"$f":"Schießkladde!AH170","v":0}]
[null,null,null,null,null,{"$f":"IF(H461<=0,\"\",Schießkladde!B171)","v":""},{"$f":"IF(H461<=0,\"\",Schießkladde!C171)","v":""},{"$f":"Schießkladde!AH171","v":0}]
[null,null,null,null,null,{"$f":"IF(H462<=0,\"\",Schießkladde!B172)","v":""},{"$f":"IF(H462<=0,\"\",Schießkladde!C172)","v":""},{"$f":"Schießkladde!AH172","v":0}]
[null,null,null,null,null,{"$f":"IF(H463<=0,\"\",Schießkladde!B173)","v":""},{"$f":"IF(H463<=0,\"\",Schießkladde!C173)","v":""},{"$f":"Schießkladde!AH173","v":0}]
[null,null,null,null,null,{"$f":"IF(H464<=0,\"\",Schießkladde!B174)","v":""},{"$f":"IF(H464<=0,\"\",Schießkladde!C174)","v":""},{"$f":"Schießkladde!AH174","v":0}]
[null,null,null,null,null,{"$f":"IF(H465<=0,\"\",Schießkladde!B175)","v":""},{"$f":"IF(H465<=0,\"\",Schießkladde!C175)","v":""},{"$f":"Schießkladde!AH175","v":0}]
[null,null,null,null,null,{"$f":"IF(H466<=0,\"\",Schießkladde!B176)","v":""},{"$f":"IF(H466<=0,\"\",Schießkladde!C176)","v":""},{"$f":"Schießkladde!AH176","v":0}]
[null,null,null,null,null,{"$f":"IF(H467<=0,\"\",Schießkladde!B177)","v":""},{"$f":"IF(H467<=0,\"\",Schießkladde!C177)","v":""},{"$f":"Schießkladde!AH177","v":0}]
[null,null,null,null,null,{"$f":"IF(H468<=0,\"\",Schießkladde!B178)","v":""},{"$f":"IF(H468<=0,\"\",Schießkladde!C178)","v":""},{"$f":"Schießkladde!AH178","v":0}]
[null,null,null,null,null,{"$f":"IF(H469<=0,\"\",Schießkladde!B179)","v":""},{"$f":"IF(H469<=0,\"\",Schießkladde!C179)","v":""},{"$f":"Schießkladde!AH179","v":0}]
[null,null,null,null,null,{"$f":"IF(H470<=0,\"\",Schießkladde!B180)","v":""},{"$f":"IF(H470<=0,\"\",Schießkladde!C180)","v":""},{"$f":"Schießkladde!AH180","v":0}]
[null,null,null,null,null,{"$f":"IF(H471<=0,\"\",Schießkladde!B181)","v":""},{"$f":"IF(H471<=0,\"\",Schießkladde!C181)","v":""},{"$f":"Schießkladde!AH181","v":0}]
[null,null,null,null,null,{"$f":"IF(H472<=0,\"\",Schießkladde!B182)","v":""},{"$f":"IF(H472<=0,\"\",Schießkladde!C182)","v":""},{"$f":"Schießkladde!AH182","v":0}]
[null,null,null,null,null,{"$f":"IF(H473<=0,\"\",Schießkladde!B183)","v":""},{"$f":"IF(H473<=0,\"\",Schießkladde!C183)","v":""},{"$f":"Schießkladde!AH183","v":0}]
[null,null,null,null,null,{"$f":"IF(H474<=0,\"\",Schießkladde!B184)","v":""},{"$f":"IF(H474<=0,\"\",Schießkladde!C184)","v":""},{"$f":"Schießkladde!AH184","v":0}]
[null,null,null,null,null,{"$f":"IF(H475<=0,\"\",Schießkladde!B185)","v":""},{"$f":"IF(H475<=0,\"\",Schießkladde!C185)","v":""},{"$f":"Schießkladde!AH185","v":0}]
[null,null,null,null,null,{"$f":"IF(H476<=0,\"\",Schießkladde!B186)","v":""},{"$f":"IF(H476<=0,\"\",Schießkladde!C186)","v":""},{"$f":"Schießkladde!AH186","v":0}]
[null,null,null,null,null,{"$f":"IF(H477<=0,\"\",Schießkladde!B187)","v":""},{"$f":"IF(H477<=0,\"\",Schießkladde!C187)","v":""},{"$f":"Schießkladde!AH187","v":0}]
[null,null,null,null,null,{"$f":"IF(H478<=0,\"\",Schießkladde!B188)","v":""},{"$f":"IF(H478<=0,\"\",Schießkladde!C188)","v":""},{"$f":"Schießkladde!AH188","v":0}]
[null,null,null,null,null,{"$f":"IF(H479<=0,\"\",Schießkladde!B189)","v":""},{"$f":"IF(H479<=0,\"\",Schießkladde!C189)","v":""},{"$f":"Schießkladde!AH189","v":0}]
[null,null,null,null,null,{"$f":"IF(H480<=0,\"\",Schießkladde!B190)","v":""},{"$f":"IF(H480<=0,\"\",Schießkladde!C190)","v":""},{"$f":"Schießkladde!AH190","v":0}]
[null,null,null,null,null,{"$f":"IF(H481<=0,\"\",Schießkladde!B191)","v":""},{"$f":"IF(H481<=0,\"\",Schießkladde!C191)","v":""},{"$f":"Schießkladde!AH191","v":0}]
[null,null,null,null,null,{"$f":"IF(H482<=0,\"\",Schießkladde!B192)","v":""},{"$f":"IF(H482<=0,\"\",Schießkladde!C192)","v":""},{"$f":"Schießkladde!AH192","v":0}]
[null,null,null,null,null,{"$f":"IF(H483<=0,\"\",Schießkladde!B193)","v":""},{"$f":"IF(H483<=0,\"\",Schießkladde!C193)","v":""},{"$f":"Schießkladde!AH193","v":0}]
[null,null,null,null,null,{"$f":"IF(H484<=0,\"\",Schießkladde!B194)","v":""},{"$f":"IF(H484<=0,\"\",Schießkladde!C194)","v":""},{"$f":"Schießkladde!AH194","v":0}]
[null,null,null,null,null,{"$f":"IF(H485<=0,\"\",Schießkladde!B195)","v":""},{"$f":"IF(H485<=0,\"\",Schießkladde!C195)","v":""},{"$f":"Schießkladde!AH195","v":0}]
[null,null,null,null,null,{"$f":"IF(H486<=0,\"\",Schießkladde!B196)","v":""},{"$f":"IF(H486<=0,\"\",Schießkladde!C196)","v":""},{"$f":"Schießkladde!AH196","v":0}]
[null,null,null,null,null,{"$f":"IF(H487<=0,\"\",Schießkladde!B197)","v":""},{"$f":"IF(H487<=0,\"\",Schießkladde!C197)","v":""},{"$f":"Schießkladde!AH197","v":0}]
[null,null,null,null,null,{"$f":"IF(H488<=0,\"\",Schießkladde!B198)","v":""},{"$f":"IF(H488<=0,\"\",Schießkladde!C198)","v":""},{"$f":"Schießkladde!AH198","v":0}]
[null,null,null,null,null,{"$f":"IF(H489<=0,\"\",Schießkladde!B199)","v":""},{"$f":"IF(H489<=0,\"\",Schießkladde!C199)","v":""},{"$f":"Schießkladde!AH199","v":0}]
[null,null,null,null,null,{"$f":"IF(H490<=0,\"\",Schießkladde!B200)","v":""},{"$f":"IF(H490<=0,\"\",Schießkladde!C200)","v":""},{"$f":"Schießkladde!AH200","v":0}]
[null,null,null,null,null,{"$f":"IF(H491<=0,\"\",Schießkladde!B201)","v":""},{"$f":"IF(H491<=0,\"\",Schießkladde!C201)","v":""},{"$f":"Schießkladde!AH201","v":0}]
[null,null,null,null,null,{"$f":"IF(H492<=0,\"\",Schießkladde!B202)","v":""},{"$f":"IF(H492<=0,\"\",Schießkladde!C202)","v":""},{"$f":"Schießkladde!AH202","v":0}]
[null,null,null,null,null,{"$f":"IF(H493<=0,\"\",Schießkladde!B203)","v":""},{"$f":"IF(H493<=0,\"\",Schießkladde!C203)","v":""},{"$f":"Schießkladde!AH203","v":0}]
[null,null,null,null,null,{"$f":"IF(H494<=0,\"\",Schießkladde!B204)","v":""},{"$f":"IF(H494<=0,\"\",Schießkladde!C204)","v":""},{"$f":"Schießkladde!AH204","v":0}]
[null,null,null,null,null,{"$f":"IF(H495<=0,\"\",Schießkladde!B204)","v":""},{"$f":"IF(H495<=0,\"\",Schießkladde!C204)","v":""},{"$f":"Schießkladde!AH204","v":0}]
[null,null,null,null,null,{"$f":"IF(H496<=0,\"\",Schießkladde!B205)","v":""},{"$f":"IF(H496<=0,\"\",Schießkladde!C205)","v":""},{"$f":"Schießkladde!AH205","v":0}]
[null,null,null,null,null,{"$f":"IF(H498<=0,\"\",Schießkladde!B206)","v":""},{"$f":"IF(H497<=0,\"\",Schießkladde!C205)","v":""},{"$f":"Schießkladde!AH205","v":0}]
[null,null,null,null,null,{"$f":"IF(H499<=0,\"\",Schießkladde!B207)","v":""},{"$f":"IF(H498<=0,\"\",Schießkladde!C206)","v":""},{"$f":"Schießkladde!AH206","v":0}]
[null,null,null,null,null,{"$f":"IF(H500<=0,\"\",Schießkladde!B208)","v":""},{"$f":"IF(H499<=0,\"\",Schießkladde!C207)","v":""},{"$f":"Schießkladde!AH207","v":0}]
[null,null,null,null,null,{"$f":"IF(H501<=0,\"\",Schießkladde!B209)","v":""},{"$f":"IF(H500<=0,\"\",Schießkladde!C208)","v":""},{"$f":"Schießkladde!AH208","v":0}]
[null,null,null,null,null,{"$f":"IF(H502<=0,\"\",Schießkladde!B210)","v":""},{"$f":"IF(H501<=0,\"\",Schießkladde!C209)","v":""},{"$f":"Schießkladde!AH209","v":0}]
[null,null,null,null,null,{"$f":"IF(H503<=0,\"\",Schießkladde!B211)","v":""},{"$f":"IF(H502<=0,\"\",Schießkladde!C210)","v":""},{"$f":"Schießkladde!AH210","v":0}]
[null,null,null,null,null,{"$f":"IF(H504<=0,\"\",Schießkladde!B212)","v":""},{"$f":"IF(H503<=0,\"\",Schießkladde!C211)","v":""},{"$f":"Schießkladde!AH211","v":0}]
[null,null,null,null,null,{"$f":"IF(H505<=0,\"\",Schießkladde!B213)","v":""},{"$f":"IF(H504<=0,\"\",Schießkladde!C212)","v":""},{"$f":"Schießkladde!AH212","v":0}]
[null,null,null,null,null,{"$f":"IF(H506<=0,\"\",Schießkladde!B214)","v":""},{"$f":"IF(H505<=0,\"\",Schießkladde!C213)","v":""},{"$f":"Schießkladde!AH213","v":0}]
[null,null,null,null,null,{"$f":"IF(H507<=0,\"\",Schießkladde!B215)","v":""},{"$f":"IF(H506<=0,\"\",Schießkladde!C214)","v":""},{"$f":"Schießkladde!AH214","v":0}]
[null,null,null,null,null,{"$f":"IF(H508<=0,\"\",Schießkladde!B216)","v":""},{"$f":"IF(H507<=0,\"\",Schießkladde!C215)","v":""},{"$f":"Schießkladde!AH215","v":0}]
[null,null,null,null,null,{"$f":"IF(H509<=0,\"\",Schießkladde!B217)","v":""},{"$f":"IF(H508<=0,\"\",Schießkladde!C216)","v":""},{"$f":"Schießkladde!AH216","v":0}]
[null,null,null,null,null,{"$f":"IF(H510<=0,\"\",Schießkladde!B218)","v":""},{"$f":"IF(H509<=0,\"\",Schießkladde!C217)","v":""},{"$f":"Schießkladde!AH217","v":0}]
[null,null,null,null,null,{"$f":"IF(H511<=0,\"\",Schießkladde!B219)","v":""},{"$f":"IF(H510<=0,\"\",Schießkladde!C218)","v":""},{"$f":"Schießkladde!AH218","v":0}]
[null,null,null,null,null,{"$f":"IF(H512<=0,\"\",Schießkladde!B220)","v":""},{"$f":"IF(H511<=0,\"\",Schießkladde!C219)","v":""},{"$f":"Schießkladde!AH219","v":0}]
[null,null,null,null,null,{"$f":"IF(H513<=0,\"\",Schießkladde!B221)","v":""},{"$f":"IF(H512<=0,\"\",Schießkladde!C220)","v":""},{"$f":"Schießkladde!AH220","v":0}]
[null,null,null,null,null,{"$f":"IF(H514<=0,\"\",Schießkladde!B222)","v":""},{"$f":"IF(H513<=0,\"\",Schießkladde!C221)","v":""},{"$f":"Schießkladde!AH221","v":0}]
[null,null,null,null,null,{"$f":"IF(H515<=0,\"\",Schießkladde!B223)","v":""},{"$f":"IF(H514<=0,\"\",Schießkladde!C222)","v":""},{"$f":"Schießkladde!AH222","v":0}]
[null,null,null,null,null,{"$f":"IF(H516<=0,\"\",Schießkladde!B224)","v":""},{"$f":"IF(H515<=0,\"\",Schießkladde!C223)","v":""},{"$f":"Schießkladde!AH223","v":0}]
[null,null,null,null,null,{"$f":"IF(H517<=0,\"\",Schießkladde!B225)","v":""},{"$f":"IF(H516<=0,\"\",Schießkladde!C224)","v":""},{"$f":"Schießkladde!AH224","v":0}]
[null,null,null,null,null,{"$f":"IF(H518<=0,\"\",Schießkladde!B226)","v":""},{"$f":"IF(H517<=0,\"\",Schießkladde!C225)","v":""},{"$f":"Schießkladde!AH225","v":0}]
[null,null,null,null,null,{"$f":"IF(H519<=0,\"\",Schießkladde!B227)","v":""},{"$f":"IF(H518<=0,\"\",Schießkladde!C226)","v":""},{"$f":"Schießkladde!AH226","v":0}]
[null,null,null,null,null,{"$f":"IF(H520<=0,\"\",Schießkladde!B228)","v":""},{"$f":"IF(H519<=0,\"\",Schießkladde!C227)","v":""},{"$f":"Schießkladde!AH227","v":0}]
[null,null,null,null,null,{"$f":"IF(H521<=0,\"\",Schießkladde!B229)","v":""},{"$f":"IF(H520<=0,\"\",Schießkladde!C228)","v":""},{"$f":"Schießkladde!AH228","v":0}]
[null,null,null,null,null,{"$f":"IF(H522<=0,\"\",Schießkladde!B230)","v":""},{"$f":"IF(H521<=0,\"\",Schießkladde!C229)","v":""},{"$f":"Schießkladde!AH229","v":0}]
[null,null,null,null,null,{"$f":"IF(H523<=0,\"\",Schießkladde!B231)","v":""},{"$f":"IF(H522<=0,\"\",Schießkladde!C230)","v":""},{"$f":"Schießkladde!AH230","v":0}]
[null,null,null,null,null,{"$f":"IF(H524<=0,\"\",Schießkladde!B232)","v":""},{"$f":"IF(H523<=0,\"\",Schießkladde!C231)","v":""},{"$f":"Schießkladde!AH231","v":0}]
[null,null,null,null,null,{"$f":"IF(H525<=0,\"\",Schießkladde!B233)","v":""},{"$f":"IF(H524<=0,\"\",Schießkladde!C232)","v":""},{"$f":"Schießkladde!AH232","v":0}]
[null,null,null,null,null,{"$f":"IF(H526<=0,\"\",Schießkladde!B234)","v":""},{"$f":"IF(H525<=0,\"\",Schießkladde!C233)","v":""},{"$f":"Schießkladde!AH233","v":0}]
[null,null,null,null,null,{"$f":"IF(H527<=0,\"\",Schießkladde!B235)","v":""},{"$f":"IF(H526<=0,\"\",Schießkladde!C234)","v":""},{"$f":"Schießkladde!AH234","v":0}]
[null,null,null,null,null,{"$f":"IF(H528<=0,\"\",Schießkladde!B236)","v":""},{"$f":"IF(H527<=0,\"\",Schießkladde!C235)","v":""},{"$f":"Schießkladde!AH235","v":0}]
[null,null,null,null,null,{"$f":"IF(H529<=0,\"\",Schießkladde!B237)","v":""},{"$f":"IF(H528<=0,\"\",Schießkladde!C236)","v":""},{"$f":"Schießkladde!AH236","v":0}]
[null,null,null,null,null,{"$f":"IF(H530<=0,\"\",Schießkladde!B238)","v":""},{"$f":"IF(H529<=0,\"\",Schießkladde!C237)","v":""},{"$f":"Schießkladde!AH237","v":0}]
[null,null,null,null,null,{"$f":"IF(H531<=0,\"\",Schießkladde!B239)","v":""},{"$f":"IF(H530<=0,\"\",Schießkladde!C238)","v":""},{"$f":"Schießkladde!AH238","v":0}]
[null,null,null,null,null,{"$f":"IF(H532<=0,\"\",Schießkladde!B240)","v":""},{"$f":"IF(H531<=0,\"\",Schießkladde!C239)","v":""},{"$f":"Schießkladde!AH239","v":0}]
[null,null,null,null,null,{"$f":"IF(H533<=0,\"\",Schießkladde!B241)","v":""},{"$f":"IF(H532<=0,\"\",Schießkladde!C240)","v":""},{"$f":"Schießkladde!AH240","v":0}]
[null,null,null,null,null,{"$f":"IF(H534<=0,\"\",Schießkladde!B242)","v":""},{"$f":"IF(H533<=0,\"\",Schießkladde!C241)","v":""},{"$f":"Schießkladde!AH241","v":0}]
[null,null,null,null,null,{"$f":"IF(H535<=0,\"\",Schießkladde!B243)","v":""},{"$f":"IF(H534<=0,\"\",Schießkladde!C242)","v":""},{"$f":"Schießkladde!AH242","v":0}]
[null,null,null,null,null,{"$f":"IF(H536<=0,\"\",Schießkladde!B244)","v":""},{"$f":"IF(H535<=0,\"\",Schießkladde!C243)","v":""},{"$f":"Schießkladde!AH243","v":0}]
[null,null,null,null,null,{"$f":"IF(H537<=0,\"\",Schießkladde!B245)","v":""},{"$f":"IF(H536<=0,\"\",Schießkladde!C244)","v":""},{"$f":"Schießkladde!AH244","v":0}]
[null,null,null,null,null,{"$f":"IF(H538<=0,\"\",Schießkladde!B246)","v":""},{"$f":"IF(H537<=0,\"\",Schießkladde!C245)","v":""},{"$f":"Schießkladde!AH245","v":0}]
[null,null,null,null,null,{"$f":"IF(H539<=0,\"\",Schießkladde!B247)","v":""},{"$f":"IF(H538<=0,\"\",Schießkladde!C246)","v":""},{"$f":"Schießkladde!AH246","v":0}]
[null,null,null,null,null,{"$f":"IF(H540<=0,\"\",Schießkladde!B248)","v":""},{"$f":"IF(H539<=0,\"\",Schießkladde!C247)","v":""},{"$f":"Schießkladde!AH247","v":0}]
[null,null,null,null,null,{"$f":"IF(H541<=0,\"\",Schießkladde!B249)","v":""},{"$f":"IF(H540<=0,\"\",Schießkladde!C248)","v":""},{"$f":"Schießkladde!AH248","v":0}]
[null,null,null,null,null,{"$f":"IF(H542<=0,\"\",Schießkladde!B250)","v":""},{"$f":"IF(H541<=0,\"\",Schießkladde!C249)","v":""},{"$f":"Schießkladde!AH249","v":0}]
[null,null,null,null,null,{"$f":"IF(H543<=0,\"\",Schießkladde!B251)","v":""},{"$f":"IF(H542<=0,\"\",Schießkladde!C250)","v":""},{"$f":"Schießkladde!AH250","v":0}]
[null,null,null,null,null,{"$f":"IF(H544<=0,\"\",Schießkladde!B252)","v":""},{"$f":"IF(H543<=0,\"\",Schießkladde!C251)","v":""},{"$f":"Schießkladde!AH251","v":0}]
[null,null,null,null,null,{"$f":"IF(H545<=0,\"\",Schießkladde!B253)","v":""},{"$f":"IF(H544<=0,\"\",Schießkladde!C252)","v":""},{"$f":"Schießkladde!AH252","v":0}]
[null,null,null,null,null,{"$f":"IF(H546<=0,\"\",Schießkladde!B254)","v":""},{"$f":"IF(H545<=0,\"\",Schießkladde!C253)","v":""},{"$f":"Schießkladde!AH253","v":0}]
[null,null,null,null,null,{"$f":"IF(H547<=0,\"\",Schießkladde!B255)","v":""},{"$f":"IF(H546<=0,\"\",Schießkladde!C254)","v":""},{"$f":"Schießkladde!AH254","v":0}]
[null,null,null,null,null,{"$f":"IF(H548<=0,\"\",Schießkladde!B256)","v":""},{"$f":"IF(H547<=0,\"\",Schießkladde!C255)","v":""},{"$f":"Schießkladde!AH255","v":0}]
[null,null,null,null,null,{"$f":"IF(H549<=0,\"\",Schießkladde!B257)","v":""},{"$f":"IF(H548<=0,\"\",Schießkladde!C256)","v":""},{"$f":"Schießkladde!AH256","v":0}]
[null,null,null,null,null,{"$f":"IF(H550<=0,\"\",Schießkladde!B258)","v":""},{"$f":"IF(H549<=0,\"\",Schießkladde!C257)","v":""},{"$f":"Schießkladde!AH257","v":0}]
[null,null,null,null,null,{"$f":"IF(H551<=0,\"\",Schießkladde!B259)","v":""},{"$f":"IF(H550<=0,\"\",Schießkladde!C258)","v":""},{"$f":"Schießkladde!AH258","v":0}]
[null,null,null,null,null,{"$f":"IF(H552<=0,\"\",Schießkladde!B260)","v":""},{"$f":"IF(H551<=0,\"\",Schießkladde!C259)","v":""},{"$f":"Schießkladde!AH259","v":0}]
[null,null,null,null,null,{"$f":"IF(H553<=0,\"\",Schießkladde!B261)","v":""},{"$f":"IF(H552<=0,\"\",Schießkladde!C260)","v":""},{"$f":"Schießkladde!AH260","v":0}]
[null,null,null,null,null,{"$f":"IF(H554<=0,\"\",Schießkladde!B262)","v":""},{"$f":"IF(H553<=0,\"\",Schießkladde!C261)","v":""},{"$f":"Schießkladde!AH261","v":0}]
[null,null,null,null,null,{"$f":"IF(H555<=0,\"\",Schießkladde!B263)","v":""},{"$f":"IF(H554<=0,\"\",Schießkladde!C262)","v":""},{"$f":"Schießkladde!AH262","v":0}]
[null,null,null,null,null,{"$f":"IF(H556<=0,\"\",Schießkladde!B264)","v":""},{"$f":"IF(H555<=0,\"\",Schießkladde!C263)","v":""},{"$f":"Schießkladde!AH263","v":0}]
[null,null,null,null,null,{"$f":"IF(H557<=0,\"\",Schießkladde!B265)","v":""},{"$f":"IF(H556<=0,\"\",Schießkladde!C264)","v":""},{"$f":"Schießkladde!AH264","v":0}]
[null,null,null,null,null,{"$f":"IF(H558<=0,\"\",Schießkladde!B266)","v":""},{"$f":"IF(H557<=0,\"\",Schießkladde!C265)","v":""},{"$f":"Schießkladde!AH265","v":0}]
[null,null,null,null,null,{"$f":"IF(H559<=0,\"\",Schießkladde!B267)","v":""},{"$f":"IF(H558<=0,\"\",Schießkladde!C266)","v":""},{"$f":"Schießkladde!AH266","v":0}]
[null,null,null,null,null,{"$f":"IF(H560<=0,\"\",Schießkladde!B268)","v":""},{"$f":"IF(H559<=0,\"\",Schießkladde!C267)","v":""},{"$f":"Schießkladde!AH267","v":0}]
[null,null,null,null,null,{"$f":"IF(H561<=0,\"\",Schießkladde!B269)","v":""},{"$f":"IF(H560<=0,\"\",Schießkladde!C268)","v":""},{"$f":"Schießkladde!AH268","v":0}]
[null,null,null,null,null,{"$f":"IF(H562<=0,\"\",Schießkladde!B270)","v":""},{"$f":"IF(H561<=0,\"\",Schießkladde!C269)","v":""},{"$f":"Schießkladde!AH269","v":0}]
[null,null,null,null,null,{"$f":"IF(H563<=0,\"\",Schießkladde!B271)","v":""},{"$f":"IF(H562<=0,\"\",Schießkladde!C270)","v":""},{"$f":"Schießkladde!AH270","v":0}]
[null,null,null,null,null,{"$f":"IF(H564<=0,\"\",Schießkladde!B272)","v":""},{"$f":"IF(H563<=0,\"\",Schießkladde!C271)","v":""},{"$f":"Schießkladde!AH271","v":0}]
[null,null,null,null,null,{"$f":"IF(H565<=0,\"\",Schießkladde!B273)","v":""},{"$f":"IF(H564<=0,\"\",Schießkladde!C272)","v":""},{"$f":"Schießkladde!AH272","v":0}]
[null,null,null,null,null,{"$f":"IF(H566<=0,\"\",Schießkladde!B274)","v":""},{"$f":"IF(H565<=0,\"\",Schießkladde!C273)","v":""},{"$f":"Schießkladde!AH273","v":0}]
[null,null,null,null,null,{"$f":"IF(H567<=0,\"\",Schießkladde!B275)","v":""},{"$f":"IF(H566<=0,\"\",Schießkladde!C274)","v":""},{"$f":"Schießkladde!AH274","v":0}]
[null,null,null,null,null,{"$f":"IF(H568<=0,\"\",Schießkladde!B276)","v":""},{"$f":"IF(H567<=0,\"\",Schießkladde!C275)","v":""},{"$f":"Schießkladde!AH275","v":0}]
[null,null,null,null,null,{"$f":"IF(H569<=0,\"\",Schießkladde!B277)","v":""},{"$f":"IF(H568<=0,\"\",Schießkladde!C276)","v":""},{"$f":"Schießkladde!AH276","v":0}]
[null,null,null,null,null,{"$f":"IF(H570<=0,\"\",Schießkladde!B278)","v":""},{"$f":"IF(H569<=0,\"\",Schießkladde!C277)","v":""},{"$f":"Schießkladde!AH277","v":0}]
[null,null,null,null,null,{"$f":"IF(H571<=0,\"\",Schießkladde!B279)","v":""},{"$f":"IF(H570<=0,\"\",Schießkladde!C278)","v":""},{"$f":"Schießkladde!AH278","v":0}]
[null,null,null,null,null,{"$f":"IF(H572<=0,\"\",Schießkladde!B280)","v":""},{"$f":"IF(H571<=0,\"\",Schießkladde!C279)","v":""},{"$f":"Schießkladde!AH279","v":0}]
[null,null,null,null,null,{"$f":"IF(H573<=0,\"\",Schießkladde!B281)","v":""},{"$f":"IF(H572<=0,\"\",Schießkladde!C280)","v":""},{"$f":"Schießkladde!AH280","v":0}]
[null,null,null,null,null,{"$f":"IF(H574<=0,\"\",Schießkladde!B282)","v":""},{"$f":"IF(H573<=0,\"\",Schießkladde!C281)","v":""},{"$f":"Schießkladde!AH281","v":0}]
[null,null,null,null,null,{"$f":"IF(H575<=0,\"\",Schießkladde!B283)","v":""},{"$f":"IF(H574<=0,\"\",Schießkladde!C282)","v":""},{"$f":"Schießkladde!AH282","v":0}]
[null,null,null,null,null,{"$f":"IF(H576<=0,\"\",Schießkladde!B284)","v":""},{"$f":"IF(H575<=0,\"\",Schießkladde!C283)","v":""},{"$f":"Schießkladde!AH283","v":0}]
[null,null,null,null,null,{"$f":"IF(H577<=0,\"\",Schießkladde!B285)","v":""},{"$f":"IF(H576<=0,\"\",Schießkladde!C284)","v":""},{"$f":"Schießkladde!AH284","v":0}]
[null,null,null,null,null,{"$f":"IF(H578<=0,\"\",Schießkladde!B286)","v":""},{"$f":"IF(H577<=0,\"\",Schießkladde!C285)","v":""},{"$f":"Schießkladde!AH285","v":0}]
[null,null,null,null,null,{"$f":"IF(H579<=0,\"\",Schießkladde!B287)","v":""},{"$f":"IF(H578<=0,\"\",Schießkladde!C286)","v":""},{"$f":"Schießkladde!AH286","v":0}]
[null,null,null,null,null,{"$f":"IF(H580<=0,\"\",Schießkladde!B288)","v":""},{"$f":"IF(H579<=0,\"\",Schießkladde!C287)","v":""},{"$f":"Schießkladde!AH287","v":0}]
[null,null,null,null,null,{"$f":"IF(H581<=0,\"\",Schießkladde!B289)","v":""},{"$f":"IF(H580<=0,\"\",Schießkladde!C288)","v":""},{"$f":"Schießkladde!AH288","v":0}]
[null,null,null,null,null,{"$f":"IF(H582<=0,\"\",Schießkladde!B290)","v":""},{"$f":"IF(H581<=0,\"\",Schießkladde!C289)","v":""},{"$f":"Schießkladde!AH289","v":0}]
[null,null,null,null,null,{"$f":"IF(H583<=0,\"\",Schießkladde!B291)","v":""},{"$f":"IF(H582<=0,\"\",Schießkladde!C290)","v":""},{"$f":"Schießkladde!AH290","v":0}]
[null,null,null,null,null,{"$f":"IF(H584<=0,\"\",Schießkladde!B292)","v":""},{"$f":"IF(H583<=0,\"\",Schießkladde!C291)","v":""},{"$f":"Schießkladde!AH291","v":0}]
[null,null,null,null,null,{"$f":"IF(H585<=0,\"\",Schießkladde!B293)","v":""},{"$f":"IF(H584<=0,\"\",Schießkladde!C292)","v":""},{"$f":"Schießkladde!AH292","v":0}]
[null,null,null,null,null,{"$f":"IF(H586<=0,\"\",Schießkladde!B294)","v":""},{"$f":"IF(H585<=0,\"\",Schießkladde!C293)","v":""},{"$f":"Schießkladde!AH293","v":0}]
[null,null,null,null,null,{"$f":"IF(H587<=0,\"\",Schießkladde!B295)","v":""},{"$f":"IF(H586<=0,\"\",Schießkladde!C294)","v":""},{"$f":"Schießkladde!AH294","v":0}]
[null,null,null,null,null,{"$f":"IF(H588<=0,\"\",Schießkladde!B296)","v":""},{"$f":"IF(H587<=0,\"\",Schießkladde!C295)","v":""},{"$f":"Schießkladde!AH295","v":0}]
[null,null,null,null,null,{"$f":"IF(H589<=0,\"\",Schießkladde!B297)","v":""},{"$f":"IF(H588<=0,\"\",Schießkladde!C296)","v":""},{"$f":"Schießkladde!AH296","v":0}]
[null,null,null,null,null,{"$f":"IF(H590<=0,\"\",Schießkladde!B298)","v":""},{"$f":"IF(H589<=0,\"\",Schießkladde!C297)","v":""},{"$f":"Schießkladde!AH297","v":0}]
[null,null,null,null,null,{"$f":"IF(H591<=0,\"\",Schießkladde!B299)","v":""},{"$f":"IF(H590<=0,\"\",Schießkladde!C298)","v":""},{"$f":"Schießkladde!AH298","v":0}]
[null,null,null,null,null,{"$f":"IF(H592<=0,\"\",Schießkladde!B300)","v":""},{"$f":"IF(H591<=0,\"\",Schießkladde!C299)","v":""},{"$f":"Schießkladde!AH299","v":0}]
[null,null,null,null,null,{"$f":"IF(H593<=0,\"\",Schießkladde!B301)","v":""},{"$f":"IF(H592<=0,\"\",Schießkladde!C300)","v":""},{"$f":"Schießkladde!AH300","v":0}]
[null,null,null,null,null,{"$f":"IF(H594<=0,\"\",Schießkladde!B302)","v":""},{"$f":"IF(H593<=0,\"\",Schießkladde!C301)","v":""},{"$f":"Schießkladde!AH301","v":0}]
[null,null,null,null,null,{"$f":"IF(H595<=0,\"\",Schießkladde!B303)","v":""},{"$f":"IF(H594<=0,\"\",Schießkladde!C302)","v":""},{"$f":"Schießkladde!AH302","v":0}]
[null,null,null,null,null,{"$f":"IF(H596<=0,\"\",Schießkladde!B304)","v":""},{"$f":"IF(H595<=0,\"\",Schießkladde!C303)","v":""},{"$f":"Schießkladde!AH303","v":0}]
[null,null,null,null,null,{"$f":"IF(H597<=0,\"\",Schießkladde!B305)","v":""},{"$f":"IF(H596<=0,\"\",Schießkladde!C304)","v":""},{"$f":"Schießkladde!AH304","v":0}]
[null,null,null,null,null,{"$f":"IF(H598<=0,\"\",Schießkladde!B306)","v":""},{"$f":"IF(H597<=0,\"\",Schießkladde!C305)","v":""},{"$f":"Schießkladde!AH305","v":0}]
[null,null,null,null,null,{"$f":"IF(H599<=0,\"\",Schießkladde!B307)","v":""},{"$f":"IF(H598<=0,\"\",Schießkladde!C306)","v":""},{"$f":"Schießkladde!AH306","v":0}]
[null,null,null,null,null,{"$f":"IF(H600<=0,\"\",Schießkladde!B308)","v":""},{"$f":"IF(H599<=0,\"\",Schießkladde!C307)","v":""},{"$f":"Schießkladde!AH307","v":0}]
[null,null,null,null,null,{"$f":"IF(H601<=0,\"\",Schießkladde!B309)","v":""},{"$f":"IF(H600<=0,\"\",Schießkladde!C308)","v":""},{"$f":"Schießkladde!AH308","v":0}]
[null,null,null,null,null,{"$f":"IF(H602<=0,\"\",Schießkladde!B310)","v":""},{"$f":"IF(H601<=0,\"\",Schießkladde!C309)","v":""},{"$f":"Schießkladde!AH309","v":0}]
[null,null,null,null,null,{"$f":"IF(H603<=0,\"\",Schießkladde!B311)","v":""},{"$f":"IF(H602<=0,\"\",Schießkladde!C310)","v":""},{"$f":"Schießkladde!AH310","v":0}]
[null,null,null,null,null,{"$f":"IF(H604<=0,\"\",Schießkladde!B312)","v":""},{"$f":"IF(H603<=0,\"\",Schießkladde!C311)","v":""},{"$f":"Schießkladde!AH311","v":0}]
[null,null,null,null,null,{"$f":"IF(H605<=0,\"\",Schießkladde!B313)","v":""},{"$f":"IF(H604<=0,\"\",Schießkladde!C312)","v":""},{"$f":"Schießkladde!AH312","v":0}]
[null,null,null,null,null,{"$f":"IF(H606<=0,\"\",Schießkladde!B314)","v":""},{"$f":"IF(H605<=0,\"\",Schießkladde!C313)","v":""},{"$f":"Schießkladde!AH313","v":0}]
[null,null,null,null,null,{"$f":"IF(H607<=0,\"\",Schießkladde!B315)","v":""},{"$f":"IF(H606<=0,\"\",Schießkladde!C314)","v":""},{"$f":"Schießkladde!AH314","v":0}]
[null,null,null,null,null,{"$f":"IF(H608<=0,\"\",Schießkladde!B316)","v":""},{"$f":"IF(H607<=0,\"\",Schießkladde!C315)","v":""},{"$f":"Schießkladde!AH315","v":0}]
[null,null,null,null,null,{"$f":"IF(H609<=0,\"\",Schießkladde!B317)","v":""},{"$f":"IF(H608<=0,\"\",Schießkladde!C316)","v":""},{"$f":"Schießkladde!AH316","v":0}]
[null,null,null,null,null,{"$f":"IF(H610<=0,\"\",Schießkladde!B318)","v":""},{"$f":"IF(H609<=0,\"\",Schießkladde!C317)","v":""},{"$f":"Schießkladde!AH317","v":0}]
[null,null,null,null,null,{"$f":"IF(H611<=0,\"\",Schießkladde!B319)","v":""},{"$f":"IF(H610<=0,\"\",Schießkladde!C318)","v":""},{"$f":"Schießkladde!AH318","v":0}]
[null,null,null,null,null,{"$f":"IF(H612<=0,\"\",Schießkladde!B320)","v":""},{"$f":"IF(H611<=0,\"\",Schießkladde!C319)","v":""},{"$f":"Schießkladde!AH319","v":0}]
[null,null,null,null,null,{"$f":"IF(H613<=0,\"\",Schießkladde!B321)","v":""},{"$f":"IF(H612<=0,\"\",Schießkladde!C320)","v":""},{"$f":"Schießkladde!AH320","v":0}]
[null,null,null,null,null,{"$f":"IF(H614<=0,\"\",Schießkladde!B322)","v":""},{"$f":"IF(H613<=0,\"\",Schießkladde!C321)","v":""},{"$f":"Schießkladde!AH321","v":0}]
[null,null,null,null,null,{"$f":"IF(H615<=0,\"\",Schießkladde!B323)","v":""},{"$f":"IF(H614<=0,\"\",Schießkladde!C322)","v":""},{"$f":"Schießkladde!AH322","v":0}]
[null,null,null,null,null,{"$f":"IF(H616<=0,\"\",Schießkladde!B324)","v":""},{"$f":"IF(H615<=0,\"\",Schießkladde!C323)","v":""},{"$f":"Schießkladde!AH323","v":0}]
[null,null,null,null,null,{"$f":"IF(H617<=0,\"\",Schießkladde!B325)","v":""},{"$f":"IF(H616<=0,\"\",Schießkladde!C324)","v":""},{"$f":"Schießkladde!AH324","v":0}]
[null,null,null,null,null,{"$f":"IF(H618<=0,\"\",Schießkladde!B326)","v":""},{"$f":"IF(H617<=0,\"\",Schießkladde!C325)","v":""},{"$f":"Schießkladde!AH325","v":0}]
[null,null,null,null,null,{"$f":"IF(H619<=0,\"\",Schießkladde!B327)","v":""},{"$f":"IF(H618<=0,\"\",Schießkladde!C326)","v":""},{"$f":"Schießkladde!AH326","v":0}]
[null,null,null,null,null,{"$f":"IF(H620<=0,\"\",Schießkladde!B328)","v":""},{"$f":"IF(H619<=0,\"\",Schießkladde!C327)","v":""},{"$f":"Schießkladde!AH327","v":0}]
[null,null,null,null,null,{"$f":"IF(H621<=0,\"\",Schießkladde!B329)","v":""},{"$f":"IF(H620<=0,\"\",Schießkladde!C328)","v":""},{"$f":"Schießkladde!AH328","v":0}]
[null,null,null,null,null,{"$f":"IF(H622<=0,\"\",Schießkladde!B330)","v":""},{"$f":"IF(H621<=0,\"\",Schießkladde!C329)","v":""},{"$f":"Schießkladde!AH329","v":0}]
[null,null,null,null,null,{"$f":"IF(H623<=0,\"\",Schießkladde!B331)","v":""},{"$f":"IF(H622<=0,\"\",Schießkladde!C330)","v":""},{"$f":"Schießkladde!AH330","v":0}]
[null,null,null,null,null,{"$f":"IF(H624<=0,\"\",Schießkladde!B332)","v":""},{"$f":"IF(H623<=0,\"\",Schießkladde!C331)","v":""},{"$f":"Schießkladde!AH331","v":0}]
[null,null,null,null,null,{"$f":"IF(H625<=0,\"\",Schießkladde!B333)","v":""},{"$f":"IF(H624<=0,\"\",Schießkladde!C332)","v":""},{"$f":"Schießkladde!AH332","v":0}]
[null,null,null,null,null,{"$f":"IF(H626<=0,\"\",Schießkladde!B334)","v":""},{"$f":"IF(H625<=0,\"\",Schießkladde!C333)","v":""},{"$f":"Schießkladde!AH333","v":0}]
[null,null,null,null,null,{"$f":"IF(H627<=0,\"\",Schießkladde!B335)","v":""},{"$f":"IF(H626<=0,\"\",Schießkladde!C334)","v":""},{"$f":"Schießkladde!AH334","v":0}]
[null,null,null,null,null,{"$f":"IF(H628<=0,\"\",Schießkladde!B336)","v":""},{"$f":"IF(H627<=0,\"\",Schießkladde!C335)","v":""},{"$f":"Schießkladde!AH335","v":0}]
[null,null,null,null,null,{"$f":"IF(H629<=0,\"\",Schießkladde!B337)","v":""},{"$f":"IF(H628<=0,\"\",Schießkladde!C336)","v":""},{"$f":"Schießkladde!AH336","v":0}]
[null,null,null,null,null,{"$f":"IF(H630<=0,\"\",Schießkladde!B338)","v":""},{"$f":"IF(H629<=0,\"\",Schießkladde!C337)","v":""},{"$f":"Schießkladde!AH337","v":0}]
[null,null,null,null,null,{"$f":"IF(H631<=0,\"\",Schießkladde!B339)","v":""},{"$f":"IF(H630<=0,\"\",Schießkladde!C338)","v":""},{"$f":"Schießkladde!AH338","v":0}]
[null,null,null,null,null,{"$f":"IF(H632<=0,\"\",Schießkladde!B340)","v":""},{"$f":"IF(H631<=0,\"\",Schießkladde!C339)","v":""},{"$f":"Schießkladde!AH339","v":0}]
[null,null,null,null,null,{"$f":"IF(H633<=0,\"\",Schießkladde!B341)","v":""},{"$f":"IF(H632<=0,\"\",Schießkladde!C340)","v":""},{"$f":"Schießkladde!AH340","v":0}]
[null,null,null,null,null,{"$f":"IF(H634<=0,\"\",Schießkladde!B342)","v":""},{"$f":"IF(H633<=0,\"\",Schießkladde!C341)","v":""},{"$f":"Schießkladde!AH341","v":0}]
[null,null,null,null,null,{"$f":"IF(H635<=0,\"\",Schießkladde!B343)","v":""},{"$f":"IF(H634<=0,\"\",Schießkladde!C342)","v":""},{"$f":"Schießkladde!AH342","v":0}]
[null,null,null,null,null,{"$f":"IF(H636<=0,\"\",Schießkladde!B344)","v":""},{"$f":"IF(H635<=0,\"\",Schießkladde!C343)","v":""},{"$f":"Schießkladde!AH343","v":0}]
[null,null,null,null,null,{"$f":"IF(H637<=0,\"\",Schießkladde!B345)","v":""},{"$f":"IF(H636<=0,\"\",Schießkladde!C344)","v":""},{"$f":"Schießkladde!AH344","v":0}]
[null,null,null,null,null,{"$f":"IF(H638<=0,\"\",Schießkladde!B346)","v":""},{"$f":"IF(H637<=0,\"\",Schießkladde!C345)","v":""},{"$f":"Schießkladde!AH345","v":0}]
[null,null,null,null,null,{"$f":"IF(H639<=0,\"\",Schießkladde!B347)","v":""},{"$f":"IF(H638<=0,\"\",Schießkladde!C346)","v":""},{"$f":"Schießkladde!AH346","v":0}]
[null,null,null,null,null,{"$f":"IF(H640<=0,\"\",Schießkladde!B348)","v":""},{"$f":"IF(H639<=0,\"\",Schießkladde!C347)","v":""},{"$f":"Schießkladde!AH347","v":0}]
[null,null,null,null,null,{"$f":"IF(H641<=0,\"\",Schießkladde!B349)","v":""},{"$f":"IF(H640<=0,\"\",Schießkladde!C348)","v":""},{"$f":"Schießkladde!AH348","v":0}]
[null,null,null,null,null,{"$f":"IF(H642<=0,\"\",Schießkladde!B350)","v":""},{"$f":"IF(H641<=0,\"\",Schießkladde!C349)","v":""},{"$f":"Schießkladde!AH349","v":0}]
[null,null,null,null,null,{"$f":"IF(H643<=0,\"\",Schießkladde!B351)","v":""},{"$f":"IF(H642<=0,\"\",Schießkladde!C350)","v":""},{"$f":"Schießkladde!AH350","v":0}]
[null,null,null,null,null,{"$f":"IF(H644<=0,\"\",Schießkladde!B352)","v":""},{"$f":"IF(H643<=0,\"\",Schießkladde!C351)","v":""},{"$f":"Schießkladde!AH351","v":0}]
[null,null,null,null,null,{"$f":"IF(H645<=0,\"\",Schießkladde!B353)","v":""},{"$f":"IF(H644<=0,\"\",Schießkladde!C352)","v":""},{"$f":"Schießkladde!AH352","v":0}]
[null,null,null,null,null,{"$f":"IF(H646<=0,\"\",Schießkladde!B354)","v":""},{"$f":"IF(H645<=0,\"\",Schießkladde!C353)","v":""},{"$f":"Schießkladde!AH353","v":0}]
[null,null,null,null,null,{"$f":"IF(H647<=0,\"\",Schießkladde!B355)","v":""},{"$f":"IF(H646<=0,\"\",Schießkladde!C354)","v":""},{"$f":"Schießkladde!AH354","v":0}]
[null,null,null,null,null,{"$f":"IF(H648<=0,\"\",Schießkladde!B356)","v":""},{"$f":"IF(H647<=0,\"\",Schießkladde!C355)","v":""},{"$f":"Schießkladde!AH355","v":0}]
[null,null,null,null,null,{"$f":"IF(H649<=0,\"\",Schießkladde!B357)","v":""},{"$f":"IF(H648<=0,\"\",Schießkladde!C356)","v":""},{"$f":"Schießkladde!AH356","v":0}]
[null,null,null,null,null,{"$f":"IF(H650<=0,\"\",Schießkladde!B358)","v":""},{"$f":"IF(H649<=0,\"\",Schießkladde!C357)","v":""},{"$f":"Schießkladde!AH357","v":0}]
[null,null,null,null,null,{"$f":"IF(H651<=0,\"\",Schießkladde!B359)","v":""},{"$f":"IF(H650<=0,\"\",Schießkladde!C358)","v":""},{"$f":"Schießkladde!AH358","v":0}]
[null,null,null,null,null,{"$f":"IF(H652<=0,\"\",Schießkladde!B360)","v":""},{"$f":"IF(H651<=0,\"\",Schießkladde!C359)","v":""},{"$f":"Schießkladde!AH359","v":0}]
[null,null,null,null,null,{"$f":"IF(H653<=0,\"\",Schießkladde!B361)","v":""},{"$f":"IF(H652<=0,\"\",Schießkladde!C360)","v":""},{"$f":"Schießkladde!AH360","v":0}]
[null,null,null,null,null,{"$f":"IF(H654<=0,\"\",Schießkladde!B362)","v":""},{"$f":"IF(H653<=0,\"\",Schießkladde!C361)","v":""},{"$f":"Schießkladde!AH361","v":0}]
[null,null,null,null,null,{"$f":"IF(H655<=0,\"\",Schießkladde!B363)","v":""},{"$f":"IF(H654<=0,\"\",Schießkladde!C362)","v":""},{"$f":"Schießkladde!AH362","v":0}]
[null,null,null,null,null,{"$f":"IF(H656<=0,\"\",Schießkladde!B364)","v":""},{"$f":"IF(H655<=0,\"\",Schießkladde!C363)","v":""},{"$f":"Schießkladde!AH363","v":0}]
[null,null,null,null,null,{"$f":"IF(H657<=0,\"\",Schießkladde!B365)","v":""},{"$f":"IF(H656<=0,\"\",Schießkladde!C364)","v":""},{"$f":"Schießkladde!AH364","v":0}]
[null,null,null,null,null,{"$f":"IF(H658<=0,\"\",Schießkladde!B366)","v":""},{"$f":"IF(H657<=0,\"\",Schießkladde!C365)","v":""},{"$f":"Schießkladde!AH365","v":0}]
[null,null,null,null,null,{"$f":"IF(H659<=0,\"\",Schießkladde!B367)","v":""},{"$f":"IF(H658<=0,\"\",Schießkladde!C366)","v":""},{"$f":"Schießkladde!AH366","v":0}]
[null,null,null,null,null,{"$f":"IF(H660<=0,\"\",Schießkladde!B368)","v":""},{"$f":"IF(H659<=0,\"\",Schießkladde!C367)","v":""},{"$f":"Schießkladde!AH367","v":0}]
[null,null,null,null,null,{"$f":"IF(H661<=0,\"\",Schießkladde!B369)","v":""},{"$f":"IF(H660<=0,\"\",Schießkladde!C368)","v":""},{"$f":"Schießkladde!AH368","v":0}]
[null,null,null,null,null,{"$f":"IF(H662<=0,\"\",Schießkladde!B370)","v":""},{"$f":"IF(H661<=0,\"\",Schießkladde!C369)","v":""},{"$f":"Schießkladde!AH369","v":0}]
[null,null,null,null,null,{"$f":"IF(H663<=0,\"\",Schießkladde!B371)","v":""},{"$f":"IF(H662<=0,\"\",Schießkladde!C370)","v":""},{"$f":"Schießkladde!AH370","v":0}]
[null,null,null,null,null,{"$f":"IF(H664<=0,\"\",Schießkladde!B372)","v":""},{"$f":"IF(H663<=0,\"\",Schießkladde!C371)","v":""},{"$f":"Schießkladde!AH371","v":0}]
[null,null,null,null,null,{"$f":"IF(H665<=0,\"\",Schießkladde!B373)","v":""},{"$f":"IF(H664<=0,\"\",Schießkladde!C372)","v":""},{"$f":"Schießkladde!AH372","v":0}]
[null,null,null,null,null,{"$f":"IF(H666<=0,\"\",Schießkladde!B374)","v":""},{"$f":"IF(H665<=0,\"\",Schießkladde!C373)","v":""},{"$f":"Schießkladde!AH373","v":0}]
[null,null,null,null,null,{"$f":"IF(H667<=0,\"\",Schießkladde!B375)","v":""},{"$f":"IF(H666<=0,\"\",Schießkladde!C374)","v":""},{"$f":"Schießkladde!AH374","v":0}]
[null,null,null,null,null,{"$f":"IF(H668<=0,\"\",Schießkladde!B376)","v":""},{"$f":"IF(H667<=0,\"\",Schießkladde!C375)","v":""},{"$f":"Schießkladde!AH375","v":0}]
[null,null,null,null,null,{"$f":"IF(H669<=0,\"\",Schießkladde!B377)","v":""},{"$f":"IF(H668<=0,\"\",Schießkladde!C376)","v":""},{"$f":"Schießkladde!AH376","v":0}]
[null,null,null,null,null,{"$f":"IF(H670<=0,\"\",Schießkladde!B378)","v":""},{"$f":"IF(H669<=0,\"\",Schießkladde!C377)","v":""},{"$f":"Schießkladde!AH377","v":0}]
[null,null,null,null,null,{"$f":"IF(H671<=0,\"\",Schießkladde!B379)","v":""},{"$f":"IF(H670<=0,\"\",Schießkladde!C378)","v":""},{"$f":"Schießkladde!AH378","v":0}]
[null,null,null,null,null,{"$f":"IF(H672<=0,\"\",Schießkladde!B380)","v":""},{"$f":"IF(H671<=0,\"\",Schießkladde!C379)","v":""},{"$f":"Schießkladde!AH379","v":0}]
[null,null,null,null,null,{"$f":"IF(H673<=0,\"\",Schießkladde!B381)","v":""},{"$f":"IF(H672<=0,\"\",Schießkladde!C380)","v":""},{"$f":"Schießkladde!AH380","v":0}]
[null,null,null,null,null,{"$f":"IF(H674<=0,\"\",Schießkladde!B382)","v":""},{"$f":"IF(H673<=0,\"\",Schießkladde!C381)","v":""},{"$f":"Schießkladde!AH381","v":0}]
[null,null,null,null,null,{"$f":"IF(H675<=0,\"\",Schießkladde!B383)","v":""},{"$f":"IF(H674<=0,\"\",Schießkladde!C382)","v":""},{"$f":"Schießkladde!AH382","v":0}]
[null,null,null,null,null,{"$f":"IF(H676<=0,\"\",Schießkladde!B384)","v":""},{"$f":"IF(H675<=0,\"\",Schießkladde!C383)","v":""},{"$f":"Schießkladde!AH383","v":0}]
[null,null,null,null,null,{"$f":"IF(H677<=0,\"\",Schießkladde!B385)","v":""},{"$f":"IF(H676<=0,\"\",Schießkladde!C384)","v":""},{"$f":"Schießkladde!AH384","v":0}]
[null,null,null,null,null,{"$f":"IF(H678<=0,\"\",Schießkladde!B386)","v":""},{"$f":"IF(H677<=0,\"\",Schießkladde!C385)","v":""},{"$f":"Schießkladde!AH385","v":0}]
[null,null,null,null,null,{"$f":"IF(H679<=0,\"\",Schießkladde!B387)","v":""},{"$f":"IF(H678<=0,\"\",Schießkladde!C386)","v":""},{"$f":"Schießkladde!AH386","v":0}]
[null,null,null,null,null,{"$f":"IF(H680<=0,\"\",Schießkladde!B388)","v":""},{"$f":"IF(H679<=0,\"\",Schießkladde!C387)","v":""},{"$f":"Schießkladde!AH387","v":0}]
[null,null,null,null,null,{"$f":"IF(H681<=0,\"\",Schießkladde!B389)","v":""},{"$f":"IF(H680<=0,\"\",Schießkladde!C388)","v":""},{"$f":"Schießkladde!AH388","v":0}]
[null,null,null,null,null,{"$f":"IF(H682<=0,\"\",Schießkladde!B390)","v":""},{"$f":"IF(H681<=0,\"\",Schießkladde!C389)","v":""},{"$f":"Schießkladde!AH389","v":0}]
[null,null,null,null,null,{"$f":"IF(H683<=0,\"\",Schießkladde!B391)","v":""},{"$f":"IF(H682<=0,\"\",Schießkladde!C390)","v":""},{"$f":"Schießkladde!AH390","v":0}]
[null,null,null,null,null,{"$f":"IF(H684<=0,\"\",Schießkladde!B392)","v":""},{"$f":"IF(H683<=0,\"\",Schießkladde!C391)","v":""},{"$f":"Schießkladde!AH391","v":0}]
[null,null,null,null,null,{"$f":"IF(H685<=0,\"\",Schießkladde!B393)","v":""},{"$f":"IF(H684<=0,\"\",Schießkladde!C392)","v":""},{"$f":"Schießkladde!AH392","v":0}]
[null,null,null,null,null,{"$f":"IF(H686<=0,\"\",Schießkladde!B394)","v":""},{"$f":"IF(H685<=0,\"\",Schießkladde!C393)","v":""},{"$f":"Schießkladde!AH393","v":0}]
[null,null,null,null,null,{"$f":"IF(H687<=0,\"\",Schießkladde!B395)","v":""},{"$f":"IF(H686<=0,\"\",Schießkladde!C394)","v":""},{"$f":"Schießkladde!AH394","v":0}]
[null,null,null,null,null,{"$f":"IF(H688<=0,\"\",Schießkladde!B396)","v":""},{"$f":"IF(H687<=0,\"\",Schießkladde!C395)","v":""},{"$f":"Schießkladde!AH395","v":0}]
[null,null,null,null,null,{"$f":"IF(H689<=0,\"\",Schießkladde!B397)","v":""},{"$f":"IF(H688<=0,\"\",Schießkladde!C396)","v":""},{"$f":"Schießkladde!AH396","v":0}]
[null,null,null,null,null,{"$f":"IF(H690<=0,\"\",Schießkladde!B398)","v":""},{"$f":"IF(H689<=0,\"\",Schießkladde!C397)","v":""},{"$f":"Schießkladde!AH397","v":0}]
[null,null,null,null,null,{"$f":"IF(H691<=0,\"\",Schießkladde!B399)","v":""},{"$f":"IF(H690<=0,\"\",Schießkladde!C398)","v":""},{"$f":"Schießkladde!AH398","v":0}]
[null,null,null,null,null,{"$f":"IF(H692<=0,\"\",Schießkladde!B400)","v":""},{"$f":"IF(H691<=0,\"\",Schießkladde!C399)","v":""},{"$f":"Schießkladde!AH399","v":0}]
[null,null,null,null,null,{"$f":"IF(H693<=0,\"\",Schießkladde!B401)","v":""},{"$f":"IF(H692<=0,\"\",Schießkladde!C400)","v":""},{"$f":"Schießkladde!AH400","v":0}]
[null,null,null,null,null,{"$f":"IF(H694<=0,\"\",Schießkladde!B402)","v":""},{"$f":"IF(H693<=0,\"\",Schießkladde!C401)","v":""},{"$f":"Schießkladde!AH401","v":0}]
[null,null,null,null,null,{"$f":"IF(H695<=0,\"\",Schießkladde!B403)","v":""},{"$f":"IF(H694<=0,\"\",Schießkladde!C402)","v":""},{"$f":"Schießkladde!AH402","v":0}]
[null,null,null,null,null,{"$f":"IF(H696<=0,\"\",Schießkladde!B404)","v":""},{"$f":"IF(H695<=0,\"\",Schießkladde!C403)","v":""},{"$f":"Schießkladde!AH403","v":0}]
[null,null,null,null,null,{"$f":"IF(H697<=0,\"\",Schießkladde!B405)","v":""},{"$f":"IF(H696<=0,\"\",Schießkladde!C404)","v":""},{"$f":"Schießkladde!AH404","v":0}]
[null,null,null,null,null,{"$f":"IF(H698<=0,\"\",Schießkladde!B406)","v":""},{"$f":"IF(H697<=0,\"\",Schießkladde!C405)","v":""},{"$f":"Schießkladde!AH405","v":0}]
[null,null,null,null,null,{"$f":"IF(H699<=0,\"\",Schießkladde!B407)","v":""},{"$f":"IF(H698<=0,\"\",Schießkladde!C406)","v":""},{"$f":"Schießkladde!AH406","v":0}]
[null,null,null,null,null,{"$f":"IF(H700<=0,\"\",Schießkladde!B408)","v":""},{"$f":"IF(H699<=0,\"\",Schießkladde!C407)","v":""},{"$f":"Schießkladde!AH407","v":0}]
[null,null,null,null,null,{"$f":"IF(H701<=0,\"\",Schießkladde!B409)","v":""},{"$f":"IF(H700<=0,\"\",Schießkladde!C408)","v":""},{"$f":"Schießkladde!AH408","v":0}]
[null,null,null,null,null,{"$f":"IF(H702<=0,\"\",Schießkladde!B410)","v":""},{"$f":"IF(H701<=0,\"\",Schießkladde!C409)","v":""},{"$f":"Schießkladde!AH409","v":0}]
[null,null,null,null,null,{"$f":"IF(H703<=0,\"\",Schießkladde!B411)","v":""},{"$f":"IF(H702<=0,\"\",Schießkladde!C410)","v":""},{"$f":"Schießkladde!AH410","v":0}]
[null,null,null,null,null,{"$f":"IF(H704<=0,\"\",Schießkladde!B412)","v":""},{"$f":"IF(H703<=0,\"\",Schießkladde!C411)","v":""},{"$f":"Schießkladde!AH411","v":0}]
[null,null,null,null,null,{"$f":"IF(H705<=0,\"\",Schießkladde!B413)","v":""},{"$f":"IF(H704<=0,\"\",Schießkladde!C412)","v":""},{"$f":"Schießkladde!AH412","v":0}]
[null,null,null,null,null,{"$f":"IF(H706<=0,\"\",Schießkladde!B414)","v":""},{"$f":"IF(H705<=0,\"\",Schießkladde!C413)","v":""},{"$f":"Schießkladde!AH413","v":0}]
[null,null,null,null,null,{"$f":"IF(H707<=0,\"\",Schießkladde!B415)","v":""},{"$f":"IF(H706<=0,\"\",Schießkladde!C414)","v":""},{"$f":"Schießkladde!AH414","v":0}]
[null,null,null,null,null,{"$f":"IF(H708<=0,\"\",Schießkladde!B416)","v":""},{"$f":"IF(H707<=0,\"\",Schießkladde!C415)","v":""},{"$f":"Schießkladde!AH415","v":0}]
[null,null,null,null,null,{"$f":"IF(H709<=0,\"\",Schießkladde!B417)","v":""},{"$f":"IF(H708<=0,\"\",Schießkladde!C416)","v":""},{"$f":"Schießkladde!AH416","v":0}]
[null,null,null,null,null,{"$f":"IF(H710<=0,\"\",Schießkladde!B418)","v":""},{"$f":"IF(H709<=0,\"\",Schießkladde!C417)","v":""},{"$f":"Schießkladde!AH417","v":0}]
[null,null,null,null,null,{"$f":"IF(H711<=0,\"\",Schießkladde!B419)","v":""},{"$f":"IF(H710<=0,\"\",Schießkladde!C418)","v":""},{"$f":"Schießkladde!AH418","v":0}]
[null,null,null,null,null,{"$f":"IF(H712<=0,\"\",Schießkladde!B420)","v":""},{"$f":"IF(H711<=0,\"\",Schießkladde!C419)","v":""},{"$f":"Schießkladde!AH419","v":0}]
[null,null,null,null,null,{"$f":"IF(H713<=0,\"\",Schießkladde!B421)","v":""},{"$f":"IF(H712<=0,\"\",Schießkladde!C420)","v":""},{"$f":"Schießkladde!AH420","v":0}]
[null,null,null,null,null,{"$f":"IF(H714<=0,\"\",Schießkladde!B422)","v":""},{"$f":"IF(H713<=0,\"\",Schießkladde!C421)","v":""},{"$f":"Schießkladde!AH421","v":0}]
[null,null,null,null,null,{"$f":"IF(H715<=0,\"\",Schießkladde!B423)","v":""},{"$f":"IF(H714<=0,\"\",Schießkladde!C422)","v":""},{"$f":"Schießkladde!AH422","v":0}]
[null,null,null,null,null,{"$f":"IF(H716<=0,\"\",Schießkladde!B424)","v":""},{"$f":"IF(H715<=0,\"\",Schießkladde!C423)","v":""},{"$f":"Schießkladde!AH423","v":0}]
[null,null,null,null,null,{"$f":"IF(H717<=0,\"\",Schießkladde!B425)","v":""},{"$f":"IF(H716<=0,\"\",Schießkladde!C424)","v":""},{"$f":"Schießkladde!AH424","v":0}]
[null,null,null,null,null,{"$f":"IF(H718<=0,\"\",Schießkladde!B426)","v":""},{"$f":"IF(H717<=0,\"\",Schießkladde!C425)","v":""},{"$f":"Schießkladde!AH425","v":0}]
[null,null,null,null,null,{"$f":"IF(H719<=0,\"\",Schießkladde!B427)","v":""},{"$f":"IF(H718<=0,\"\",Schießkladde!C426)","v":""},{"$f":"Schießkladde!AH426","v":0}]
[null,null,null,null,null,{"$f":"IF(H720<=0,\"\",Schießkladde!B428)","v":""},{"$f":"IF(H719<=0,\"\",Schießkladde!C427)","v":""},{"$f":"Schießkladde!AH427","v":0}]
[null,null,null,null,null,{"$f":"IF(H721<=0,\"\",Schießkladde!B429)","v":""},{"$f":"IF(H720<=0,\"\",Schießkladde!C428)","v":""},{"$f":"Schießkladde!AH428","v":0}]
[null,null,null,null,null,{"$f":"IF(H722<=0,\"\",Schießkladde!B430)","v":""},{"$f":"IF(H721<=0,\"\",Schießkladde!C429)","v":""},{"$f":"Schießkladde!AH429","v":0}]
[null,null,null,null,null,{"$f":"IF(H723<=0,\"\",Schießkladde!B431)","v":""},{"$f":"IF(H722<=0,\"\",Schießkladde!C430)","v":""},{"$f":"Schießkladde!AH430","v":0}]
[null,null,null,null,null,{"$f":"IF(H724<=0,\"\",Schießkladde!B432)","v":""},{"$f":"IF(H723<=0,\"\",Schießkladde!C431)","v":""},{"$f":"Schießkladde!AH431","v":0}]
[null,null,null,null,null,{"$f":"IF(H725<=0,\"\",Schießkladde!B433)","v":""},{"$f":"IF(H724<=0,\"\",Schießkladde!C432)","v":""},{"$f":"Schießkladde!AH432","v":0}]
[null,null,null,null,null,{"$f":"IF(H726<=0,\"\",Schießkladde!B434)","v":""},{"$f":"IF(H725<=0,\"\",Schießkladde!C433)","v":""},{"$f":"Schießkladde!AH433","v":0}]
[null,null,null,null,null,{"$f":"IF(H727<=0,\"\",Schießkladde!B435)","v":""},{"$f":"IF(H726<=0,\"\",Schießkladde!C434)","v":""},{"$f":"Schießkladde!AH434","v":0}]
[null,null,null,null,null,{"$f":"IF(H728<=0,\"\",Schießkladde!B436)","v":""},{"$f":"IF(H727<=0,\"\",Schießkladde!C435)","v":""},{"$f":"Schießkladde!AH435","v":0}]
[null,null,null,null,null,{"$f":"IF(H729<=0,\"\",Schießkladde!B437)","v":""},{"$f":"IF(H728<=0,\"\",Schießkladde!C436)","v":""},{"$f":"Schießkladde!AH436","v":0}]
[null,null,null,null,null,{"$f":"IF(H730<=0,\"\",Schießkladde!B438)","v":""},{"$f":"IF(H729<=0,\"\",Schießkladde!C437)","v":""},{"$f":"Schießkladde!AH437","v":0}]
[null,null,null,null,null,{"$f":"IF(H731<=0,\"\",Schießkladde!B439)","v":""},{"$f":"IF(H730<=0,\"\",Schießkladde!C438)","v":""},{"$f":"Schießkladde!AH438","v":0}]
[null,null,null,null,null,{"$f":"IF(H732<=0,\"\",Schießkladde!B440)","v":""},{"$f":"IF(H731<=0,\"\",Schießkladde!C439)","v":""},{"$f":"Schießkladde!AH439","v":0}]
[null,null,null,null,null,{"$f":"IF(H733<=0,\"\",Schießkladde!B441)","v":""},{"$f":"IF(H732<=0,\"\",Schießkladde!C440)","v":""},{"$f":"Schießkladde!AH440","v":0}]
[null,null,null,null,null,{"$f":"IF(H734<=0,\"\",Schießkladde!B442)","v":""},{"$f":"IF(H733<=0,\"\",Schießkladde!C441)","v":""},{"$f":"Schießkladde!AH441","v":0}]
[null,null,null,null,null,{"$f":"IF(H735<=0,\"\",Schießkladde!B443)","v":""},{"$f":"IF(H734<=0,\"\",Schießkladde!C442)","v":""},{"$f":"Schießkladde!AH442","v":0}]
[null,null,null,null,null,{"$f":"IF(H736<=0,\"\",Schießkladde!B444)","v":""},{"$f":"IF(H735<=0,\"\",Schießkladde!C443)","v":""},{"$f":"Schießkladde!AH443","v":0}]
[null,null,null,null,null,{"$f":"IF(H737<=0,\"\",Schießkladde!B445)","v":""},{"$f":"IF(H736<=0,\"\",Schießkladde!C444)","v":""},{"$f":"Schießkladde!AH444","v":0}]
[null,null,null,null,null,{"$f":"IF(H738<=0,\"\",Schießkladde!B446)","v":""},{"$f":"IF(H737<=0,\"\",Schießkladde!C445)","v":""},{"$f":"Schießkladde!AH445","v":0}]
[null,null,null,null,null,{"$f":"IF(H739<=0,\"\",Schießkladde!B447)","v":""},{"$f":"IF(H738<=0,\"\",Schießkladde!C446)","v":""},{"$f":"Schießkladde!AH446","v":0}]
[null,null,null,null,null,{"$f":"IF(H740<=0,\"\",Schießkladde!B448)","v":""},{"$f":"IF(H739<=0,\"\",Schießkladde!C447)","v":""},{"$f":"Schießkladde!AH447","v":0}]
[null,null,null,null,null,{"$f":"IF(H741<=0,\"\",Schießkladde!B449)","v":""},{"$f":"IF(H740<=0,\"\",Schießkladde!C448)","v":""},{"$f":"Schießkladde!AH448","v":0}]
[null,null,null,null,null,{"$f":"IF(H742<=0,\"\",Schießkladde!B450)","v":""},{"$f":"IF(H741<=0,\"\",Schießkladde!C449)","v":""},{"$f":"Schießkladde!AH449","v":0}]
[null,null,null,null,null,{"$f":"IF(H743<=0,\"\",Schießkladde!B451)","v":""},{"$f":"IF(H742<=0,\"\",Schießkladde!C450)","v":""},{"$f":"Schießkladde!AH450","v":0}]
[null,null,null,null,null,{"$f":"IF(H744<=0,\"\",Schießkladde!B452)","v":""},{"$f":"IF(H743<=0,\"\",Schießkladde!C451)","v":""},{"$f":"Schießkladde!AH451","v":0}]
[null,null,null,null,null,{"$f":"IF(H745<=0,\"\",Schießkladde!B453)","v":""},{"$f":"IF(H744<=0,\"\",Schießkladde!C452)","v":""},{"$f":"Schießkladde!AH452","v":0}]
[null,null,null,null,null,{"$f":"IF(H746<=0,\"\",Schießkladde!B454)","v":""},{"$f":"IF(H745<=0,\"\",Schießkladde!C453)","v":""},{"$f":"Schießkladde!AH453","v":0}]
[null,null,null,null,null,{"$f":"IF(H747<=0,\"\",Schießkladde!B455)","v":""},{"$f":"IF(H746<=0,\"\",Schießkladde!C454)","v":""},{"$f":"Schießkladde!AH454","v":0}]
[null,null,null,null,null,{"$f":"IF(H748<=0,\"\",Schießkladde!B456)","v":""},{"$f":"IF(H747<=0,\"\",Schießkladde!C455)","v":""},{"$f":"Schießkladde!AH455","v":0}]
[null,null,null,null,null,{"$f":"IF(H749<=0,\"\",Schießkladde!B457)","v":""},{"$f":"IF(H748<=0,\"\",Schießkladde!C456)","v":""},{"$f":"Schießkladde!AH456","v":0}]
[null,null,null,null,null,{"$f":"IF(H750<=0,\"\",Schießkladde!B458)","v":""},{"$f":"IF(H749<=0,\"\",Schießkladde!C457)","v":""},{"$f":"Schießkladde!AH457","v":0}]
[null,null,null,null,null,{"$f":"IF(H751<=0,\"\",Schießkladde!B459)","v":""},{"$f":"IF(H750<=0,\"\",Schießkladde!C458)","v":""},{"$f":"Schießkladde!AH458","v":0}]
[null,null,null,null,null,{"$f":"IF(H752<=0,\"\",Schießkladde!B460)","v":""},{"$f":"IF(H751<=0,\"\",Schießkladde!C459)","v":""},{"$f":"Schießkladde!AH459","v":0}]
[null,null,null,null,null,{"$f":"IF(H753<=0,\"\",Schießkladde!B461)","v":""},{"$f":"IF(H752<=0,\"\",Schießkladde!C460)","v":""},{"$f":"Schießkladde!AH460","v":0}]
[null,null,null,null,null,{"$f":"IF(H754<=0,\"\",Schießkladde!B462)","v":""},{"$f":"IF(H753<=0,\"\",Schießkladde!C461)","v":""},{"$f":"Schießkladde!AH461","v":0}]
[null,null,null,null,null,{"$f":"IF(H755<=0,\"\",Schießkladde!B463)","v":""},{"$f":"IF(H754<=0,\"\",Schießkladde!C462)","v":""},{"$f":"Schießkladde!AH462","v":0}]
[null,null,null,null,null,{"$f":"IF(H756<=0,\"\",Schießkladde!B464)","v":""},{"$f":"IF(H755<=0,\"\",Schießkladde!C463)","v":""},{"$f":"Schießkladde!AH463","v":0}]
[null,null,null,null,null,{"$f":"IF(H757<=0,\"\",Schießkladde!B465)","v":""},{"$f":"IF(H756<=0,\"\",Schießkladde!C464)","v":""},{"$f":"Schießkladde!AH464","v":0}]
[null,null,null,null,null,{"$f":"IF(H758<=0,\"\",Schießkladde!B466)","v":""},{"$f":"IF(H757<=0,\"\",Schießkladde!C465)","v":""},{"$f":"Schießkladde!AH465","v":0}]
[null,null,null,null,null,{"$f":"IF(H759<=0,\"\",Schießkladde!B467)","v":""},{"$f":"IF(H758<=0,\"\",Schießkladde!C466)","v":""},{"$f":"Schießkladde!AH466","v":0}]
[null,null,null,null,null,{"$f":"IF(H760<=0,\"\",Schießkladde!B468)","v":""},{"$f":"IF(H759<=0,\"\",Schießkladde!C467)","v":""},{"$f":"Schießkladde!AH467","v":0}]
[null,null,null,null,null,{"$f":"IF(H761<=0,\"\",Schießkladde!B469)","v":""},{"$f":"IF(H760<=0,\"\",Schießkladde!C468)","v":""},{"$f":"Schießkladde!AH468","v":0}]
[null,null,null,null,null,{"$f":"IF(H762<=0,\"\",Schießkladde!B470)","v":""},{"$f":"IF(H761<=0,\"\",Schießkladde!C469)","v":""},{"$f":"Schießkladde!AH469","v":0}]
[null,null,null,null,null,{"$f":"IF(H763<=0,\"\",Schießkladde!B471)","v":""},{"$f":"IF(H762<=0,\"\",Schießkladde!C470)","v":""},{"$f":"Schießkladde!AH470","v":0}]
[null,null,null,null,null,{"$f":"IF(H764<=0,\"\",Schießkladde!B472)","v":""},{"$f":"IF(H763<=0,\"\",Schießkladde!C471)","v":""},{"$f":"Schießkladde!AH471","v":0}]
[null,null,null,null,null,{"$f":"IF(H765<=0,\"\",Schießkladde!B473)","v":""},{"$f":"IF(H764<=0,\"\",Schießkladde!C472)","v":""},{"$f":"Schießkladde!AH472","v":0}]
[null,null,null,null,null,{"$f":"IF(H766<=0,\"\",Schießkladde!B474)","v":""},{"$f":"IF(H765<=0,\"\",Schießkladde!C473)","v":""},{"$f":"Schießkladde!AH473","v":0}]
[null,null,null,null,null,{"$f":"IF(H767<=0,\"\",Schießkladde!B475)","v":""},{"$f":"IF(H766<=0,\"\",Schießkladde!C474)","v":""},{"$f":"Schießkladde!AH474","v":0}]
[null,null,null,null,null,{"$f":"IF(H768<=0,\"\",Schießkladde!B476)","v":""},{"$f":"IF(H767<=0,\"\",Schießkladde!C475)","v":""},{"$f":"Schießkladde!AH475","v":0}]
[null,null,null,null,null,{"$f":"IF(H769<=0,\"\",Schießkladde!B477)","v":""},{"$f":"IF(H768<=0,\"\",Schießkladde!C476)","v":""},{"$f":"Schießkladde!AH476","v":0}]
[null,null,null,null,null,{"$f":"IF(H770<=0,\"\",Schießkladde!B478)","v":""},{"$f":"IF(H769<=0,\"\",Schießkladde!C477)","v":""},{"$f":"Schießkladde!AH477","v":0}]
[null,null,null,null,null,{"$f":"IF(H771<=0,\"\",Schießkladde!B479)","v":""},{"$f":"IF(H770<=0,\"\",Schießkladde!C478)","v":""},{"$f":"Schießkladde!AH478","v":0}]
[null,null,null,null,null,{"$f":"IF(H772<=0,\"\",Schießkladde!B480)","v":""},{"$f":"IF(H771<=0,\"\",Schießkladde!C479)","v":""},{"$f":"Schießkladde!AH479","v":0}]
[null,null,null,null,null,{"$f":"IF(H773<=0,\"\",Schießkladde!B481)","v":""},{"$f":"IF(H772<=0,\"\",Schießkladde!C480)","v":""},{"$f":"Schießkladde!AH480","v":0}]
[null,null,null,null,null,{"$f":"IF(H774<=0,\"\",Schießkladde!B482)","v":""},{"$f":"IF(H773<=0,\"\",Schießkladde!C481)","v":""},{"$f":"Schießkladde!AH481","v":0}]
[null,null,null,null,null,{"$f":"IF(H775<=0,\"\",Schießkladde!B483)","v":""},{"$f":"IF(H774<=0,\"\",Schießkladde!C482)","v":""},{"$f":"Schießkladde!AH482","v":0}]
[null,null,null,null,null,{"$f":"IF(H776<=0,\"\",Schießkladde!B484)","v":""},{"$f":"IF(H775<=0,\"\",Schießkladde!C483)","v":""},{"$f":"Schießkladde!AH483","v":0}]
[null,null,null,null,null,{"$f":"IF(H777<=0,\"\",Schießkladde!B485)","v":""},{"$f":"IF(H776<=0,\"\",Schießkladde!C484)","v":""},{"$f":"Schießkladde!AH484","v":0}]
[null,null,null,null,null,{"$f":"IF(H778<=0,\"\",Schießkladde!B486)","v":""},{"$f":"IF(H777<=0,\"\",Schießkladde!C485)","v":""},{"$f":"Schießkladde!AH485","v":0}]
[null,null,null,null,null,{"$f":"IF(H779<=0,\"\",Schießkladde!B487)","v":""},{"$f":"IF(H778<=0,\"\",Schießkladde!C486)","v":""},{"$f":"Schießkladde!AH486","v":0}]
[null,null,null,null,null,{"$f":"IF(H780<=0,\"\",Schießkladde!B488)","v":""},{"$f":"IF(H779<=0,\"\",Schießkladde!C487)","v":""},{"$f":"Schießkladde!AH487","v":0}]
[null,null,null,null,null,{"$f":"IF(H781<=0,\"\",Schießkladde!B489)","v":""},{"$f":"IF(H780<=0,\"\",Schießkladde!C488)","v":""},{"$f":"Schießkladde!AH488","v":0}]
[null,null,null,null,null,{"$f":"IF(H782<=0,\"\",Schießkladde!B490)","v":""},{"$f":"IF(H781<=0,\"\",Schießkladde!C489)","v":""},{"$f":"Schießkladde!AH489","v":0}]
[null,null,null,null,null,{"$f":"IF(H783<=0,\"\",Schießkladde!B491)","v":""},{"$f":"IF(H782<=0,\"\",Schießkladde!C490)","v":""},{"$f":"Schießkladde!AH490","v":0}]
[null,null,null,null,null,{"$f":"IF(H784<=0,\"\",Schießkladde!B492)","v":""},{"$f":"IF(H783<=0,\"\",Schießkladde!C491)","v":""},{"$f":"Schießkladde!AH491","v":0}]
[null,null,null,null,null,{"$f":"IF(H785<=0,\"\",Schießkladde!B493)","v":""},{"$f":"IF(H784<=0,\"\",Schießkladde!C492)","v":""},{"$f":"Schießkladde!AH492","v":0}]
[null,null,null,null,null,{"$f":"IF(H786<=0,\"\",Schießkladde!B494)","v":""},{"$f":"IF(H785<=0,\"\",Schießkladde!C493)","v":""},{"$f":"Schießkladde!AH493","v":0}]
[null,null,null,null,null,{"$f":"IF(H787<=0,\"\",Schießkladde!B495)","v":""},{"$f":"IF(H786<=0,\"\",Schießkladde!C494)","v":""},{"$f":"Schießkladde!AH494","v":0}]
[null,null,null,null,null,{"$f":"IF(H788<=0,\"\",Schießkladde!B496)","v":""},{"$f":"IF(H787<=0,\"\",Schießkladde!C495)","v":""},{"$f":"Schießkladde!AH495","v":0}]
[null,null,null,null,null,{"$f":"IF(H789<=0,\"\",Schießkladde!B497)","v":""},{"$f":"IF(H788<=0,\"\",Schießkladde!C496)","v":""},{"$f":"Schießkladde!AH496","v":0}]
[null,null,null,null,null,{"$f":"IF(H790<=0,\"\",Schießkladde!B498)","v":""},{"$f":"IF(H789<=0,\"\",Schießkladde!C497)","v":""},{"$f":"Schießkladde!AH497","v":0}]
[null,null,null,null,null,{"$f":"IF(H791<=0,\"\",Schießkladde!B499)","v":""},{"$f":"IF(H790<=0,\"\",Schießkladde!C498)","v":""},{"$f":"Schießkladde!AH498","v":0}]
[null,null,null,null,null,{"$f":"IF(H792<=0,\"\",Schießkladde!B500)","v":""},{"$f":"IF(H791<=0,\"\",Schießkladde!C499)","v":""},{"$f":"Schießkladde!AH499","v":0}]
[null,null,null,null,null,{"$f":"IF(H793<=0,\"\",Schießkladde!B501)","v":""},{"$f":"IF(H792<=0,\"\",Schießkladde!C500)","v":""},{"$f":"Schießkladde!AH500","v":0}]
[null,null,null,null,null,{"$f":"IF(H794<=0,\"\",Schießkladde!B502)","v":""},{"$f":"IF(H793<=0,\"\",Schießkladde!C501)","v":""},{"$f":"Schießkladde!AH501","v":0}]
[null,null,null,null,null,{"$f":"IF(H795<=0,\"\",Schießkladde!B503)","v":""},{"$f":"IF(H794<=0,\"\",Schießkladde!C502)","v":""},{"$f":"Schießkladde!AH502","v":0}]
[null,null,null,null,null,{"$f":"IF(H796<=0,\"\",Schießkladde!B504)","v":""},{"$f":"IF(H795<=0,\"\",Schießkladde!C503)","v":""},{"$f":"Schießkladde!AH503","v":0}]
[null,null,null,null,null,{"$f":"IF(H797<=0,\"\",Schießkladde!B505)","v":""},{"$f":"IF(H796<=0,\"\",Schießkladde!C504)","v":""},{"$f":"Schießkladde!AH504","v":0}]
[null,null,null,null,null,{"$f":"IF(H798<=0,\"\",Schießkladde!B506)","v":""},{"$f":"IF(H797<=0,\"\",Schießkladde!C505)","v":""},{"$f":"Schießkladde!AH505","v":0}]
[null,null,null,null,null,{"$f":"IF(H799<=0,\"\",Schießkladde!B507)","v":""},{"$f":"IF(H798<=0,\"\",Schießkladde!C506)","v":""},{"$f":"Schießkladde!AH506","v":0}]
[null,null,null,null,null,{"$f":"IF(H800<=0,\"\",Schießkladde!B508)","v":""},{"$f":"IF(H799<=0,\"\",Schießkladde!C507)","v":""},{"$f":"Schießkladde!AH507","v":0}]
[null,null,null,null,null,{"$f":"IF(H801<=0,\"\",Schießkladde!B509)","v":""},{"$f":"IF(H800<=0,\"\",Schießkladde!C508)","v":""},{"$f":"Schießkladde!AH508","v":0}]
[null,null,null,null,null,{"$f":"IF(H802<=0,\"\",Schießkladde!B510)","v":""},{"$f":"IF(H801<=0,\"\",Schießkladde!C509)","v":""},{"$f":"Schießkladde!AH509","v":0}]
[null,null,null,null,null,{"$f":"IF(H803<=0,\"\",Schießkladde!B511)","v":""},{"$f":"IF(H802<=0,\"\",Schießkladde!C510)","v":""},{"$f":"Schießkladde!AH510","v":0}]
[null,null,null,null,null,{"$f":"IF(H804<=0,\"\",Schießkladde!B512)","v":""},{"$f":"IF(H803<=0,\"\",Schießkladde!C511)","v":""},{"$f":"Schießkladde!AH511","v":0}]
[null,null,null,null,null,{"$f":"IF(H805<=0,\"\",Schießkladde!B513)","v":""},{"$f":"IF(H804<=0,\"\",Schießkladde!C512)","v":""},{"$f":"Schießkladde!AH512","v":0}]
[null,null,null,null,null,{"$f":"IF(H806<=0,\"\",Schießkladde!B514)","v":""},{"$f":"IF(H805<=0,\"\",Schießkladde!C513)","v":""},{"$f":"Schießkladde!AH513","v":0}]
[null,null,null,null,null,{"$f":"IF(H807<=0,\"\",Schießkladde!B515)","v":""},{"$f":"IF(H806<=0,\"\",Schießkladde!C514)","v":""},{"$f":"Schießkladde!AH514","v":0}]
[null,null,null,null,null,{"$f":"IF(H808<=0,\"\",Schießkladde!B516)","v":""},{"$f":"IF(H807<=0,\"\",Schießkladde!C515)","v":""},{"$f":"Schießkladde!AH515","v":0}]
[null,null,null,null,null,{"$f":"IF(H809<=0,\"\",Schießkladde!B517)","v":""},{"$f":"IF(H808<=0,\"\",Schießkladde!C516)","v":""},{"$f":"Schießkladde!AH516","v":0}]
[null,null,null,null,null,{"$f":"IF(H810<=0,\"\",Schießkladde!B518)","v":""},{"$f":"IF(H809<=0,\"\",Schießkladde!C517)","v":""},{"$f":"Schießkladde!AH517","v":0}]
[null,null,null,null,null,{"$f":"IF(H811<=0,\"\",Schießkladde!B519)","v":""},{"$f":"IF(H810<=0,\"\",Schießkladde!C518)","v":""},{"$f":"Schießkladde!AH518","v":0}]
[null,null,null,null,null,{"$f":"IF(H812<=0,\"\",Schießkladde!B520)","v":""},{"$f":"IF(H811<=0,\"\",Schießkladde!C519)","v":""},{"$f":"Schießkladde!AH519","v":0}]
[null,null,null,null,null,{"$f":"IF(H813<=0,\"\",Schießkladde!B521)","v":""},{"$f":"IF(H812<=0,\"\",Schießkladde!C520)","v":""},{"$f":"Schießkladde!AH520","v":0}]
[null,null,null,null,null,{"$f":"IF(H814<=0,\"\",Schießkladde!B522)","v":""},{"$f":"IF(H813<=0,\"\",Schießkladde!C521)","v":""},{"$f":"Schießkladde!AH521","v":0}]
[null,null,null,null,null,{"$f":"IF(H815<=0,\"\",Schießkladde!B523)","v":""},{"$f":"IF(H814<=0,\"\",Schießkladde!C522)","v":""},{"$f":"Schießkladde!AH522","v":0}]
[null,null,null,null,null,{"$f":"IF(H816<=0,\"\",Schießkladde!B524)","v":""},{"$f":"IF(H815<=0,\"\",Schießkladde!C523)","v":""},{"$f":"Schießkladde!AH523","v":0}]
[null,null,null,null,null,{"$f":"IF(H817<=0,\"\",Schießkladde!B525)","v":""},{"$f":"IF(H816<=0,\"\",Schießkladde!C524)","v":""},{"$f":"Schießkladde!AH524","v":0}]
[null,null,null,null,null,{"$f":"IF(H818<=0,\"\",Schießkladde!B526)","v":""},{"$f":"IF(H817<=0,\"\",Schießkladde!C525)","v":""},{"$f":"Schießkladde!AH525","v":0}]
[null,null,null,null,null,{"$f":"IF(H819<=0,\"\",Schießkladde!B527)","v":""},{"$f":"IF(H818<=0,\"\",Schießkladde!C526)","v":""},{"$f":"Schießkladde!AH526","v":0}]
[null,null,null,null,null,{"$f":"IF(H820<=0,\"\",Schießkladde!B528)","v":""},{"$f":"IF(H819<=0,\"\",Schießkladde!C527)","v":""},{"$f":"Schießkladde!AH527","v":0}]
[null,null,null,null,null,{"$f":"IF(H821<=0,\"\",Schießkladde!B529)","v":""},{"$f":"IF(H820<=0,\"\",Schießkladde!C528)","v":""},{"$f":"Schießkladde!AH528","v":0}]
[null,null,null,null,null,{"$f":"IF(H822<=0,\"\",Schießkladde!B530)","v":""},{"$f":"IF(H821<=0,\"\",Schießkladde!C529)","v":""},{"$f":"Schießkladde!AH529","v":0}]
[null,null,null,null,null,{"$f":"IF(H823<=0,\"\",Schießkladde!B531)","v":""},{"$f":"IF(H822<=0,\"\",Schießkladde!C530)","v":""},{"$f":"Schießkladde!AH530","v":0}]
[null,null,null,null,null,{"$f":"IF(H824<=0,\"\",Schießkladde!B532)","v":""},{"$f":"IF(H823<=0,\"\",Schießkladde!C531)","v":""},{"$f":"Schießkladde!AH531","v":0}]
[null,null,null,null,null,{"$f":"IF(H825<=0,\"\",Schießkladde!B533)","v":""},{"$f":"IF(H824<=0,\"\",Schießkladde!C532)","v":""},{"$f":"Schießkladde!AH532","v":0}]
[null,null,null,null,null,{"$f":"IF(H826<=0,\"\",Schießkladde!B534)","v":""},{"$f":"IF(H825<=0,\"\",Schießkladde!C533)","v":""},{"$f":"Schießkladde!AH533","v":0}]
[null,null,null,null,null,{"$f":"IF(H827<=0,\"\",Schießkladde!B535)","v":""},{"$f":"IF(H826<=0,\"\",Schießkladde!C534)","v":""},{"$f":"Schießkladde!AH534","v":0}]
[null,null,null,null,null,{"$f":"IF(H828<=0,\"\",Schießkladde!B536)","v":""},{"$f":"IF(H827<=0,\"\",Schießkladde!C535)","v":""},{"$f":"Schießkladde!AH535","v":0}]
[null,null,null,null,null,{"$f":"IF(H829<=0,\"\",Schießkladde!B537)","v":""},{"$f":"IF(H828<=0,\"\",Schießkladde!C536)","v":""},{"$f":"Schießkladde!AH536","v":0}]
[null,null,null,null,null,{"$f":"IF(H830<=0,\"\",Schießkladde!B538)","v":""},{"$f":"IF(H829<=0,\"\",Schießkladde!C537)","v":""},{"$f":"Schießkladde!AH537","v":0}]
[null,null,null,null,null,{"$f":"IF(H831<=0,\"\",Schießkladde!B539)","v":""},{"$f":"IF(H830<=0,\"\",Schießkladde!C538)","v":""},{"$f":"Schießkladde!AH538","v":0}]
[null,null,null,null,null,{"$f":"IF(H832<=0,\"\",Schießkladde!B540)","v":""},{"$f":"IF(H831<=0,\"\",Schießkladde!C539)","v":""},{"$f":"Schießkladde!AH539","v":0}]
[null,null,null,null,null,{"$f":"IF(H833<=0,\"\",Schießkladde!B541)","v":""},{"$f":"IF(H832<=0,\"\",Schießkladde!C540)","v":""},{"$f":"Schießkladde!AH540","v":0}]
[null,null,null,null,null,{"$f":"IF(H834<=0,\"\",Schießkladde!B542)","v":""},{"$f":"IF(H833<=0,\"\",Schießkladde!C541)","v":""},{"$f":"Schießkladde!AH541","v":0}]
[null,null,null,null,null,{"$f":"IF(H835<=0,\"\",Schießkladde!B543)","v":""},{"$f":"IF(H834<=0,\"\",Schießkladde!C542)","v":""},{"$f":"Schießkladde!AH542","v":0}]
[null,null,null,null,null,{"$f":"IF(H836<=0,\"\",Schießkladde!B544)","v":""},{"$f":"IF(H835<=0,\"\",Schießkladde!C543)","v":""},{"$f":"Schießkladde!AH543","v":0}]
[null,null,null,null,null,{"$f":"IF(H837<=0,\"\",Schießkladde!B545)","v":""},{"$f":"IF(H836<=0,\"\",Schießkladde!C544)","v":""},{"$f":"Schießkladde!AH544","v":0}]
[null,null,null,null,null,{"$f":"IF(H838<=0,\"\",Schießkladde!B546)","v":""},{"$f":"IF(H837<=0,\"\",Schießkladde!C545)","v":""},{"$f":"Schießkladde!AH545","v":0}]
[null,null,null,null,null,{"$f":"IF(H839<=0,\"\",Schießkladde!B547)","v":""},{"$f":"IF(H838<=0,\"\",Schießkladde!C546)","v":""},{"$f":"Schießkladde!AH546","v":0}]
[null,null,null,null,null,{"$f":"IF(H840<=0,\"\",Schießkladde!B548)","v":""},{"$f":"IF(H839<=0,\"\",Schießkladde!C547)","v":""},{"$f":"Schießkladde!AH547","v":0}]
[null,null,null,null,null,{"$f":"IF(H841<=0,\"\",Schießkladde!B549)","v":""},{"$f":"IF(H840<=0,\"\",Schießkladde!C548)","v":""},{"$f":"Schießkladde!AH548","v":0}]
[null,null,null,null,null,{"$f":"IF(H842<=0,\"\",Schießkladde!B550)","v":""},{"$f":"IF(H841<=0,\"\",Schießkladde!C549)","v":""},{"$f":"Schießkladde!AH549","v":0}]
[null,null,null,null,null,{"$f":"IF(H843<=0,\"\",Schießkladde!B551)","v":""},{"$f":"IF(H842<=0,\"\",Schießkladde!C550)","v":""},{"$f":"Schießkladde!AH550","v":0}]
[null,null,null,null,null,{"$f":"IF(H844<=0,\"\",Schießkladde!B552)","v":""},{"$f":"IF(H843<=0,\"\",Schießkladde!C551)","v":""},{"$f":"Schießkladde!AH551","v":0}]
[null,null,null,null,null,{"$f":"IF(H845<=0,\"\",Schießkladde!B553)","v":""},{"$f":"IF(H844<=0,\"\",Schießkladde!C552)","v":""},{"$f":"Schießkladde!AH552","v":0}]
[null,null,null,null,null,{"$f":"IF(H846<=0,\"\",Schießkladde!B554)","v":""},{"$f":"IF(H845<=0,\"\",Schießkladde!C553)","v":""},{"$f":"Schießkladde!AH553","v":0}]
[null,null,null,null,null,{"$f":"IF(H847<=0,\"\",Schießkladde!B555)","v":""},{"$f":"IF(H846<=0,\"\",Schießkladde!C554)","v":""},{"$f":"Schießkladde!AH554","v":0}]
[null,null,null,null,null,{"$f":"IF(H848<=0,\"\",Schießkladde!B556)","v":""},{"$f":"IF(H847<=0,\"\",Schießkladde!C555)","v":""},{"$f":"Schießkladde!AH555","v":0}]
[null,null,null,null,null,{"$f":"IF(H849<=0,\"\",Schießkladde!B557)","v":""},{"$f":"IF(H848<=0,\"\",Schießkladde!C556)","v":""},{"$f":"Schießkladde!AH556","v":0}]
[null,null,null,null,null,{"$f":"IF(H850<=0,\"\",Schießkladde!B558)","v":""},{"$f":"IF(H849<=0,\"\",Schießkladde!C557)","v":""},{"$f":"Schießkladde!AH557","v":0}]
[null,null,null,null,null,{"$f":"IF(H851<=0,\"\",Schießkladde!B559)","v":""},{"$f":"IF(H850<=0,\"\",Schießkladde!C558)","v":""},{"$f":"Schießkladde!AH558","v":0}]
[null,null,null,null,null,{"$f":"IF(H852<=0,\"\",Schießkladde!B560)","v":""},{"$f":"IF(H851<=0,\"\",Schießkladde!C559)","v":""},{"$f":"Schießkladde!AH559","v":0}]
[null,null,null,null,null,{"$f":"IF(H853<=0,\"\",Schießkladde!B561)","v":""},{"$f":"IF(H852<=0,\"\",Schießkladde!C560)","v":""},{"$f":"Schießkladde!AH560","v":0}]
[null,null,null,null,null,{"$f":"IF(H854<=0,\"\",Schießkladde!B562)","v":""},{"$f":"IF(H853<=0,\"\",Schießkladde!C561)","v":""},{"$f":"Schießkladde!AH561","v":0}]
[null,null,null,null,null,{"$f":"IF(H855<=0,\"\",Schießkladde!B563)","v":""},{"$f":"IF(H854<=0,\"\",Schießkladde!C562)","v":""},{"$f":"Schießkladde!AH562","v":0}]
[null,null,null,null,null,{"$f":"IF(H856<=0,\"\",Schießkladde!B564)","v":""},{"$f":"IF(H855<=0,\"\",Schießkladde!C563)","v":""},{"$f":"Schießkladde!AH563","v":0}]
[null,null,null,null,null,{"$f":"IF(H857<=0,\"\",Schießkladde!B565)","v":""},{"$f":"IF(H856<=0,\"\",Schießkladde!C564)","v":""},{"$f":"Schießkladde!AH564","v":0}]
[null,null,null,null,null,{"$f":"IF(H858<=0,\"\",Schießkladde!B566)","v":""},{"$f":"IF(H857<=0,\"\",Schießkladde!C565)","v":""},{"$f":"Schießkladde!AH565","v":0}]
[null,null,null,null,null,{"$f":"IF(H859<=0,\"\",Schießkladde!B567)","v":""},{"$f":"IF(H858<=0,\"\",Schießkladde!C566)","v":""},{"$f":"Schießkladde!AH566","v":0}]
[null,null,null,null,null,{"$f":"IF(H860<=0,\"\",Schießkladde!B568)","v":""},{"$f":"IF(H859<=0,\"\",Schießkladde!C567)","v":""},{"$f":"Schießkladde!AH567","v":0}]
[null,null,null,null,null,{"$f":"IF(H861<=0,\"\",Schießkladde!B569)","v":""},{"$f":"IF(H860<=0,\"\",Schießkladde!C568)","v":""},{"$f":"Schießkladde!AH568","v":0}]
[null,null,null,null,null,{"$f":"IF(H862<=0,\"\",Schießkladde!B570)","v":""},{"$f":"IF(H861<=0,\"\",Schießkladde!C569)","v":""},{"$f":"Schießkladde!AH569","v":0}]
[null,null,null,null,null,{"$f":"IF(H863<=0,\"\",Schießkladde!B571)","v":""},{"$f":"IF(H862<=0,\"\",Schießkladde!C570)","v":""},{"$f":"Schießkladde!AH570","v":0}]
[null,null,null,null,null,{"$f":"IF(H864<=0,\"\",Schießkladde!B572)","v":""},{"$f":"IF(H863<=0,\"\",Schießkladde!C571)","v":""},{"$f":"Schießkladde!AH571","v":0}]
[null,null,null,null,null,{"$f":"IF(H865<=0,\"\",Schießkladde!B573)","v":""},{"$f":"IF(H864<=0,\"\",Schießkladde!C572)","v":""},{"$f":"Schießkladde!AH572","v":0}]
[null,null,null,null,null,{"$f":"IF(H866<=0,\"\",Schießkladde!B574)","v":""},{"$f":"IF(H865<=0,\"\",Schießkladde!C573)","v":""},{"$f":"Schießkladde!AH573","v":0}]
[null,null,null,null,null,{"$f":"IF(H867<=0,\"\",Schießkladde!B575)","v":""},{"$f":"IF(H866<=0,\"\",Schießkladde!C574)","v":""},{"$f":"Schießkladde!AH574","v":0}]
[null,null,null,null,null,{"$f":"IF(H868<=0,\"\",Schießkladde!B576)","v":""},{"$f":"IF(H867<=0,\"\",Schießkladde!C575)","v":""},{"$f":"Schießkladde!AH575","v":0}]
[null,null,null,null,null,{"$f":"IF(H869<=0,\"\",Schießkladde!B577)","v":""},{"$f":"IF(H868<=0,\"\",Schießkladde!C576)","v":""},{"$f":"Schießkladde!AH576","v":0}]
[null,null,null,null,null,{"$f":"IF(H870<=0,\"\",Schießkladde!B578)","v":""},{"$f":"IF(H869<=0,\"\",Schießkladde!C577)","v":""},{"$f":"Schießkladde!AH577","v":0}]
[null,null,null,null,null,{"$f":"IF(H871<=0,\"\",Schießkladde!B579)","v":""},{"$f":"IF(H870<=0,\"\",Schießkladde!C578)","v":""},{"$f":"Schießkladde!AH578","v":0}]
[null,null,null,null,null,{"$f":"IF(H872<=0,\"\",Schießkladde!B580)","v":""},{"$f":"IF(H871<=0,\"\",Schießkladde!C579)","v":""},{"$f":"Schießkladde!AH579","v":0}]
[null,null,null,null,null,{"$f":"IF(H873<=0,\"\",Schießkladde!B581)","v":""},{"$f":"IF(H872<=0,\"\",Schießkladde!C580)","v":""},{"$f":"Schießkladde!AH580","v":0}]
[null,null,null,null,null,{"$f":"IF(H874<=0,\"\",Schießkladde!B582)","v":""},{"$f":"IF(H873<=0,\"\",Schießkladde!C581)","v":""},{"$f":"Schießkladde!AH581","v":0}]
[null,null,null,null,null,{"$f":"IF(H875<=0,\"\",Schießkladde!B583)","v":""},{"$f":"IF(H874<=0,\"\",Schießkladde!C582)","v":""},{"$f":"Schießkladde!AH582","v":0}]
[null,null,null,null,null,{"$f":"IF(H876<=0,\"\",Schießkladde!B584)","v":""},{"$f":"IF(H875<=0,\"\",Schießkladde!C583)","v":""},{"$f":"Schießkladde!AH583","v":0}]
[null,null,null,null,null,{"$f":"IF(H877<=0,\"\",Schießkladde!B585)","v":""},{"$f":"IF(H876<=0,\"\",Schießkladde!C584)","v":""},{"$f":"Schießkladde!AH584","v":0}]
[null,null,null,null,null,{"$f":"IF(H878<=0,\"\",Schießkladde!B586)","v":""},{"$f":"IF(H877<=0,\"\",Schießkladde!C585)","v":""},{"$f":"Schießkladde!AH585","v":0}]
[null,null,null,null,null,{"$f":"IF(H879<=0,\"\",Schießkladde!B587)","v":""},{"$f":"IF(H878<=0,\"\",Schießkladde!C586)","v":""},{"$f":"Schießkladde!AH586","v":0}]
[null,null,null,null,null,{"$f":"IF(H880<=0,\"\",Schießkladde!B588)","v":""},{"$f":"IF(H879<=0,\"\",Schießkladde!C587)","v":""},{"$f":"Schießkladde!AH587","v":0}]
[null,null,null,null,null,{"$f":"IF(H881<=0,\"\",Schießkladde!B589)","v":""},{"$f":"IF(H880<=0,\"\",Schießkladde!C588)","v":""},{"$f":"Schießkladde!AH588","v":0}]
[null,null,null,null,null,{"$f":"IF(H882<=0,\"\",Schießkladde!B590)","v":""},{"$f":"IF(H881<=0,\"\",Schießkladde!C589)","v":""},{"$f":"Schießkladde!AH589","v":0}]
[null,null,null,null,null,{"$f":"IF(H883<=0,\"\",Schießkladde!B591)","v":""},{"$f":"IF(H882<=0,\"\",Schießkladde!C590)","v":""},{"$f":"Schießkladde!AH590","v":0}]
[null,null,null,null,null,{"$f":"IF(H884<=0,\"\",Schießkladde!B592)","v":""},{"$f":"IF(H883<=0,\"\",Schießkladde!C591)","v":""},{"$f":"Schießkladde!AH591","v":0}]
[null,null,null,null,null,{"$f":"IF(H885<=0,\"\",Schießkladde!B593)","v":""},{"$f":"IF(H884<=0,\"\",Schießkladde!C592)","v":""},{"$f":"Schießkladde!AH592","v":0}]
[null,null,null,null,null,{"$f":"IF(H886<=0,\"\",Schießkladde!B594)","v":""},{"$f":"IF(H885<=0,\"\",Schießkladde!C593)","v":""},{"$f":"Schießkladde!AH593","v":0}]
[null,null,null,null,null,{"$f":"IF(H887<=0,\"\",Schießkladde!B595)","v":""},{"$f":"IF(H886<=0,\"\",Schießkladde!C594)","v":""},{"$f":"Schießkladde!AH594","v":0}]
[null,null,null,null,null,{"$f":"IF(H888<=0,\"\",Schießkladde!B596)","v":""},{"$f":"IF(H887<=0,\"\",Schießkladde!C595)","v":""},{"$f":"Schießkladde!AH595","v":0}]
[null,null,null,null,null,{"$f":"IF(H889<=0,\"\",Schießkladde!B597)","v":""},{"$f":"IF(H888<=0,\"\",Schießkladde!C596)","v":""},{"$f":"Schießkladde!AH596","v":0}]
[null,null,null,null,null,{"$f":"IF(H890<=0,\"\",Schießkladde!B598)","v":""},{"$f":"IF(H889<=0,\"\",Schießkladde!C597)","v":""},{"$f":"Schießkladde!AH597","v":0}]
[null,null,null,null,null,{"$f":"IF(H891<=0,\"\",Schießkladde!B599)","v":""},{"$f":"IF(H890<=0,\"\",Schießkladde!C598)","v":""},{"$f":"Schießkladde!AH598","v":0}]
[null,null,null,null,null,{"$f":"IF(H892<=0,\"\",Schießkladde!B600)","v":""},{"$f":"IF(H891<=0,\"\",Schießkladde!C599)","v":""},{"$f":"Schießkladde!AH599","v":0}]
[null,null,null,null,null,{"$f":"IF(H893<=0,\"\",Schießkladde!B601)","v":""},{"$f":"IF(H892<=0,\"\",Schießkladde!C600)","v":""},{"$f":"Schießkladde!AH600","v":0}]
[null,null,null,null,null,{"$f":"IF(H894<=0,\"\",Schießkladde!B602)","v":""},{"$f":"IF(H893<=0,\"\",Schießkladde!C601)","v":""},{"$f":"Schießkladde!AH601","v":0}]
[null,null,null,null,null,{"$f":"IF(H895<=0,\"\",Schießkladde!B603)","v":""},{"$f":"IF(H894<=0,\"\",Schießkladde!C602)","v":""},{"$f":"Schießkladde!AH602","v":0}]
[null,null,null,null,null,{"$f":"IF(H896<=0,\"\",Schießkladde!B604)","v":""},{"$f":"IF(H895<=0,\"\",Schießkladde!C603)","v":""},{"$f":"Schießkladde!AH603","v":0}]
[null,null,null,null,null,{"$f":"IF(H897<=0,\"\",Schießkladde!B605)","v":""},{"$f":"IF(H896<=0,\"\",Schießkladde!C604)","v":""},{"$f":"Schießkladde!AH604","v":0}]
[null,null,null,null,null,{"$f":"IF(H898<=0,\"\",Schießkladde!B606)","v":""},{"$f":"IF(H897<=0,\"\",Schießkladde!C605)","v":""},{"$f":"Schießkladde!AH605","v":0}]
[null,null,null,null,null,{"$f":"IF(H899<=0,\"\",Schießkladde!B607)","v":""},{"$f":"IF(H898<=0,\"\",Schießkladde!C606)","v":""},{"$f":"Schießkladde!AH606","v":0}]
[null,null,null,null,null,{"$f":"IF(H900<=0,\"\",Schießkladde!B608)","v":""},{"$f":"IF(H899<=0,\"\",Schießkladde!C607)","v":""},{"$f":"Schießkladde!AH607","v":0}]
[null,null,null,null,null,{"$f":"IF(H901<=0,\"\",Schießkladde!B609)","v":""},{"$f":"IF(H900<=0,\"\",Schießkladde!C608)","v":""},{"$f":"Schießkladde!AH608","v":0}]
[null,null,null,null,null,{"$f":"IF(H902<=0,\"\",Schießkladde!B610)","v":""},{"$f":"IF(H901<=0,\"\",Schießkladde!C609)","v":""},{"$f":"Schießkladde!AH609","v":0}]
[null,null,null,null,null,{"$f":"IF(H903<=0,\"\",Schießkladde!B611)","v":""},{"$f":"IF(H902<=0,\"\",Schießkladde!C610)","v":""},{"$f":"Schießkladde!AH610","v":0}]
[null,null,null,null,null,{"$f":"IF(H904<=0,\"\",Schießkladde!B612)","v":""},{"$f":"IF(H903<=0,\"\",Schießkladde!C611)","v":""},{"$f":"Schießkladde!AH611","v":0}]
[null,null,null,null,null,{"$f":"IF(H905<=0,\"\",Schießkladde!B613)","v":""},{"$f":"IF(H904<=0,\"\",Schießkladde!C612)","v":""},{"$f":"Schießkladde!AH612","v":0}]
[null,null,null,null,null,{"$f":"IF(H906<=0,\"\",Schießkladde!B614)","v":""},{"$f":"IF(H905<=0,\"\",Schießkladde!C613)","v":""},{"$f":"Schießkladde!AH613","v":0}]
[null,null,null,null,null,{"$f":"IF(H907<=0,\"\",Schießkladde!B615)","v":""},{"$f":"IF(H906<=0,\"\",Schießkladde!C614)","v":""},{"$f":"Schießkladde!AH614","v":0}]
[null,null,null,null,null,{"$f":"IF(H908<=0,\"\",Schießkladde!B616)","v":""},{"$f":"IF(H907<=0,\"\",Schießkladde!C615)","v":""},{"$f":"Schießkladde!AH615","v":0}]
[null,null,null,null,null,{"$f":"IF(H909<=0,\"\",Schießkladde!B617)","v":""},{"$f":"IF(H908<=0,\"\",Schießkladde!C616)","v":""},{"$f":"Schießkladde!AH616","v":0}]
[null,null,null,null,null,{"$f":"IF(H910<=0,\"\",Schießkladde!B618)","v":""},{"$f":"IF(H909<=0,\"\",Schießkladde!C617)","v":""},{"$f":"Schießkladde!AH617","v":0}]
[null,null,null,null,null,{"$f":"IF(H911<=0,\"\",Schießkladde!B619)","v":""},{"$f":"IF(H910<=0,\"\",Schießkladde!C618)","v":""},{"$f":"Schießkladde!AH618","v":0}]
[null,null,null,null,null,{"$f":"IF(H912<=0,\"\",Schießkladde!B620)","v":""},{"$f":"IF(H911<=0,\"\",Schießkladde!C619)","v":""},{"$f":"Schießkladde!AH619","v":0}]
[null,null,null,null,null,{"$f":"IF(H913<=0,\"\",Schießkladde!B621)","v":""},{"$f":"IF(H912<=0,\"\",Schießkladde!C620)","v":""},{"$f":"Schießkladde!AH620","v":0}]
[null,null,null,null,null,{"$f":"IF(H914<=0,\"\",Schießkladde!B622)","v":""},{"$f":"IF(H913<=0,\"\",Schießkladde!C621)","v":""},{"$f":"Schießkladde!AH621","v":0}]
[null,null,null,null,null,{"$f":"IF(H915<=0,\"\",Schießkladde!B623)","v":""},{"$f":"IF(H914<=0,\"\",Schießkladde!C622)","v":""},{"$f":"Schießkladde!AH622","v":0}]
[null,null,null,null,null,{"$f":"IF(H916<=0,\"\",Schießkladde!B624)","v":""},{"$f":"IF(H915<=0,\"\",Schießkladde!C623)","v":""},{"$f":"Schießkladde!AH623","v":0}]
[null,null,null,null,null,{"$f":"IF(H917<=0,\"\",Schießkladde!B625)","v":""},{"$f":"IF(H916<=0,\"\",Schießkladde!C624)","v":""},{"$f":"Schießkladde!AH624","v":0}]
[null,null,null,null,null,{"$f":"IF(H918<=0,\"\",Schießkladde!B626)","v":""},{"$f":"IF(H917<=0,\"\",Schießkladde!C625)","v":""},{"$f":"Schießkladde!AH625","v":0}]
[null,null,null,null,null,{"$f":"IF(H919<=0,\"\",Schießkladde!B627)","v":""},{"$f":"IF(H918<=0,\"\",Schießkladde!C626)","v":""},{"$f":"Schießkladde!AH626","v":0}]
[null,null,null,null,null,{"$f":"IF(H920<=0,\"\",Schießkladde!B628)","v":""},{"$f":"IF(H919<=0,\"\",Schießkladde!C627)","v":""},{"$f":"Schießkladde!AH627","v":0}]
[null,null,null,null,null,{"$f":"IF(H921<=0,\"\",Schießkladde!B629)","v":""},{"$f":"IF(H920<=0,\"\",Schießkladde!C628)","v":""},{"$f":"Schießkladde!AH628","v":0}]
[null,null,null,null,null,{"$f":"IF(H922<=0,\"\",Schießkladde!B630)","v":""},{"$f":"IF(H921<=0,\"\",Schießkladde!C629)","v":""},{"$f":"Schießkladde!AH629","v":0}]
[null,null,null,null,null,{"$f":"IF(H923<=0,\"\",Schießkladde!B631)","v":""},{"$f":"IF(H922<=0,\"\",Schießkladde!C630)","v":""},{"$f":"Schießkladde!AH630","v":0}]
[null,null,null,null,null,{"$f":"IF(H924<=0,\"\",Schießkladde!B632)","v":""},{"$f":"IF(H923<=0,\"\",Schießkladde!C631)","v":""},{"$f":"Schießkladde!AH631","v":0}]
[null,null,null,null,null,{"$f":"IF(H925<=0,\"\",Schießkladde!B633)","v":""},{"$f":"IF(H924<=0,\"\",Schießkladde!C632)","v":""},{"$f":"Schießkladde!AH632","v":0}]
[null,null,null,null,null,{"$f":"IF(H926<=0,\"\",Schießkladde!B634)","v":""},{"$f":"IF(H925<=0,\"\",Schießkladde!C633)","v":""},{"$f":"Schießkladde!AH633","v":0}]
[null,null,null,null,null,{"$f":"IF(H927<=0,\"\",Schießkladde!B635)","v":""},{"$f":"IF(H926<=0,\"\",Schießkladde!C634)","v":""},{"$f":"Schießkladde!AH634","v":0}]
[null,null,null,null,null,{"$f":"IF(H928<=0,\"\",Schießkladde!B636)","v":""},{"$f":"IF(H927<=0,\"\",Schießkladde!C635)","v":""},{"$f":"Schießkladde!AH635","v":0}]
[null,null,null,null,null,{"$f":"IF(H929<=0,\"\",Schießkladde!B637)","v":""},{"$f":"IF(H928<=0,\"\",Schießkladde!C636)","v":""},{"$f":"Schießkladde!AH636","v":0}]
[null,null,null,null,null,{"$f":"IF(H930<=0,\"\",Schießkladde!B638)","v":""},{"$f":"IF(H929<=0,\"\",Schießkladde!C637)","v":""},{"$f":"Schießkladde!AH637","v":0}]
[null,null,null,null,null,{"$f":"IF(H931<=0,\"\",Schießkladde!B639)","v":""},{"$f":"IF(H930<=0,\"\",Schießkladde!C638)","v":""},{"$f":"Schießkladde!AH638","v":0}]
[null,null,null,null,null,{"$f":"IF(H932<=0,\"\",Schießkladde!B640)","v":""},{"$f":"IF(H931<=0,\"\",Schießkladde!C639)","v":""},{"$f":"Schießkladde!AH639","v":0}]
[null,null,null,null,null,{"$f":"IF(H933<=0,\"\",Schießkladde!B641)","v":""},{"$f":"IF(H932<=0,\"\",Schießkladde!C640)","v":""},{"$f":"Schießkladde!AH640","v":0}]
[null,null,null,null,null,{"$f":"IF(H934<=0,\"\",Schießkladde!B642)","v":""},{"$f":"IF(H933<=0,\"\",Schießkladde!C641)","v":""},{"$f":"Schießkladde!AH641","v":0}]
[null,null,null,null,null,{"$f":"IF(H935<=0,\"\",Schießkladde!B643)","v":""},{"$f":"IF(H934<=0,\"\",Schießkladde!C642)","v":""},{"$f":"Schießkladde!AH642","v":0}]
[null,null,null,null,null,{"$f":"IF(H936<=0,\"\",Schießkladde!B644)","v":""},{"$f":"IF(H935<=0,\"\",Schießkladde!C643)","v":""},{"$f":"Schießkladde!AH643","v":0}]
[null,null,null,null,null,{"$f":"IF(H937<=0,\"\",Schießkladde!B645)","v":""},{"$f":"IF(H936<=0,\"\",Schießkladde!C644)","v":""},{"$f":"Schießkladde!AH644","v":0}]
[null,null,null,null,null,{"$f":"IF(H938<=0,\"\",Schießkladde!B646)","v":""},{"$f":"IF(H937<=0,\"\",Schießkladde!C645)","v":""},{"$f":"Schießkladde!AH645","v":0}]
[null,null,null,null,null,{"$f":"IF(H939<=0,\"\",Schießkladde!B647)","v":""},{"$f":"IF(H938<=0,\"\",Schießkladde!C646)","v":""},{"$f":"Schießkladde!AH646","v":0}]
[null,null,null,null,null,{"$f":"IF(H940<=0,\"\",Schießkladde!B648)","v":""},{"$f":"IF(H939<=0,\"\",Schießkladde!C647)","v":""},{"$f":"Schießkladde!AH647","v":0}]
[null,null,null,null,null,{"$f":"IF(H941<=0,\"\",Schießkladde!B649)","v":""},{"$f":"IF(H940<=0,\"\",Schießkladde!C648)","v":""},{"$f":"Schießkladde!AH648","v":0}]
[null,null,null,null,null,{"$f":"IF(H942<=0,\"\",Schießkladde!B650)","v":""},{"$f":"IF(H941<=0,\"\",Schießkladde!C649)","v":""},{"$f":"Schießkladde!AH649","v":0}]
[null,null,null,null,null,{"$f":"IF(H943<=0,\"\",Schießkladde!B651)","v":""},{"$f":"IF(H942<=0,\"\",Schießkladde!C650)","v":""},{"$f":"Schießkladde!AH650","v":0}]
[null,null,null,null,null,{"$f":"IF(H944<=0,\"\",Schießkladde!B652)","v":""},{"$f":"IF(H943<=0,\"\",Schießkladde!C651)","v":""},{"$f":"Schießkladde!AH651","v":0}]
[null,null,null,null,null,{"$f":"IF(H945<=0,\"\",Schießkladde!B653)","v":""},{"$f":"IF(H944<=0,\"\",Schießkladde!C652)","v":""},{"$f":"Schießkladde!AH652","v":0}]
[null,null,null,null,null,{"$f":"IF(H946<=0,\"\",Schießkladde!B654)","v":""},{"$f":"IF(H945<=0,\"\",Schießkladde!C653)","v":""},{"$f":"Schießkladde!AH653","v":0}]
[null,null,null,null,null,null,{"$f":"IF(H946<=0,\"\",Schießkladde!C654)","v":""},{"$f":"Schießkladde!AH654","v":0}]

{"sheet":"Schießkladde","index":1,"n_rows":204,"n_cols":60,"rows_kept":204,"cut":false,"hidden":false,"merged":[[3,6,3,12],[3,15,3,30],[2,11,2,12],[2,9,2,10],[2,23,2,26],[2,15,2,22],[0,1,0,5],[0,25,0,35],[2,33,2,35],[2,31,2,32],[0,19,0,21],[0,12,0,15]]}
[null,{"$f":"Start!F13","v":"Winterpreisschießen 2025"},null,null,null,null,{"$f":"COUNTA(B5:B204)","v":0},null,null,null,{"$f":"COUNTIF(D5:D205,\">0\")","v":0},null,{"$f":"SUM(AF5:AF204)","v":0},null,null,null,null,null,null,{"$f":"SUM(AH5:AH204)","v":0},null,null,null,null,null,null,null,null,null,null,null,null,null,null,null,null,null,null,null,null,null,null,null,null,null,null,null,null,null,null,null,null,null,null,null,null,null,null,null,{"$f":"IF(SUBTOTAL(9,$AG$5:$AG$205)<SUM($AG$5:$AG$205),1,0)","v":0}]
[null,null,null,null,null,null,null,null,{"$f":"Start!F22","v":2},null,null,null,null,null,null,null,null,null,null,null,null,null,null,null,null,null,null,null,null,null,null,null,null,null,null,null,null,null,null,"z","z","z","z","z","z","z","z","z","k","k","z","k","k",null,null,null,null,null,null,{"$f":"IF(BH1=0,\"\",SUBTOTAL(9,AG5:AG205))","v":""}]
[null,null,{"$f":"Start!G115","v":0},null,{"$f":"IFERROR(SMALL(E5:M204,1),\"-\")","v":"-"},{"$f":"IFERROR(SMALL(E5:M204,2),\"-\")","v":"-"},{"$f":"SUM(E3:F3)","v":0},null,{"$f":"Start!F22","v":2},null,null,null,null,"x",null,"Satzgeld",null,null,null,null,null,null,null,{"$f":"Start!F19","v":2.5},null,null,null,null,null,null,null,"Essen",null,{"$f":"Start!F25","v":20},null,null,null,null,"€",null,null,null,null,null,null,null,null,null,"Start F16","Start F19",null,"Start F22","Start F25",1,2,"ges",null,null,"rang",{"$f":"IF(BH1=1,\"zusammen\",\"\")","v":""}]
["Platz","Name","Vorname","Ges.",1,2,"Eingabefelder",null,null,null,null,null,null,"Bez",null,"Anzahl der erworbenen Sätze eintragen",null,null,null,null,null,null,null,null,null,null,null,null,null,null,null,"Sätze","Preis €","Anz Essen","kein schießen","Bez","kein schießen","Spende",null,"Pflicht","PQ","RS","TU","VW","XY","ZAA","ABAC","ADAE","Preis Pflicht","Preis E-Satz","Preis","Pflichtsätze","Preis Essen",{"$f":"SMALL(E4:M4,1)","v":1},{"$f":"SMALL(E4:M4,2)","v":2},{"$f":"SUM(BB4:BC4)","v":3}]
[{"$f":"IF(D5=\"\",\"\",RANK(BE5,$BE$5:$BE$204,0))","v":""},null,null,{"$f":"IF(BC5=900000000,\"\",IFERROR(IF(AK5=\"x\",\"A K\",SMALL(E5:M5,1)+SMALL(E5:M5,2)),SMALL(E5:M5,1)))","v":""},null,null,null,null,null,null,null,null,null,null,null,{"$f":"IF(B5=\"\",\"\",Start!$F$22)","v":""},null,null,null,null,null,null,null,null,null,null,null,null,null,null,null,{"$f":"IF(AK5=\"x\",\"\",SUM(O5,P5,R5,T5,V5,X5,Z5,AB5,AD5))","v":0},{"$f":"IF(AY5<=0,\"-\",AY5)","v":"-"},null,null,null,null,null,{"$f":"IF(AJ5<=0,AH5*Essengeld,0)","v":0},{"$f":"IF(N5<=0,AZ5*AW5/AZ5,0)","v":0},{"$f":"IF(Q5<=0,P5*AX5,0)","v":{"$error":"#VALUE!"}},{"$f":"IF(S5<=0,R5*AX5,0)","v":0},{"$f":"IF(U5<=0,T5*AX5,0)","v":0},{"$f":"IF(W5<=0,V5*AX5,0)","v":0},{"$f":"IF(Y5<=0,X5*AX5,0)","v":0},{"$f":"IF(AA5<=0,Z5*AX5,0)","v":0},{"$f":"IF(AC5<=0,AB5*AX5,0)","v":0},{"$f":"IF(AE5<=0,AD5*AX5,0)","v":0},null,{"$f":"IF(AI5=\"x\",\"0\",Start!$F$19)","v":2.5},{"$f":"IF(B5=0,0,SUM(AM5:AV5))","v":0},{"$f":"Start!$F$22","v":2},{"$f":"Start!$F$25","v":20},{"$f":"SMALL(E5:M5,1)","v":{"$error":"#NUM!"}},{"$f":"IFERROR(SMALL(E5:M5,2),900000000)","v":900000000},{"$f":"SUM(BB5:BC5)","v":{"$error":"#NUM!"}},{"$f":"IFERROR(1000000-(BD5*100)-BB5,0)","v":0},null,{"$f":"IF(BC5=0,0,RANK(BE5,$BE$5:$BE$204,0))","v":1},{"$f":"CONCATENATE(B5,\" \",C5)","v":" "}]
[{"$f":"IF(D6=\"\",\"\",RANK(BE6,$BE$5:$BE$204,0))","v":""},null,null,"",null,null,null,null,null,null,null,null,null,null,null,{"$f":"IF(B6=\"\",\"\",Start!$F$22)","v":""},null,null,null,null,null,null,null,null,null,null,null,null,null,null,null,0,"-",null,null,null,null,null,0,0,{"$error":"#VALUE!"},0,0,0,0,0,0,0,null,{"$f":"IF(AI6=\"x\",\"0\",Start!$F$19)","v":2.5},0,{"$f":"Start!$F$22","v":2},{"$f":"Start!$F$25","v":20},{"$f":"SMALL(E6:M6,1)","v":{"$error":"#NUM!"}},{"$f":"IFERROR(SMALL(E6:M6,2),900000000)","v":900000000},{"$f":"SUM(BB6:BC6)","v":{"$error":"#NUM!"}},{"$f":"IFERROR(1000000-(BD6*100)-BB6,0)","v":0},null,{"$f":"IF(BC6=0,0,RANK(BE6,$BE$5:$BE$204,0))","v":1},{"$f":"CONCATENATE(B6,\" \",C6)","v":" "}]
["",null,null,"",null,null,null,null,null,null,null,null,null,null,null,{"$f":"IF(B7=\"\",\"\",Start!$F$22)","v":""},null,null,null,null,null,null,null,null,null,null,null,null,null,null,null,0,"-",null,null,null,null,null,0,0,{"$error":"#VALUE!"},0,0,0,0,0,0,0,null,{"$f":"IF(AI7=\"x\",\"0\",Start!$F$19)","v":2.5},0,{"$f":"Start!$F$22","v":2},{"$f":"Start!$F$25","v":20},{"$error":"#NUM!"},900000000,{"$error":"#NUM!"},0,null,1,{"$f":"CONCATENATE(B7,\" \",C7)","v":" "}]
["",null,null,"",null,null,null,null,null,null,null,null,null,null,null,{"$f":"IF(B8=\"\",\"\",Start!$F$22)","v":""},null,null,null,null,null,null,null,null,null,null,null,null,null,null,null,0,"-",null,null,null,null,null,0,0,{"$error":"#VALUE!"},0,0,0,0,0,0,0,null,{"$f":"IF(AI8=\"x\",\"0\",Start!$F$19)","v":2.5},0,{"$f":"Start!$F$22","v":2},{"$f":"Start!$F$25","v":20},{"$error":"#NUM!"},900000000,{"$error":"#NUM!"},0,null,1," "]
["",null,null,"",null,null,null,null,null,null,null,null,null,null,null,{"$f":"IF(B9=\"\",\"\",Start!$F$22)","v":""},null,null,null,null,null,null,null,null,null,null,null,null,null,null,null,0,"-",null,null,null,null,null,0,0,{"$error":"#VALUE!"},0,0,0,0,0,0,0,null,{"$f":"IF(AI9=\"x\",\"0\",Start!$F$19)","v":2.5},0,{"$f":"Start!$F$22","v":2},{"$f":"Start!$F$25","v":20},{"$error":"#NUM!"},900000000,{"$error":"#NUM!"},0,null,1," "]
["",null,null,"",null,null,null,null,null,null,null,null,null,null,null,{"$f":"IF(B10=\"\",\"\",Start!$F$22)","v":""},null,null,null,null,null,null,null,null,null,null,null,null,null,null,null,0,"-",null,null,null,null,null,0,0,{"$error":"#VALUE!"},0,0,0,0,0,0,0,null,{"$f":"IF(AI10=\"x\",\"0\",Start!$F$19)","v":2.5},0,{"$f":"Start!$F$22","v":2},{"$f":"Start!$F$25","v":20},{"$error":"#NUM!"},900000000,{"$error":"#NUM!"},0,null,1," "]
["",null,null,"",null,null,null,null,null,null,null,null,null,null,null,{"$f":"IF(B11=\"\",\"\",Start!$F$22)","v":""},null,null,null,null,null,null,null,null,null,null,null,null,null,null,null,0,"-",null,null,null,null,null,0,0,{"$error":"#VALUE!"},0,0,0,0,0,0,0,null,{"$f":"IF(AI11=\"x\",\"0\",Start!$F$19)","v":2.5},0,{"$f":"Start!$F$22","v":2},{"$f":"Start!$F$25","v":20},{"$error":"#NUM!"},900000000,{"$error":"#NUM!"},0,null,1," "]
["",null,null,"",null,null,null,null,null,null,null,null,null,null,null,{"$f":"IF(B12=\"\",\"\",Start!$F$22)","v":""},null,null,null,null,null,null,null,null,null,null,null,null,null,null,null,0,"-",null,null,null,null,null,0,0,{"$error":"#VALUE!"},0,0,0,0,0,0,0,null,{"$f":"IF(AI12=\"x\",\"0\",Start!$F$19)","v":2.5},0,{"$f":"Start!$F$22","v":2},{"$f":"Start!$F$25","v":20},{"$error":"#NUM!"},900000000,{"$error":"#NUM!"},0,null,1," "]
["",null,null,"",null,null,null,null,null,null,null,null,null,null,null,{"$f":"IF(B13=\"\",\"\",Start!$F$22)","v":""},null,null,null,null,null,null,null,null,null,null,null,null,null,null,null,0,"-",null,null,null,null,null,0,0,{"$error":"#VALUE!"},0,0,0,0,0,0,0,null,{"$f":"IF(AI13=\"x\",\"0\",Start!$F$19)","v":2.5},0,{"$f":"Start!$F$22","v":2},{"$f":"Start!$F$25","v":20},{"$error":"#NUM!"},900000000,{"$error":"#NUM!"},0,null,1," "]
["",null,null,"",null,null,null,null,null,null,null,null,null,null,null,{"$f":"IF(B14=\"\",\"\",Start!$F$22)","v":""},null,null,null,null,null,null,null,null,null,null,null,null,null,null,null,0,"-",null,null,null,null,null,0,0,{"$error":"#VALUE!"},0,0,0,0,0,0,0,null,{"$f":"IF(AI14=\"x\",\"0\",Start!$F$19)","v":2.5},0,{"$f":"Start!$F$22","v":2},{"$f":"Start!$F$25","v":20},{"$error":"#NUM!"},900000000,{"$error":"#NUM!"},0,null,1," "]
["",null,null,"",null,null,null,null,null,null,null,null,null,null,null,{"$f":"IF(B15=\"\",\"\",Start!$F$22)","v":""},null,null,null,null,null,null,null,null,null,null,null,null,null,null,null,0,"-",null,null,null,null,null,0,0,{"$error":"#VALUE!"},0,0,0,0,0,0,0,null,{"$f":"IF(AI15=\"x\",\"0\",Start!$F$19)","v":2.5},0,{"$f":"Start!$F$22","v":2},{"$f":"Start!$F$25","v":20},{"$error":"#NUM!"},900000000,{"$error":"#NUM!"},0,null,1," "]
["",null,null,"",null,null,null,null,null,null,null,null,null,null,null,{"$f":"IF(B16=\"\",\"\",Start!$F$22)","v":""},null,null,null,null,null,null,null,null,null,null,null,null,null,null,null,0,"-",null,null,null,null,null,0,0,{"$error":"#VALUE!"},0,0,0,0,0,0,0,null,{"$f":"IF(AI16=\"x\",\"0\",Start!$F$19)","v":2.5},0,{"$f":"Start!$F$22","v":2},{"$f":"Start!$F$25","v":20},{"$error":"#NUM!"},900000000,{"$error":"#NUM!"},0,null,1," "]
["",null,null,"",null,null,null,null,null,null,null,null,null,null,null,{"$f":"IF(B17=\"\",\"\",Start!$F$22)","v":""},null,null,null,null,null,null,null,null,null,null,null,null,null,null,null,0,"-",null,null,null,null,null,0,0,{"$error":"#VALUE!"},0,0,0,0,0,0,0,null,{"$f":"IF(AI17=\"x\",\"0\",Start!$F$19)","v":2.5},0,{"$f":"Start!$F$22","v":2},{"$f":"Start!$F$25","v":20},{"$error":"#NUM!"},900000000,{"$error":"#NUM!"},0,null,1," "]
["",null,null,"",null,null,null,null,null,null,null,null,null,null,null,{"$f":"IF(B18=\"\",\"\",Start!$F$22)","v":""},null,null,null,null,null,null,null,null,null,null,null,null,null,null,null,0,"-",null,null,null,null,null,0,0,{"$error":"#VALUE!"},0,0,0,0,0,0,0,null,{"$f":"IF(AI18=\"x\",\"0\",Start!$F$19)","v":2.5},0,{"$f":"Start!$F$22","v":2},{"$f":"Start!$F$25","v":20},{"$error":"#NUM!"},900000000,{"$error":"#NUM!"},0,null,1," "]
["",null,null,"",null,null,null,null,null,null,null,null,null,null,null,{"$f":"IF(B19=\"\",\"\",Start!$F$22)","v":""},null,null,null,null,null,null,null,null,null,null,null,null,null,null,null,0,"-",null,null,null,null,null,0,0,{"$error":"#VALUE!"},0,0,0,0,0,0,0,null,{"$f":"IF(AI19=\"x\",\"0\",Start!$F$19)","v":2.5},0,{"$f":"Start!$F$22","v":2},{"$f":"Start!$F$25","v":20},{"$error":"#NUM!"},900000000,{"$error":"#NUM!"},0,null,1," "]
["",null,null,"",null,null,null,null,null,null,null,null,null,null,null,{"$f":"IF(B20=\"\",\"\",Start!$F$22)","v":""},null,null,null,null,null,null,null,null,null,null,null,null,null,null,null,0,"-",null,null,null,null,null,0,0,{"$error":"#VALUE!"},0,0,0,0,0,0,0,null,{"$f":"IF(AI20=\"x\",\"0\",Start!$F$19)","v":2.5},0,{"$f":"Start!$F$22","v":2},{"$f":"Start!$F$25","v":20},{"$error":"#NUM!"},900000000,{"$error":"#NUM!"},0,null,1," "]
["",null,null,"",null,null,null,null,null,null,null,null,null,null,null,{"$f":"IF(B21=\"\",\"\",Start!$F$22)","v":""},null,null,null,null,null,null,null,null,null,null,null,null,null,null,null,0,"-",null,null,null,null,null,0,0,{"$error":"#VALUE!"},0,0,0,0,0,0,0,null,{"$f":"IF(AI21=\"x\",\"0\",Start!$F$19)","v":2.5},0,{"$f":"Start!$F$22","v":2},{"$f":"Start!$F$25","v":20},{"$error":"#NUM!"},900000000,{"$error":"#NUM!"},0,null,1," "]
["",null,null,"",null,null,null,null,null,null,null,null,null,null,null,{"$f":"IF(B22=\"\",\"\",Start!$F$22)","v":""},null,null,null,null,null,null,null,null,null,null,null,null,null,null,null,0,"-",null,null,null,null,null,0,0,{"$error":"#VALUE!"},0,0,0,0,0,0,0,null,{"$f":"IF(AI22=\"x\",\"0\",Start!$F$19)","v":2.5},0,{"$f":"Start!$F$22","v":2},{"$f":"Start!$F$25","v":20},{"$error":"#NUM!"},900000000,{"$error":"#NUM!"},0,null,1," "]
["",null,null,"",null,null,null,null,null,null,null,null,null,null,null,{"$f":"IF(B23=\"\",\"\",Start!$F$22)","v":""},null,null,null,null,null,null,null,null,null,null,null,null,null,null,null,0,"-",null,null,null,null,null,0,0,{"$error":"#VALUE!"},0,0,0,0,0,0,0,null,{"$f":"IF(AI23=\"x\",\"0\",Start!$F$19)","v":2.5},0,{"$f":"Start!$F$22","v":2},{"$f":"Start!$F$25","v":20},{"$error":"#NUM!"},900000000,{"$error":"#NUM!"},0,null,1," "]
["",null,null,"",null,null,null,null,null,null,null,null,null,null,null,{"$f":"IF(B24=\"\",\"\",Start!$F$22)","v":""},null,null,null,null,null,null,null,null,null,null,null,null,null,null,null,0,"-",null,null,null,null,null,0,0,{"$error":"#VALUE!"},0,0,0,0,0,0,0,null,{"$f":"IF(AI24=\"x\",\"0\",Start!$F$19)","v":2.5},0,{"$f":"Start!$F$22","v":2},{"$f":"Start!$F$25","v":20},{"$error":"#NUM!"},900000000,{"$error":"#NUM!"},0,null,1," "]
["",null,null,"",null,null,null,null,null,null,null,null,null,null,null,{"$f":"IF(B25=\"\",\"\",Start!$F$22)","v":""},null,null,null,null,null,null,null,null,null,null,null,null,null,null,null,0,"-",null,null,null,null,null,0,0,{"$error":"#VALUE!"},0,0,0,0,0,0,0,null,{"$f":"IF(AI25=\"x\",\"0\",Start!$F$19)","v":2.5},0,{"$f":"Start!$F$22","v":2},{"$f":"Start!$F$25","v":20},{"$error":"#NUM!"},900000000,{"$error":"#NUM!"},0,null,1," "]
["",null,null,"",null,null,null,null,null,null,null,null,null,null,null,{"$f":"IF(B26=\"\",\"\",Start!$F$22)","v":""},null,null,null,null,null,null,null,null,null,null,null,null,null,null,null,0,"-",null,null,null,null,null,0,0,{"$error":"#VALUE!"},0,0,0,0,0,0,0,null,{"$f":"IF(AI26=\"x\",\"0\",Start!$F$19)","v":2.5},0,{"$f":"Start!$F$22","v":2},{"$f":"Start!$F$25","v":20},{"$error":"#NUM!"},900000000,{"$error":"#NUM!"},0,null,1," "]
["",null,null,"",null,null,null,null,null,null,null,null,null,null,null,{"$f":"IF(B27=\"\",\"\",Start!$F$22)","v":""},null,null,null,null,null,null,null,null,null,null,null,null,null,null,null,0,"-",null,null,null,null,null,0,0,{"$error":"#VALUE!"},0,0,0,0,0,0,0,null,{"$f":"IF(AI27=\"x\",\"0\",Start!$F$19)","v":2.5},0,{"$f":"Start!$F$22","v":2},{"$f":"Start!$F$25","v":20},{"$error":"#NUM!"},900000000,{"$error":"#NUM!"},0,null,1," "]
["",null,null,"",null,null,null,null,null,null,null,null,null,null,null,{"$f":"IF(B28=\"\",\"\",Start!$F$22)","v":""},null,null,null,null,null,null,null,null,null,null,null,null,null,null,null,0,"-",null,null,null,null,null,0,0,{"$error":"#VALUE!"},0,0,0,0,0,0,0,null,{"$f":"IF(AI28=\"x\",\"0\",Start!$F$19)","v":2.5},0,{"$f":"Start!$F$22","v":2},{"$f":"Start!$F$25","v":20},{"$error":"#NUM!"},900000000,{"$error":"#NUM!"},0,null,1," "]
["",null,null,"",null,null,null,null,null,null,null,null,null,null,null,{"$f":"IF(B29=\"\",\"\",Start!$F$22)","v":""},null,null,null,null,null,null,null,null,null,null,null,null,null,null,null,0,"-",null,null,null,null,null,0,0,{"$error":"#VALUE!"},0,0,0,0,0,0,0,null,{"$f":"IF(AI29=\"x\",\"0\",Start!$F$19)","v":2.5},0,{"$f":"Start!$F$22","v":2},{"$f":"Start!$F$25","v":20},{"$error":"#NUM!"},900000000,{"$error":"#NUM!"},0,null,1," "]
["",null,null,"",null,null,null,null,null,null,null,null,null,null,null,{"$f":"IF(B30=\"\",\"\",Start!$F$22)","v":""},null,null,null,null,null,null,null,null,null,null,null,null,null,null,null,0,"-",null,null,null,null,null,0,0,{"$error":"#VALUE!"},0,0,0,0,0,0,0,null,{"$f":"IF(AI30=\"x\",\"0\",Start!$F$19)","v":2.5},0,{"$f":"Start!$F$22","v":2},{"$f":"Start!$F$25","v":20},{"$error":"#NUM!"},900000000,{"$error":"#NUM!"},0,null,1," "]
["",null,null,"",null,null,null,null,null,null,null,null,null,null,null,{"$f":"IF(B31=\"\",\"\",Start!$F$22)","v":""},null,null,null,null,null,null,null,null,null,null,null,null,null,null,null,0,"-",null,null,null,null,null,0,0,{"$error":"#VALUE!"},0,0,0,0,0,0,0,null,{"$f":"IF(AI31=\"x\",\"0\",Start!$F$19)","v":2.5},0,{"$f":"Start!$F$22","v":2},{"$f":"Start!$F$25","v":20},{"$error":"#NUM!"},900000000,{"$error":"#NUM!"},0,null,1," "]
["",null,null,"",null,null,null,null,null,null,null,null,null,null,null,{"$f":"IF(B32=\"\",\"\",Start!$F$22)","v":""},null,null,null,null,null,null,null,null,null,null,null,null,null,null,null,0,"-",null,null,null,null,null,0,0,{"$error":"#VALUE!"},0,0,0,0,0,0,0,null,{"$f":"IF(AI32=\"x\",\"0\",Start!$F$19)","v":2.5},0,{"$f":"Start!$F$22","v":2},{"$f":"Start!$F$25","v":20},{"$error":"#NUM!"},900000000,{"$error":"#NUM!"},0,null,1," "]
["",null,null,"",null,null,null,null,null,null,null,null,null,null,null,{"$f":"IF(B33=\"\",\"\",Start!$F$22)","v":""},null,null,null,null,null,null,null,null,null,null,null,null,null,null,null,0,"-",null,null,null,null,null,0,0,{"$error":"#VALUE!"},0,0,0,0,0,0,0,null,{"$f":"IF(AI33=\"x\",\"0\",Start!$F$19)","v":2.5},0,{"$f":"Start!$F$22","v":2},{"$f":"Start!$F$25","v":20},{"$error":"#NUM!"},900000000,{"$error":"#NUM!"},0,null,1," "]
["",null,null,"",null,null,null,null,null,null,null,null,null,null,null,{"$f":"IF(B34=\"\",\"\",Start!$F$22)","v":""},null,null,null,null,null,null,null,null,null,null,null,null,null,null,null,0,"-",null,null,null,null,null,0,0,{"$error":"#VALUE!"},0,0,0,0,0,0,0,null,{"$f":"IF(AI34=\"x\",\"0\",Start!$F$19)","v":2.5},0,{"$f":"Start!$F$22","v":2},{"$f":"Start!$F$25","v":20},{"$error":"#NUM!"},900000000,{"$error":"#NUM!"},0,null,1," "]
["",null,null,"",null,null,null,null,null,null,null,null,null,null,null,{"$f":"IF(B35=\"\",\"\",Start!$F$22)","v":""},null,null,null,null,null,null,null,null,null,null,null,null,null,null,null,0,"-",null,null,null,null,null,0,0,{"$error":"#VALUE!"},0,0,0,0,0,0,0,null,{"$f":"IF(AI35=\"x\",\"0\",Start!$F$19)","v":2.5},0,{"$f":"Start!$F$22","v":2},{"$f":"Start!$F$25","v":20},{"$error":"#NUM!"},900000000,{"$error":"#NUM!"},0,null,1," "]
["",null,null,"",null,null,null,null,null,null,null,null,null,null,null,{"$f":"IF(B36=\"\",\"\",Start!$F$22)","v":""},null,null,null,null,null,null,null,null,null,null,null,null,null,null,null,0,"-",null,null,null,null,null,0,0,{"$error":"#VALUE!"},0,0,0,0,0,0,0,null,{"$f":"IF(AI36=\"x\",\"0\",Start!$F$19)","v":2.5},0,{"$f":"Start!$F$22","v":2},{"$f":"Start!$F$25","v":20},{"$error":"#NUM!"},900000000,{"$error":"#NUM!"},0,null,1," "]
["",null,null,{"$f":"IF(BC37=900000000,\"\",IFERROR(IF(AK37=\"x\",\"A K\",SMALL(E37:M37,1)+SMALL(E37:M37,2)),SMALL(E37:M37,1)))","v":""},null,null,null,null,null,null,null,null,null,null,null,{"$f":"IF(B37=\"\",\"\",Start!$F$22)","v":""},null,null,null,null,null,null,null,null,null,null,null,null,null,null,null,{"$f":"IF(AK37=\"x\",\"\",SUM(O37,P37,R37,T37,V37,X37,Z37,AB37,AD37))","v":0},{"$f":"IF(AY37<=0,\"-\",AY37)","v":"-"},null,null,null,null,null,{"$f":"IF(AJ37<=0,AH37*Essengeld,0)","v":0},{"$f":"IF(N37<=0,AZ37*AW37/AZ37,0)","v":0},{"$f":"IF(Q37<=0,P37*AX37,0)","v":{"$error":"#VALUE!"}},{"$f":"IF(S37<=0,R37*AX37,0)","v":0},{"$f":"IF(U37<=0,T37*AX37,0)","v":0},{"$f":"IF(W37<=0,V37*AX37,0)","v":0},{"$f":"IF(Y37<=0,X37*AX37,0)","v":0},{"$f":"IF(AA37<=0,Z37*AX37,0)","v":0},{"$f":"IF(AC37<=0,AB37*AX37,0)","v":0},{"$f":"IF(AE37<=0,AD37*AX37,0)","v":0},null,{"$f":"IF(AI37=\"x\",\"0\",Start!$F$19)","v":2.5},{"$f":"IF(B37=0,0,SUM(AM37:AV37))","v":0},{"$f":"Start!$F$22","v":2},{"$f":"Start!$F$25","v":20},{"$error":"#NUM!"},900000000,{"$error":"#NUM!"},0,null,1," "]
["",null,null,"",null,null,null,null,null,null,null,null,null,null,null,{"$f":"IF(B38=\"\",\"\",Start!$F$22)","v":""},null,null,null,null,null,null,null,null,null,null,null,null,null,null,null,0,"-",null,null,null,null,null,0,0,{"$error":"#VALUE!"},0,0,0,0,0,0,0,null,{"$f":"IF(AI38=\"x\",\"0\",Start!$F$19)","v":2.5},0,{"$f":"Start!$F$22","v":2},{"$f":"Start!$F$25","v":20},{"$error":"#NUM!"},900000000,{"$error":"#NUM!"},0,null,1," "]
["",null,null,"",null,null,null,null,null,null,null,null,null,null,null,{"$f":"IF(B39=\"\",\"\",Start!$F$22)","v":""},null,null,null,null,null,null,null,null,null,null,null,null,null,null,null,0,"-",null,null,null,null,null,0,0,{"$error":"#VALUE!"},0,0,0,0,0,0,0,null,{"$f":"IF(AI39=\"x\",\"0\",Start!$F$19)","v":2.5},0,{"$f":"Start!$F$22","v":2},{"$f":"Start!$F$25","v":20},{"$error":"#NUM!"},900000000,{"$error":"#NUM!"},0,null,1," "]
["",null,null,"",null,null,null,null,null,null,null,null,null,null,null,{"$f":"IF(B40=\"\",\"\",Start!$F$22)","v":""},null,null,null,null,null,null,null,null,null,null,null,null,null,null,null,0,"-",null,null,null,null,null,0,0,{"$error":"#VALUE!"},0,0,0,0,0,0,0,null,{"$f":"IF(AI40=\"x\",\"0\",Start!$F$19)","v":2.5},0,{"$f":"Start!$F$22","v":2},{"$f":"Start!$F$25","v":20},{"$error":"#NUM!"},900000000,{"$error":"#NUM!"},0,null,1," "]
["",null,null,"",null,null,null,null,null,null,null,null,null,null,null,{"$f":"IF(B41=\"\",\"\",Start!$F$22)","v":""},null,null,null,null,null,null,null,null,null,null,null,null,null,null,null,0,"-",null,null,null,null,null,0,0,{"$error":"#VALUE!"},0,0,0,0,0,0,0,null,{"$f":"IF(AI41=\"x\",\"0\",Start!$F$19)","v":2.5},0,{"$f":"Start!$F$22","v":2},{"$f":"Start!$F$25","v":20},{"$error":"#NUM!"},900000000,{"$error":"#NUM!"},0,null,1," "]
["",null,null,"",null,null,null,null,null,null,null,null,null,null,null,{"$f":"IF(B42=\"\",\"\",Start!$F$22)","v":""},null,null,null,null,null,null,null,null,null,null,null,null,null,null,null,0,"-",null,null,null,null,null,0,0,{"$error":"#VALUE!"},0,0,0,0,0,0,0,null,{"$f":"IF(AI42=\"x\",\"0\",Start!$F$19)","v":2.5},0,{"$f":"Start!$F$22","v":2},{"$f":"Start!$F$25","v":20},{"$error":"#NUM!"},900000000,{"$error":"#NUM!"},0,null,1," "]
["",null,null,"",null,null,null,null,null,null,null,null,null,null,null,{"$f":"IF(B43=\"\",\"\",Start!$F$22)","v":""},null,null,null,null,null,null,null,null,null,null,null,null,null,null,null,0,"-",null,null,null,null,null,0,0,{"$error":"#VALUE!"},0,0,0,0,0,0,0,null,{"$f":"IF(AI43=\"x\",\"0\",Start!$F$19)","v":2.5},0,{"$f":"Start!$F$22","v":2},{"$f":"Start!$F$25","v":20},{"$error":"#NUM!"},900000000,{"$error":"#NUM!"},0,null,1," "]
["",null,null,"",null,null,null,null,null,null,null,null,null,null,null,{"$f":"IF(B44=\"\",\"\",Start!$F$22)","v":""},null,null,null,null,null,null,null,null,null,null,null,null,null,null,null,0,"-",null,null,null,null,null,0,0,{"$error":"#VALUE!"},0,0,0,0,0,0,0,null,{"$f":"IF(AI44=\"x\",\"0\",Start!$F$19)","v":2.5},0,{"$f":"Start!$F$22","v":2},{"$f":"Start!$F$25","v":20},{"$error":"#NUM!"},900000000,{"$error":"#NUM!"},0,null,1," "]
["",null,null,"",null,null,null,null,null,null,null,null,null,null,null,{"$f":"IF(B45=\"\",\"\",Start!$F$22)","v":""},null,null,null,null,null,null,null,null,null,null,null,null,null,null,null,0,"-",null,null,null,null,null,0,0,{"$error":"#VALUE!"},0,0,0,0,0,0,0,null,{"$f":"IF(AI45=\"x\",\"0\",Start!$F$19)","v":2.5},0,{"$f":"Start!$F$22","v":2},{"$f":"Start!$F$25","v":20},{"$error":"#NUM!"},900000000,{"$error":"#NUM!"},0,null,1," "]
["",null,null,"",null,null,null,null,null,null,null,null,null,null,null,{"$f":"IF(B46=\"\",\"\",Start!$F$22)","v":""},null,null,null,null,null,null,null,null,null,null,null,null,null,null,null,0,"-",null,null,null,null,null,0,0,{"$error":"#VALUE!"},0,0,0,0,0,0,0,null,{"$f":"IF(AI46=\"x\",\"0\",Start!$F$19)","v":2.5},0,{"$f":"Start!$F$22","v":2},{"$f":"Start!$F$25","v":20},{"$error":"#NUM!"},900000000,{"$error":"#NUM!"},0,null,1," "]
["",null,null,"",null,null,null,null,null,null,null,null,null,null,null,{"$f":"IF(B47=\"\",\"\",Start!$F$22)","v":""},null,null,null,null,null,null,null,null,null,null,null,null,null,null,null,0,"-",null,null,null,null,null,0,0,{"$error":"#VALUE!"},0,0,0,0,0,0,0,null,{"$f":"IF(AI47=\"x\",\"0\",Start!$F$19)","v":2.5},0,{"$f":"Start!$F$22","v":2},{"$f":"Start!$F$25","v":20},{"$error":"#NUM!"},900000000,{"$error":"#NUM!"},0,null,1," "]
["",null,null,"",null,null,null,null,null,null,null,null,null,null,null,{"$f":"IF(B48=\"\",\"\",Start!$F$22)","v":""},null,null,null,null,null,null,null,null,null,null,null,null,null,null,null,0,"-",null,null,null,null,null,0,0,{"$error":"#VALUE!"},0,0,0,0,0,0,0,null,{"$f":"IF(AI48=\"x\",\"0\",Start!$F$19)","v":2.5},0,{"$f":"Start!$F$22","v":2},{"$f":"Start!$F$25","v":20},{"$error":"#NUM!"},900000000,{"$error":"#NUM!"},0,null,1," "]
["",null,null,"",null,null,null,null,null,null,null,null,null,null,null,{"$f":"IF(B49=\"\",\"\",Start!$F$22)","v":""},null,null,null,null,null,null,null,null,null,null,null,null,null,null,null,0,"-",null,null,null,null,null,0,0,{"$error":"#VALUE!"},0,0,0,0,0,0,0,null,{"$f":"IF(AI49=\"x\",\"0\",Start!$F$19)","v":2.5},0,{"$f":"Start!$F$22","v":2},{"$f":"Start!$F$25","v":20},{"$error":"#NUM!"},900000000,{"$error":"#NUM!"},0,null,1," "]
["",null,null,"",null,null,null,null,null,null,null,null,null,null,null,{"$f":"IF(B50=\"\",\"\",Start!$F$22)","v":""},null,null,null,null,null,null,null,null,null,null,null,null,null,null,null,0,"-",null,null,null,null,null,0,0,{"$error":"#VALUE!"},0,0,0,0,0,0,0,null,{"$f":"IF(AI50=\"x\",\"0\",Start!$F$19)","v":2.5},0,{"$f":"Start!$F$22","v":2},{"$f":"Start!$F$25","v":20},{"$error":"#NUM!"},900000000,{"$error":"#NUM!"},0,null,1," "]
["",null,null,"",null,null,null,null,null,null,null,null,null,null,null,{"$f":"IF(B51=\"\",\"\",Start!$F$22)","v":""},null,null,null,null,null,null,null,null,null,null,null,null,null,null,null,0,"-",null,null,null,null,null,0,0,{"$error":"#VALUE!"},0,0,0,0,0,0,0,null,{"$f":"IF(AI51=\"x\",\"0\",Start!$F$19)","v":2.5},0,{"$f":"Start!$F$22","v":2},{"$f":"Start!$F$25","v":20},{"$error":"#NUM!"},900000000,{"$error":"#NUM!"},0,null,1," "]
["",null,null,"",null,null,null,null,null,null,null,null,null,null,null,{"$f":"IF(B52=\"\",\"\",Start!$F$22)","v":""},null,null,null,null,null,null,null,null,null,null,null,null,null,null,null,0,"-",null,null,null,null,null,0,0,{"$error":"#VALUE!"},0,0,0,0,0,0,0,null,{"$f":"IF(AI52=\"x\",\"0\",Start!$F$19)","v":2.5},0,{"$f":"Start!$F$22","v":2},{"$f":"Start!$F$25","v":20},{"$error":"#NUM!"},900000000,{"$error":"#NUM!"},0,null,1," "]
["",null,null,"",null,null,null,null,null,null,null,null,null,null,null,{"$f":"IF(B53=\"\",\"\",Start!$F$22)","v":""},null,null,null,null,null,null,null,null,null,null,null,null,null,null,null,0,"-",null,null,null,null,null,0,0,{"$error":"#VALUE!"},0,0,0,0,0,0,0,null,{"$f":"IF(AI53=\"x\",\"0\",Start!$F$19)","v":2.5},0,{"$f":"Start!$F$22","v":2},{"$f":"Start!$F$25","v":20},{"$error":"#NUM!"},900000000,{"$error":"#NUM!"},0,null,1," "]
["",null,null,"",null,null,null,null,null,null,null,null,null,null,null,{"$f":"IF(B54=\"\",\"\",Start!$F$22)","v":""},null,null,null,null,null,null,null,null,null,null,null,null,null,null,null,0,"-",null,null,null,null,null,0,0,{"$error":"#VALUE!"},0,0,0,0,0,0,0,null,{"$f":"IF(AI54=\"x\",\"0\",Start!$F$19)","v":2.5},0,{"$f":"Start!$F$22","v":2},{"$f":"Start!$F$25","v":20},{"$error":"#NUM!"},900000000,{"$error":"#NUM!"},0,null,1," "]
["",null,null,"",null,null,null,null,null,null,null,null,null,null,null,{"$f":"IF(B55=\"\",\"\",Start!$F$22)","v":""},null,null,null,null,null,null,null,null,null,null,null,null,null,null,null,0,"-",null,null,null,null,null,0,0,{"$error":"#VALUE!"},0,0,0,0,0,0,0,null,{"$f":"IF(AI55=\"x\",\"0\",Start!$F$19)","v":2.5},0,{"$f":"Start!$F$22","v":2},{"$f":"Start!$F$25","v":20},{"$error":"#NUM!"},900000000,{"$error":"#NUM!"},0,null,1," "]
["",null,null,"",null,null,null,null,null,null,null,null,null,null,null,{"$f":"IF(B56=\"\",\"\",Start!$F$22)","v":""},null,null,null,null,null,null,null,null,null,null,null,null,null,null,null,0,"-",null,null,null,null,null,0,0,{"$error":"#VALUE!"},0,0,0,0,0,0,0,null,{"$f":"IF(AI56=\"x\",\"0\",Start!$F$19)","v":2.5},0,{"$f":"Start!$F$22","v":2},{"$f":"Start!$F$25","v":20},{"$error":"#NUM!"},900000000,{"$error":"#NUM!"},0,null,1," "]
["",null,null,"",null,null,null,null,null,null,null,null,null,null,null,{"$f":"IF(B57=\"\",\"\",Start!$F$22)","v":""},null,null,null,null,null,null,null,null,null,null,null,null,null,null,null,0,"-",null,null,null,null,null,0,0,{"$error":"#VALUE!"},0,0,0,0,0,0,0,null,{"$f":"IF(AI57=\"x\",\"0\",Start!$F$19)","v":2.5},0,{"$f":"Start!$F$22","v":2},{"$f":"Start!$F$25","v":20},{"$error":"#NUM!"},900000000,{"$error":"#NUM!"},0,null,1," "]
["",null,null,"",null,null,null,null,null,null,null,null,null,null,null,{"$f":"IF(B58=\"\",\"\",Start!$F$22)","v":""},null,null,null,null,null,null,null,null,null,null,null,null,null,null,null,0,"-",null,null,null,null,null,0,0,{"$error":"#VALUE!"},0,0,0,0,0,0,0,null,{"$f":"IF(AI58=\"x\",\"0\",Start!$F$19)","v":2.5},0,{"$f":"Start!$F$22","v":2},{"$f":"Start!$F$25","v":20},{"$error":"#NUM!"},900000000,{"$error":"#NUM!"},0,null,1," "]
["",null,null,"",null,null,null,null,null,null,null,null,null,null,null,{"$f":"IF(B59=\"\",\"\",Start!$F$22)","v":""},null,null,null,null,null,null,null,null,null,null,null,null,null,null,null,0,"-",null,null,null,null,null,0,0,{"$error":"#VALUE!"},0,0,0,0,0,0,0,null,{"$f":"IF(AI59=\"x\",\"0\",Start!$F$19)","v":2.5},0,{"$f":"Start!$F$22","v":2},{"$f":"Start!$F$25","v":20},{"$error":"#NUM!"},900000000,{"$error":"#NUM!"},0,null,1," "]
["",null,null,"",null,null,null,null,null,null,null,null,null,null,null,{"$f":"IF(B60=\"\",\"\",Start!$F$22)","v":""},null,null,null,null,null,null,null,null,null,null,null,null,null,null,null,0,"-",null,null,null,null,null,0,0,{"$error":"#VALUE!"},0,0,0,0,0,0,0,null,{"$f":"IF(AI60=\"x\",\"0\",Start!$F$19)","v":2.5},0,{"$f":"Start!$F$22","v":2},{"$f":"Start!$F$25","v":20},{"$error":"#NUM!"},900000000,{"$error":"#NUM!"},0,null,1," "]
["",null,null,"",null,null,null,null,null,null,null,null,null,null,null,{"$f":"IF(B61=\"\",\"\",Start!$F$22)","v":""},null,null,null,null,null,null,null,null,null,null,null,null,null,null,null,0,"-",null,null,null,null,null,0,0,{"$error":"#VALUE!"},0,0,0,0,0,0,0,null,{"$f":"IF(AI61=\"x\",\"0\",Start!$F$19)","v":2.5},0,{"$f":"Start!$F$22","v":2},{"$f":"Start!$F$25","v":20},{"$error":"#NUM!"},900000000,{"$error":"#NUM!"},0,null,1," "]
["",null,null,"",null,null,null,null,null,null,null,null,null,null,null,{"$f":"IF(B62=\"\",\"\",Start!$F$22)","v":""},null,null,null,null,null,null,null,null,null,null,null,null,null,null,null,0,"-",null,null,null,null,null,0,0,{"$error":"#VALUE!"},0,0,0,0,0,0,0,null,{"$f":"IF(AI62=\"x\",\"0\",Start!$F$19)","v":2.5},0,{"$f":"Start!$F$22","v":2},{"$f":"Start!$F$25","v":20},{"$error":"#NUM!"},900000000,{"$error":"#NUM!"},0,null,1," "]
["",null,null,"",null,null,null,null,null,null,null,null,null,null,null,{"$f":"IF(B63=\"\",\"\",Start!$F$22)","v":""},null,null,null,null,null,null,null,null,null,null,null,null,null,null,null,0,"-",null,null,null,null,null,0,0,{"$error":"#VALUE!"},0,0,0,0,0,0,0,null,{"$f":"IF(AI63=\"x\",\"0\",Start!$F$19)","v":2.5},0,{"$f":"Start!$F$22","v":2},{"$f":"Start!$F$25","v":20},{"$error":"#NUM!"},900000000,{"$error":"#NUM!"},0,null,1," "]
["",null,null,"",null,null,null,null,null,null,null,null,null,null,null,{"$f":"IF(B64=\"\",\"\",Start!$F$22)","v":""},null,null,null,null,null,null,null,null,null,null,null,null,null,null,null,0,"-",null,null,null,null,null,0,0,{"$error":"#VALUE!"},0,0,0,0,0,0,0,null,{"$f":"IF(AI64=\"x\",\"0\",Start!$F$19)","v":2.5},0,{"$f":"Start!$F$22","v":2},{"$f":"Start!$F$25","v":20},{"$error":"#NUM!"},900000000,{"$error":"#NUM!"},0,null,1," "]
["",null,null,"",null,null,null,null,null,null,null,null,null,null,null,{"$f":"IF(B65=\"\",\"\",Start!$F$22)","v":""},null,null,null,null,null,null,null,null,null,null,null,null,null,null,null,0,"-",null,null,null,null,null,0,0,{"$error":"#VALUE!"},0,0,0,0,0,0,0,null,{"$f":"IF(AI65=\"x\",\"0\",Start!$F$19)","v":2.5},0,{"$f":"Start!$F$22","v":2},{"$f":"Start!$F$25","v":20},{"$error":"#NUM!"},900000000,{"$error":"#NUM!"},0,null,1," "]
["",null,null,"",null,null,null,null,null,null,null,null,null,null,null,{"$f":"IF(B66=\"\",\"\",Start!$F$22)","v":""},null,null,null,null,null,null,null,null,null,null,null,null,null,null,null,0,"-",null,null,null,null,null,0,0,{"$error":"#VALUE!"},0,0,0,0,0,0,0,null,{"$f":"IF(AI66=\"x\",\"0\",Start!$F$19)","v":2.5},0,{"$f":"Start!$F$22","v":2},{"$f":"Start!$F$25","v":20},{"$error":"#NUM!"},900000000,{"$error":"#NUM!"},0,null,1," "]
["",null,null,"",null,null,null,null,null,null,null,null,null,null,null,{"$f":"IF(B67=\"\",\"\",Start!$F$22)","v":""},null,null,null,null,null,null,null,null,null,null,null,null,null,null,null,0,"-",null,null,null,null,null,0,0,{"$error":"#VALUE!"},0,0,0,0,0,0,0,null,{"$f":"IF(AI67=\"x\",\"0\",Start!$F$19)","v":2.5},0,{"$f":"Start!$F$22","v":2},{"$f":"Start!$F$25","v":20},{"$error":"#NUM!"},900000000,{"$error":"#NUM!"},0,null,1," "]
["",null,null,"",null,null,null,null,null,null,null,null,null,null,null,{"$f":"IF(B68=\"\",\"\",Start!$F$22)","v":""},null,null,null,null,null,null,null,null,null,null,null,null,null,null,null,0,"-",null,null,null,null,null,0,0,{"$error":"#VALUE!"},0,0,0,0,0,0,0,null,{"$f":"IF(AI68=\"x\",\"0\",Start!$F$19)","v":2.5},0,{"$f":"Start!$F$22","v":2},{"$f":"Start!$F$25","v":20},{"$error":"#NUM!"},900000000,{"$error":"#NUM!"},0,null,1," "]
["",null,null,{"$f":"IF(BC69=900000000,\"\",IFERROR(IF(AK69=\"x\",\"A K\",SMALL(E69:M69,1)+SMALL(E69:M69,2)),SMALL(E69:M69,1)))","v":""},null,null,null,null,null,null,null,null,null,null,null,{"$f":"IF(B69=\"\",\"\",Start!$F$22)","v":""},null,null,null,null,null,null,null,null,null,null,null,null,null,null,null,{"$f":"IF(AK69=\"x\",\"\",SUM(O69,P69,R69,T69,V69,X69,Z69,AB69,AD69))","v":0},{"$f":"IF(AY69<=0,\"-\",AY69)","v":"-"},null,null,null,null,null,{"$f":"IF(AJ69<=0,AH69*Essengeld,0)","v":0},{"$f":"IF(N69<=0,AZ69*AW69/AZ69,0)","v":0},{"$f":"IF(Q69<=0,P69*AX69,0)","v":{"$error":"#VALUE!"}},{"$f":"IF(S69<=0,R69*AX69,0)","v":0},{"$f":"IF(U69<=0,T69*AX69,0)","v":0},{"$f":"IF(W69<=0,V69*AX69,0)","v":0},{"$f":"IF(Y69<=0,X69*AX69,0)","v":0},{"$f":"IF(AA69<=0,Z69*AX69,0)","v":0},{"$f":"IF(AC69<=0,AB69*AX69,0)","v":0},{"$f":"IF(AE69<=0,AD69*AX69,0)","v":0},null,{"$f":"IF(AI69=\"x\",\"0\",Start!$F$19)","v":2.5},{"$f":"IF(B69=0,0,SUM(AM69:AV69))","v":0},{"$f":"Start!$F$22","v":2},{"$f":"Start!$F$25","v":20},{"$error":"#NUM!"},900000000,{"$error":"#NUM!"},0,null,1," "]
[{"$f":"IF(D70=\"\",\"\",RANK(BE70,$BE$5:$BE$204,0))","v":""},null,null,"",null,null,null,null,null,null,null,null,null,null,null,{"$f":"IF(B70=\"\",\"\",Start!$F$22)","v":""},null,null,null,null,null,null,null,null,null,null,null,null,null,null,null,0,"-",null,null,null,null,null,0,0,{"$error":"#VALUE!"},0,0,0,0,0,0,0,null,{"$f":"IF(AI70=\"x\",\"0\",Start!$F$19)","v":2.5},0,{"$f":"Start!$F$22","v":2},{"$f":"Start!$F$25","v":20},{"$f":"SMALL(E70:M70,1)","v":{"$error":"#NUM!"}},{"$f":"IFERROR(SMALL(E70:M70,2),900000000)","v":900000000},{"$f":"SUM(BB70:BC70)","v":{"$error":"#NUM!"}},{"$f":"IFERROR(1000000-(BD70*100)-BB70,0)","v":0},null,{"$f":"IF(BC70=0,0,RANK(BE70,$BE$5:$BE$204,0))","v":1}," "]
["",null,null,"",null,null,null,null,null,null,null,null,null,null,null,{"$f":"IF(B71=\"\",\"\",Start!$F$22)","v":""},null,null,null,null,null,null,null,null,null,null,null,null,null,null,null,0,"-",null,null,null,null,null,0,0,{"$error":"#VALUE!"},0,0,0,0,0,0,0,null,{"$f":"IF(AI71=\"x\",\"0\",Start!$F$19)","v":2.5},0,{"$f":"Start!$F$22","v":2},{"$f":"Start!$F$25","v":20},{"$error":"#NUM!"},900000000,{"$error":"#NUM!"},0,null,1,{"$f":"CONCATENATE(B71,\" \",C71)","v":" "}]
["",null,null,"",null,null,null,null,null,null,null,null,null,null,null,{"$f":"IF(B72=\"\",\"\",Start!$F$22)","v":""},null,null,null,null,null,null,null,null,null,null,null,null,null,null,null,0,"-",null,null,null,null,null,0,0,{"$error":"#VALUE!"},0,0,0,0,0,0,0,null,{"$f":"IF(AI72=\"x\",\"0\",Start!$F$19)","v":2.5},0,{"$f":"Start!$F$22","v":2},{"$f":"Start!$F$25","v":20},{"$error":"#NUM!"},900000000,{"$error":"#NUM!"},0,null,1," "]
["",null,null,"",null,null,null,null,null,null,null,null,null,null,null,{"$f":"IF(B73=\"\",\"\",Start!$F$22)","v":""},null,null,null,null,null,null,null,null,null,null,null,null,null,null,null,0,"-",null,null,null,null,null,0,0,{"$error":"#VALUE!"},0,0,0,0,0,0,0,null,{"$f":"IF(AI73=\"x\",\"0\",Start!$F$19)","v":2.5},0,{"$f":"Start!$F$22","v":2},{"$f":"Start!$F$25","v":20},{"$error":"#NUM!"},900000000,{"$error":"#NUM!"},0,null,1," "]
["",null,null,"",null,null,null,null,null,null,null,null,null,null,null,{"$f":"IF(B74=\"\",\"\",Start!$F$22)","v":""},null,null,null,null,null,null,null,null,null,null,null,null,null,null,null,0,"-",null,null,null,null,null,0,0,{"$error":"#VALUE!"},0,0,0,0,0,0,0,null,{"$f":"IF(AI74=\"x\",\"0\",Start!$F$19)","v":2.5},0,{"$f":"Start!$F$22","v":2},{"$f":"Start!$F$25","v":20},{"$error":"#NUM!"},900000000,{"$error":"#NUM!"},0,null,1," "]
["",null,null,"",null,null,null,null,null,null,null,null,null,null,null,{"$f":"IF(B75=\"\",\"\",Start!$F$22)","v":""},null,null,null,null,null,null,null,null,null,null,null,null,null,null,null,0,"-",null,null,null,null,null,0,0,{"$error":"#VALUE!"},0,0,0,0,0,0,0,null,{"$f":"IF(AI75=\"x\",\"0\",Start!$F$19)","v":2.5},0,{"$f":"Start!$F$22","v":2},{"$f":"Start!$F$25","v":20},{"$error":"#NUM!"},900000000,{"$error":"#NUM!"},0,null,1," "]
["",null,null,"",null,null,null,null,null,null,null,null,null,null,null,{"$f":"IF(B76=\"\",\"\",Start!$F$22)","v":""},null,null,null,null,null,null,null,null,null,null,null,null,null,null,null,0,"-",null,null,null,null,null,0,0,{"$error":"#VALUE!"},0,0,0,0,0,0,0,null,{"$f":"IF(AI76=\"x\",\"0\",Start!$F$19)","v":2.5},0,{"$f":"Start!$F$22","v":2},{"$f":"Start!$F$25","v":20},{"$error":"#NUM!"},900000000,{"$error":"#NUM!"},0,null,1," "]
["",null,null,"",null,null,null,null,null,null,null,null,null,null,null,{"$f":"IF(B77=\"\",\"\",Start!$F$22)","v":""},null,null,null,null,null,null,null,null,null,null,null,null,null,null,null,0,"-",null,null,null,null,null,0,0,{"$error":"#VALUE!"},0,0,0,0,0,0,0,null,{"$f":"IF(AI77=\"x\",\"0\",Start!$F$19)","v":2.5},0,{"$f":"Start!$F$22","v":2},{"$f":"Start!$F$25","v":20},{"$error":"#NUM!"},900000000,{"$error":"#NUM!"},0,null,1," "]
["",null,null,"",null,null,null,null,null,null,null,null,null,null,null,{"$f":"IF(B78=\"\",\"\",Start!$F$22)","v":""},null,null,null,null,null,null,null,null,null,null,null,null,null,null,null,0,"-",null,null,null,null,null,0,0,{"$error":"#VALUE!"},0,0,0,0,0,0,0,null,{"$f":"IF(AI78=\"x\",\"0\",Start!$F$19)","v":2.5},0,{"$f":"Start!$F$22","v":2},{"$f":"Start!$F$25","v":20},{"$error":"#NUM!"},900000000,{"$error":"#NUM!"},0,null,1," "]
["",null,null,"",null,null,null,null,null,null,null,null,null,null,null,{"$f":"IF(B79=\"\",\"\",Start!$F$22)","v":""},null,null,null,null,null,null,null,null,null,null,null,null,null,null,null,0,"-",null,null,null,null,null,0,0,{"$error":"#VALUE!"},0,0,0,0,0,0,0,null,{"$f":"IF(AI79=\"x\",\"0\",Start!$F$19)","v":2.5},0,{"$f":"Start!$F$22","v":2},{"$f":"Start!$F$25","v":20},{"$error":"#NUM!"},900000000,{"$error":"#NUM!"},0,null,1," "]
["",null,null,"",null,null,null,null,null,null,null,null,null,null,null,{"$f":"IF(B80=\"\",\"\",Start!$F$22)","v":""},null,null,null,null,null,null,null,null,null,null,null,null,null,null,null,0,"-",null,null,null,null,null,0,0,{"$error":"#VALUE!"},0,0,0,0,0,0,0,null,{"$f":"IF(AI80=\"x\",\"0\",Start!$F$19)","v":2.5},0,{"$f":"Start!$F$22","v":2},{"$f":"Start!$F$25","v":20},{"$error":"#NUM!"},900000000,{"$error":"#NUM!"},0,null,1," "]
["",null,null,"",null,null,null,null,null,null,null,null,null,null,null,{"$f":"IF(B81=\"\",\"\",Start!$F$22)","v":""},null,null,null,null,null,null,null,null,null,null,null,null,null,null,null,0,"-",null,null,null,null,null,0,0,{"$error":"#VALUE!"},0,0,0,0,0,0,0,null,{"$f":"IF(AI81=\"x\",\"0\",Start!$F$19)","v":2.5},0,{"$f":"Start!$F$22","v":2},{"$f":"Start!$F$25","v":20},{"$error":"#NUM!"},900000000,{"$error":"#NUM!"},0,null,1," "]
["",null,null,"",null,null,null,null,null,null,null,null,null,null,null,{"$f":"IF(B82=\"\",\"\",Start!$F$22)","v":""},null,null,null,null,null,null,null,null,null,null,null,null,null,null,null,0,"-",null,null,null,null,null,0,0,{"$error":"#VALUE!"},0,0,0,0,0,0,0,null,{"$f":"IF(AI82=\"x\",\"0\",Start!$F$19)","v":2.5},0,{"$f":"Start!$F$22","v":2},{"$f":"Start!$F$25","v":20},{"$error":"#NUM!"},900000000,{"$error":"#NUM!"},0,null,1," "]
["",null,null,"",null,null,null,null,null,null,null,null,null,null,null,{"$f":"IF(B83=\"\",\"\",Start!$F$22)","v":""},null,null,null,null,null,null,null,null,null,null,null,null,null,null,null,0,"-",null,null,null,null,null,0,0,{"$error":"#VALUE!"},0,0,0,0,0,0,0,null,{"$f":"IF(AI83=\"x\",\"0\",Start!$F$19)","v":2.5},0,{"$f":"Start!$F$22","v":2},{"$f":"Start!$F$25","v":20},{"$error":"#NUM!"},900000000,{"$error":"#NUM!"},0,null,1," "]
["",null,null,"",null,null,null,null,null,null,null,null,null,null,null,{"$f":"IF(B84=\"\",\"\",Start!$F$22)","v":""},null,null,null,null,null,null,null,null,null,null,null,null,null,null,null,0,"-",null,null,null,null,null,0,0,{"$error":"#VALUE!"},0,0,0,0,0,0,0,null,{"$f":"IF(AI84=\"x\",\"0\",Start!$F$19)","v":2.5},0,{"$f":"Start!$F$22","v":2},{"$f":"Start!$F$25","v":20},{"$error":"#NUM!"},900000000,{"$error":"#NUM!"},0,null,1," "]
["",null,null,"",null,null,null,null,null,null,null,null,null,null,null,{"$f":"IF(B85=\"\",\"\",Start!$F$22)","v":""},null,null,null,null,null,null,null,null,null,null,null,null,null,null,null,0,"-",null,null,null,null,null,0,0,{"$error":"#VALUE!"},0,0,0,0,0,0,0,null,{"$f":"IF(AI85=\"x\",\"0\",Start!$F$19)","v":2.5},0,{"$f":"Start!$F$22","v":2},{"$f":"Start!$F$25","v":20},{"$error":"#NUM!"},900000000,{"$error":"#NUM!"},0,null,1," "]
["",null,null,"",null,null,null,null,null,null,null,null,null,null,null,{"$f":"IF(B86=\"\",\"\",Start!$F$22)","v":""},null,null,null,null,null,null,null,null,null,null,null,null,null,null,null,0,"-",null,null,null,null,null,0,0,{"$error":"#VALUE!"},0,0,0,0,0,0,0,null,{"$f":"IF(AI86=\"x\",\"0\",Start!$F$19)","v":2.5},0,{"$f":"Start!$F$22","v":2},{"$f":"Start!$F$25","v":20},{"$error":"#NUM!"},900000000,{"$error":"#NUM!"},0,null,1," "]
["",null,null,"",null,null,null,null,null,null,null,null,null,null,null,{"$f":"IF(B87=\"\",\"\",Start!$F$22)","v":""},null,null,null,null,null,null,null,null,null,null,null,null,null,null,null,0,"-",null,null,null,null,null,0,0,{"$error":"#VALUE!"},0,0,0,0,0,0,0,null,{"$f":"IF(AI87=\"x\",\"0\",Start!$F$19)","v":2.5},0,{"$f":"Start!$F$22","v":2},{"$f":"Start!$F$25","v":20},{"$error":"#NUM!"},900000000,{"$error":"#NUM!"},0,null,1," "]
["",null,null,"",null,null,null,null,null,null,null,null,null,null,null,{"$f":"IF(B88=\"\",\"\",Start!$F$22)","v":""},null,null,null,null,null,null,null,null,null,null,null,null,null,null,null,0,"-",null,null,null,null,null,0,0,{"$error":"#VALUE!"},0,0,0,0,0,0,0,null,{"$f":"IF(AI88=\"x\",\"0\",Start!$F$19)","v":2.5},0,{"$f":"Start!$F$22","v":2},{"$f":"Start!$F$25","v":20},{"$error":"#NUM!"},900000000,{"$error":"#NUM!"},0,null,1," "]
["",null,null,"",null,null,null,null,null,null,null,null,null,null,null,{"$f":"IF(B89=\"\",\"\",Start!$F$22)","v":""},null,null,null,null,null,null,null,null,null,null,null,null,null,null,null,0,"-",null,null,null,null,null,0,0,{"$error":"#VALUE!"},0,0,0,0,0,0,0,null,{"$f":"IF(AI89=\"x\",\"0\",Start!$F$19)","v":2.5},0,{"$f":"Start!$F$22","v":2},{"$f":"Start!$F$25","v":20},{"$error":"#NUM!"},900000000,{"$error":"#NUM!"},0,null,1," "]
["",null,null,"",null,null,null,null,null,null,null,null,null,null,null,{"$f":"IF(B90=\"\",\"\",Start!$F$22)","v":""},null,null,null,null,null,null,null,null,null,null,null,null,null,null,null,0,"-",null,null,null,null,null,0,0,{"$error":"#VALUE!"},0,0,0,0,0,0,0,null,{"$f":"IF(AI90=\"x\",\"0\",Start!$F$19)","v":2.5},0,{"$f":"Start!$F$22","v":2},{"$f":"Start!$F$25","v":20},{"$error":"#NUM!"},900000000,{"$error":"#NUM!"},0,null,1," "]
["",null,null,"",null,null,null,null,null,null,null,null,null,null,null,{"$f":"IF(B91=\"\",\"\",Start!$F$22)","v":""},null,null,null,null,null,null,null,null,null,null,null,null,null,null,null,0,"-",null,null,null,null,null,0,0,{"$error":"#VALUE!"},0,0,0,0,0,0,0,null,{"$f":"IF(AI91=\"x\",\"0\",Start!$F$19)","v":2.5},0,{"$f":"Start!$F$22","v":2},{"$f":"Start!$F$25","v":20},{"$error":"#NUM!"},900000000,{"$error":"#NUM!"},0,null,1," "]
["",null,null,"",null,null,null,null,null,null,null,null,null,null,null,{"$f":"IF(B92=\"\",\"\",Start!$F$22)","v":""},null,null,null,null,null,null,null,null,null,null,null,null,null,null,null,0,"-",null,null,null,null,null,0,0,{"$error":"#VALUE!"},0,0,0,0,0,0,0,null,{"$f":"IF(AI92=\"x\",\"0\",Start!$F$19)","v":2.5},0,{"$f":"Start!$F$22","v":2},{"$f":"Start!$F$25","v":20},{"$error":"#NUM!"},900000000,{"$error":"#NUM!"},0,null,1," "]
["",null,null,"",null,null,null,null,null,null,null,null,null,null,null,{"$f":"IF(B93=\"\",\"\",Start!$F$22)","v":""},null,null,null,null,null,null,null,null,null,null,null,null,null,null,null,0,"-",null,null,null,null,null,0,0,{"$error":"#VALUE!"},0,0,0,0,0,0,0,null,{"$f":"IF(AI93=\"x\",\"0\",Start!$F$19)","v":2.5},0,{"$f":"Start!$F$22","v":2},{"$f":"Start!$F$25","v":20},{"$error":"#NUM!"},900000000,{"$error":"#NUM!"},0,null,1," "]
["",null,null,"",null,null,null,null,null,null,null,null,null,null,null,{"$f":"IF(B94=\"\",\"\",Start!$F$22)","v":""},null,null,null,null,null,null,null,null,null,null,null,null,null,null,null,0,"-",null,null,null,null,null,0,0,{"$error":"#VALUE!"},0,0,0,0,0,0,0,null,{"$f":"IF(AI94=\"x\",\"0\",Start!$F$19)","v":2.5},0,{"$f":"Start!$F$22","v":2},{"$f":"Start!$F$25","v":20},{"$error":"#NUM!"},900000000,{"$error":"#NUM!"},0,null,1," "]
["",null,null,"",null,null,null,null,null,null,null,null,null,null,null,{"$f":"IF(B95=\"\",\"\",Start!$F$22)","v":""},null,null,null,null,null,null,null,null,null,null,null,null,null,null,null,0,"-",null,null,null,null,null,0,0,{"$error":"#VALUE!"},0,0,0,0,0,0,0,null,{"$f":"IF(AI95=\"x\",\"0\",Start!$F$19)","v":2.5},0,{"$f":"Start!$F$22","v":2},{"$f":"Start!$F$25","v":20},{"$error":"#NUM!"},900000000,{"$error":"#NUM!"},0,null,1," "]
["",null,null,"",null,null,null,null,null,null,null,null,null,null,null,{"$f":"IF(B96=\"\",\"\",Start!$F$22)","v":""},null,null,null,null,null,null,null,null,null,null,null,null,null,null,null,0,"-",null,null,null,null,null,0,0,{"$error":"#VALUE!"},0,0,0,0,0,0,0,null,{"$f":"IF(AI96=\"x\",\"0\",Start!$F$19)","v":2.5},0,{"$f":"Start!$F$22","v":2},{"$f":"Start!$F$25","v":20},{"$error":"#NUM!"},900000000,{"$error":"#NUM!"},0,null,1," "]
["",null,null,"",null,null,null,null,null,null,null,null,null,null,null,{"$f":"IF(B97=\"\",\"\",Start!$F$22)","v":""},null,null,null,null,null,null,null,null,null,null,null,null,null,null,null,0,"-",null,null,null,null,null,0,0,{"$error":"#VALUE!"},0,0,0,0,0,0,0,null,{"$f":"IF(AI97=\"x\",\"0\",Start!$F$19)","v":2.5},0,{"$f":"Start!$F$22","v":2},{"$f":"Start!$F$25","v":20},{"$error":"#NUM!"},900000000,{"$error":"#NUM!"},0,null,1," "]
["",null,null,"",null,null,null,null,null,null,null,null,null,null,null,{"$f":"IF(B98=\"\",\"\",Start!$F$22)","v":""},null,null,null,null,null,null,null,null,null,null,null,null,null,null,null,0,"-",null,null,null,null,null,0,0,{"$error":"#VALUE!"},0,0,0,0,0,0,0,null,{"$f":"IF(AI98=\"x\",\"0\",Start!$F$19)","v":2.5},0,{"$f":"Start!$F$22","v":2},{"$f":"Start!$F$25","v":20},{"$error":"#NUM!"},900000000,{"$error":"#NUM!"},0,null,1," "]
["",null,null,"",null,null,null,null,null,null,null,null,null,null,null,{"$f":"IF(B99=\"\",\"\",Start!$F$22)","v":""},null,null,null,null,null,null,null,null,null,null,null,null,null,null,null,0,"-",null,null,null,null,null,0,0,{"$error":"#VALUE!"},0,0,0,0,0,0,0,null,{"$f":"IF(AI99=\"x\",\"0\",Start!$F$19)","v":2.5},0,{"$f":"Start!$F$22","v":2},{"$f":"Start!$F$25","v":20},{"$error":"#NUM!"},900000000,{"$error":"#NUM!"},0,null,1," "]
["",null,null,"",null,null,null,null,null,null,null,null,null,null,null,{"$f":"IF(B100=\"\",\"\",Start!$F$22)","v":""},null,null,null,null,null,null,null,null,null,null,null,null,null,null,null,0,"-",null,null,null,null,null,0,0,{"$error":"#VALUE!"},0,0,0,0,0,0,0,null,{"$f":"IF(AI100=\"x\",\"0\",Start!$F$19)","v":2.5},0,{"$f":"Start!$F$22","v":2},{"$f":"Start!$F$25","v":20},{"$error":"#NUM!"},900000000,{"$error":"#NUM!"},0,null,1," "]
["",null,null,{"$f":"IF(BC101=900000000,\"\",IFERROR(IF(AK101=\"x\",\"A K\",SMALL(E101:M101,1)+SMALL(E101:M101,2)),SMALL(E101:M101,1)))","v":""},null,null,null,null,null,null,null,null,null,null,null,{"$f":"IF(B101=\"\",\"\",Start!$F$22)","v":""},null,null,null,null,null,null,null,null,null,null,null,null,null,null,null,{"$f":"IF(AK101=\"x\",\"\",SUM(O101,P101,R101,T101,V101,X101,Z101,AB101,AD101))","v":0},{"$f":"IF(AY101<=0,\"-\",AY101)","v":"-"},null,null,null,null,null,{"$f":"IF(AJ101<=0,AH101*Essengeld,0)","v":0},{"$f":"IF(N101<=0,AZ101*AW101/AZ101,0)","v":0},{"$f":"IF(Q101<=0,P101*AX101,0)","v":{"$error":"#VALUE!"}},{"$f":"IF(S101<=0,R101*AX101,0)","v":0},{"$f":"IF(U101<=0,T101*AX101,0)","v":0},{"$f":"IF(W101<=0,V101*AX101,0)","v":0},{"$f":"IF(Y101<=0,X101*AX101,0)","v":0},{"$f":"IF(AA101<=0,Z101*AX101,0)","v":0},{"$f":"IF(AC101<=0,AB101*AX101,0)","v":0},{"$f":"IF(AE101<=0,AD101*AX101,0)","v":0},null,{"$f":"IF(AI101=\"x\",\"0\",Start!$F$19)","v":2.5},{"$f":"IF(B101=0,0,SUM(AM101:AV101))","v":0},{"$f":"Start!$F$22","v":2},{"$f":"Start!$F$25","v":20},{"$error":"#NUM!"},900000000,{"$error":"#NUM!"},0,null,1," "]
["",null,null,"",null,null,null,null,null,null,null,null,null,null,null,{"$f":"IF(B102=\"\",\"\",Start!$F$22)","v":""},null,null,null,null,null,null,null,null,null,null,null,null,null,null,null,0,"-",null,null,null,null,null,0,0,{"$error":"#VALUE!"},0,0,0,0,0,0,0,null,{"$f":"IF(AI102=\"x\",\"0\",Start!$F$19)","v":2.5},0,{"$f":"Start!$F$22","v":2},{"$f":"Start!$F$25","v":20},{"$error":"#NUM!"},900000000,{"$error":"#NUM!"},0,null,1," "]
["",null,null,"",null,null,null,null,null,null,null,null,null,null,null,{"$f":"IF(B103=\"\",\"\",Start!$F$22)","v":""},null,null,null,null,null,null,null,null,null,null,null,null,null,null,null,0,"-",null,null,null,null,null,0,0,{"$error":"#VALUE!"},0,0,0,0,0,0,0,null,{"$f":"IF(AI103=\"x\",\"0\",Start!$F$19)","v":2.5},0,{"$f":"Start!$F$22","v":2},{"$f":"Start!$F$25","v":20},{"$error":"#NUM!"},900000000,{"$error":"#NUM!"},0,null,1," "]
["",null,null,"",null,null,null,null,null,null,null,null,null,null,null,{"$f":"IF(B104=\"\",\"\",Start!$F$22)","v":""},null,null,null,null,null,null,null,null,null,null,null,null,null,null,null,0,"-",null,null,null,null,null,0,0,{"$error":"#VALUE!"},0,0,0,0,0,0,0,null,{"$f":"IF(AI104=\"x\",\"0\",Start!$F$19)","v":2.5},0,{"$f":"Start!$F$22","v":2},{"$f":"Start!$F$25","v":20},{"$error":"#NUM!"},900000000,{"$error":"#NUM!"},0,null,1," "]
["",null,null,"",null,null,null,null,null,null,null,null,null,null,null,{"$f":"IF(B105=\"\",\"\",Start!$F$22)","v":""},null,null,null,null,null,null,null,null,null,null,null,null,null,null,null,0,"-",null,null,null,null,null,0,0,{"$error":"#VALUE!"},0,0,0,0,0,0,0,null,{"$f":"IF(AI105=\"x\",\"0\",Start!$F$19)","v":2.5},0,{"$f":"Start!$F$22","v":2},{"$f":"Start!$F$25","v":20},{"$f":"SMALL(E105:M105,1)","v":{"$error":"#NUM!"}},{"$f":"IFERROR(SMALL(E105:M105,2),900000000)","v":900000000},{"$f":"SUM(BB105:BC105)","v":{"$error":"#NUM!"}},{"$f":"IFERROR(1000000-(BD105*100)-BB105,0)","v":0},null,1,{"$f":"CONCATENATE(B105,\" \",C105)","v":" "}]
["",null,null,"",null,null,null,null,null,null,null,null,null,null,null,{"$f":"IF(B106=\"\",\"\",Start!$F$22)","v":""},null,null,null,null,null,null,null,null,null,null,null,null,null,null,null,0,"-",null,null,null,null,null,0,0,{"$error":"#VALUE!"},0,0,0,0,0,0,0,null,{"$f":"IF(AI106=\"x\",\"0\",Start!$F$19)","v":2.5},0,{"$f":"Start!$F$22","v":2},{"$f":"Start!$F$25","v":20},{"$f":"SMALL(E106:M106,1)","v":{"$error":"#NUM!"}},{"$f":"IFERROR(SMALL(E106:M106,2),900000000)","v":900000000},{"$f":"SUM(BB106:BC106)","v":{"$error":"#NUM!"}},{"$f":"IFERROR(1000000-(BD106*100)-BB106,0)","v":0},null,1,{"$f":"CONCATENATE(B106,\" \",C106)","v":" "}]
["",null,null,"",null,null,null,null,null,null,null,null,null,null,null,{"$f":"IF(B107=\"\",\"\",Start!$F$22)","v":""},null,null,null,null,null,null,null,null,null,null,null,null,null,null,null,0,"-",null,null,null,null,null,0,0,{"$error":"#VALUE!"},0,0,0,0,0,0,0,null,{"$f":"IF(AI107=\"x\",\"0\",Start!$F$19)","v":2.5},0,{"$f":"Start!$F$22","v":2},{"$f":"Start!$F$25","v":20},{"$error":"#NUM!"},900000000,{"$error":"#NUM!"},0,null,1,{"$f":"CONCATENATE(B107,\" \",C107)","v":" "}]
["",null,null,"",null,null,null,null,null,null,null,null,null,null,null,{"$f":"IF(B108=\"\",\"\",Start!$F$22)","v":""},null,null,null,null,null,null,null,null,null,null,null,null,null,null,null,0,"-",null,null,null,null,null,0,0,{"$error":"#VALUE!"},0,0,0,0,0,0,0,null,{"$f":"IF(AI108=\"x\",\"0\",Start!$F$19)","v":2.5},0,{"$f":"Start!$F$22","v":2},{"$f":"Start!$F$25","v":20},{"$error":"#NUM!"},900000000,{"$error":"#NUM!"},0,null,1," "]
["",null,null,"",null,null,null,null,null,null,null,null,null,null,null,{"$f":"IF(B109=\"\",\"\",Start!$F$22)","v":""},null,null,null,null,null,null,null,null,null,null,null,null,null,null,null,0,"-",null,null,null,null,null,0,0,{"$error":"#VALUE!"},0,0,0,0,0,0,0,null,{"$f":"IF(AI109=\"x\",\"0\",Start!$F$19)","v":2.5},0,{"$f":"Start!$F$22","v":2},{"$f":"Start!$F$25","v":20},{"$error":"#NUM!"},900000000,{"$error":"#NUM!"},0,null,1," "]
["",null,null,"",null,null,null,null,null,null,null,null,null,null,null,{"$f":"IF(B110=\"\",\"\",Start!$F$22)","v":""},null,null,null,null,null,null,null,null,null,null,null,null,null,null,null,0,"-",null,null,null,null,null,0,0,{"$error":"#VALUE!"},0,0,0,0,0,0,0,null,{"$f":"IF(AI110=\"x\",\"0\",Start!$F$19)","v":2.5},0,{"$f":"Start!$F$22","v":2},{"$f":"Start!$F$25","v":20},{"$error":"#NUM!"},900000000,{"$error":"#NUM!"},0,null,1," "]
["",null,null,"",null,null,null,null,null,null,null,null,null,null,null,{"$f":"IF(B111=\"\",\"\",Start!$F$22)","v":""},null,null,null,null,null,null,null,null,null,null,null,null,null,null,null,0,"-",null,null,null,null,null,0,0,{"$error":"#VALUE!"},0,0,0,0,0,0,0,null,{"$f":"IF(AI111=\"x\",\"0\",Start!$F$19)","v":2.5},0,{"$f":"Start!$F$22","v":2},{"$f":"Start!$F$25","v":20},{"$error":"#NUM!"},900000000,{"$error":"#NUM!"},0,null,1," "]
["",null,null,"",null,null,null,null,null,null,null,null,null,null,null,{"$f":"IF(B112=\"\",\"\",Start!$F$22)","v":""},null,null,null,null,null,null,null,null,null,null,null,null,null,null,null,0,"-",null,null,null,null,null,0,0,{"$error":"#VALUE!"},0,0,0,0,0,0,0,null,{"$f":"IF(AI112=\"x\",\"0\",Start!$F$19)","v":2.5},0,{"$f":"Start!$F$22","v":2},{"$f":"Start!$F$25","v":20},{"$error":"#NUM!"},900000000,{"$error":"#NUM!"},0,null,1," "]
["",null,null,"",null,null,null,null,null,null,null,null,null,null,null,{"$f":"IF(B113=\"\",\"\",Start!$F$22)","v":""},null,null,null,null,null,null,null,null,null,null,null,null,null,null,null,0,"-",null,null,null,null,null,0,0,{"$error":"#VALUE!"},0,0,0,0,0,0,0,null,{"$f":"IF(AI113=\"x\",\"0\",Start!$F$19)","v":2.5},0,{"$f":"Start!$F$22","v":2},{"$f":"Start!$F$25","v":20},{"$error":"#NUM!"},900000000,{"$error":"#NUM!"},0,null,1," "]
["",null,null,"",null,null,null,null,null,null,null,null,null,null,null,{"$f":"IF(B114=\"\",\"\",Start!$F$22)","v":""},null,null,null,null,null,null,null,null,null,null,null,null,null,null,null,0,"-",null,null,null,null,null,0,0,{"$error":"#VALUE!"},0,0,0,0,0,0,0,null,{"$f":"IF(AI114=\"x\",\"0\",Start!$F$19)","v":2.5},0,{"$f":"Start!$F$22","v":2},{"$f":"Start!$F$25","v":20},{"$error":"#NUM!"},900000000,{"$error":"#NUM!"},0,null,1," "]
["",null,null,"",null,null,null,null,null,null,null,null,null,null,null,{"$f":"IF(B115=\"\",\"\",Start!$F$22)","v":""},null,null,null,null,null,null,null,null,null,null,null,null,null,null,null,0,"-",null,null,null,null,null,0,0,{"$error":"#VALUE!"},0,0,0,0,0,0,0,null,{"$f":"IF(AI115=\"x\",\"0\",Start!$F$19)","v":2.5},0,{"$f":"Start!$F$22","v":2},{"$f":"Start!$F$25","v":20},{"$error":"#NUM!"},900000000,{"$error":"#NUM!"},0,null,1," "]
["",null,null,"",null,null,null,null,null,null,null,null,null,null,null,{"$f":"IF(B116=\"\",\"\",Start!$F$22)","v":""},null,null,null,null,null,null,null,null,null,null,null,null,null,null,null,0,"-",null,null,null,null,null,0,0,{"$error":"#VALUE!"},0,0,0,0,0,0,0,null,{"$f":"IF(AI116=\"x\",\"0\",Start!$F$19)","v":2.5},0,{"$f":"Start!$F$22","v":2},{"$f":"Start!$F$25","v":20},{"$error":"#NUM!"},900000000,{"$error":"#NUM!"},0,null,1," "]
["",null,null,"",null,null,null,null,null,null,null,null,null,null,null,{"$f":"IF(B117=\"\",\"\",Start!$F$22)","v":""},null,null,null,null,null,null,null,null,null,null,null,null,null,null,null,0,"-",null,null,null,null,null,0,0,{"$error":"#VALUE!"},0,0,0,0,0,0,0,null,{"$f":"IF(AI117=\"x\",\"0\",Start!$F$19)","v":2.5},0,{"$f":"Start!$F$22","v":2},{"$f":"Start!$F$25","v":20},{"$error":"#NUM!"},900000000,{"$error":"#NUM!"},0,null,1," "]
["",null,null,"",null,null,null,null,null,null,null,null,null,null,null,{"$f":"IF(B118=\"\",\"\",Start!$F$22)","v":""},null,null,null,null,null,null,null,null,null,null,null,null,null,null,null,0,"-",null,null,null,null,null,0,0,{"$error":"#VALUE!"},0,0,0,0,0,0,0,null,{"$f":"IF(AI118=\"x\",\"0\",Start!$F$19)","v":2.5},0,{"$f":"Start!$F$22","v":2},{"$f":"Start!$F$25","v":20},{"$error":"#NUM!"},900000000,{"$error":"#NUM!"},0,null,1," "]
["",null,null,"",null,null,null,null,null,null,null,null,null,null,null,{"$f":"IF(B119=\"\",\"\",Start!$F$22)","v":""},null,null,null,null,null,null,null,null,null,null,null,null,null,null,null,0,"-",null,null,null,null,null,0,0,{"$error":"#VALUE!"},0,0,0,0,0,0,0,null,{"$f":"IF(AI119=\"x\",\"0\",Start!$F$19)","v":2.5},0,{"$f":"Start!$F$22","v":2},{"$f":"Start!$F$25","v":20},{"$error":"#NUM!"},900000000,{"$error":"#NUM!"},0,null,1," "]
["",null,null,"",null,null,null,null,null,null,null,null,null,null,null,{"$f":"IF(B120=\"\",\"\",Start!$F$22)","v":""},null,null,null,null,null,null,null,null,null,null,null,null,null,null,null,0,"-",null,null,null,null,null,0,0,{"$error":"#VALUE!"},0,0,0,0,0,0,0,null,{"$f":"IF(AI120=\"x\",\"0\",Start!$F$19)","v":2.5},0,{"$f":"Start!$F$22","v":2},{"$f":"Start!$F$25","v":20},{"$error":"#NUM!"},900000000,{"$error":"#NUM!"},0,null,1," "]
["",null,null,"",null,null,null,null,null,null,null,null,null,null,null,{"$f":"IF(B121=\"\",\"\",Start!$F$22)","v":""},null,null,null,null,null,null,null,null,null,null,null,null,null,null,null,0,"-",null,null,null,null,null,0,0,{"$error":"#VALUE!"},0,0,0,0,0,0,0,null,{"$f":"IF(AI121=\"x\",\"0\",Start!$F$19)","v":2.5},0,{"$f":"Start!$F$22","v":2},{"$f":"Start!$F$25","v":20},{"$error":"#NUM!"},900000000,{"$error":"#NUM!"},0,null,1," "]
["",null,null,"",null,null,null,null,null,null,null,null,null,null,null,{"$f":"IF(B122=\"\",\"\",Start!$F$22)","v":""},null,null,null,null,null,null,null,null,null,null,null,null,null,null,null,0,"-",null,null,null,null,null,0,0,{"$error":"#VALUE!"},0,0,0,0,0,0,0,null,{"$f":"IF(AI122=\"x\",\"0\",Start!$F$19)","v":2.5},0,{"$f":"Start!$F$22","v":2},{"$f":"Start!$F$25","v":20},{"$error":"#NUM!"},900000000,{"$error":"#NUM!"},0,null,1," "]
["",null,null,"",null,null,null,null,null,null,null,null,null,null,null,{"$f":"IF(B123=\"\",\"\",Start!$F$22)","v":""},null,null,null,null,null,null,null,null,null,null,null,null,null,null,null,0,"-",null,null,null,null,null,0,0,{"$error":"#VALUE!"},0,0,0,0,0,0,0,null,{"$f":"IF(AI123=\"x\",\"0\",Start!$F$19)","v":2.5},0,{"$f":"Start!$F$22","v":2},{"$f":"Start!$F$25","v":20},{"$error":"#NUM!"},900000000,{"$error":"#NUM!"},0,null,1," "]
["",null,null,"",null,null,null,null,null,null,null,null,null,null,null,{"$f":"IF(B124=\"\",\"\",Start!$F$22)","v":""},null,null,null,null,null,null,null,null,null,null,null,null,null,null,null,0,"-",null,null,null,null,null,0,0,{"$error":"#VALUE!"},0,0,0,0,0,0,0,null,{"$f":"IF(AI124=\"x\",\"0\",Start!$F$19)","v":2.5},0,{"$f":"Start!$F$22","v":2},{"$f":"Start!$F$25","v":20},{"$error":"#NUM!"},900000000,{"$error":"#NUM!"},0,null,1," "]
["",null,null,"",null,null,null,null,null,null,null,null,null,null,null,{"$f":"IF(B125=\"\",\"\",Start!$F$22)","v":""},null,null,null,null,null,null,null,null,null,null,null,null,null,null,null,0,"-",null,null,null,null,null,0,0,{"$error":"#VALUE!"},0,0,0,0,0,0,0,null,{"$f":"IF(AI125=\"x\",\"0\",Start!$F$19)","v":2.5},0,{"$f":"Start!$F$22","v":2},{"$f":"Start!$F$25","v":20},{"$error":"#NUM!"},900000000,{"$error":"#NUM!"},0,null,1," "]
["",null,null,"",null,null,null,null,null,null,null,null,null,null,null,{"$f":"IF(B126=\"\",\"\",Start!$F$22)","v":""},null,null,null,null,null,null,null,null,null,null,null,null,null,null,null,0,"-",null,null,null,null,null,0,0,{"$error":"#VALUE!"},0,0,0,0,0,0,0,null,{"$f":"IF(AI126=\"x\",\"0\",Start!$F$19)","v":2.5},0,{"$f":"Start!$F$22","v":2},{"$f":"Start!$F$25","v":20},{"$error":"#NUM!"},900000000,{"$error":"#NUM!"},0,null,1," "]
["",null,null,"",null,null,null,null,null,null,null,null,null,null,null,{"$f":"IF(B127=\"\",\"\",Start!$F$22)","v":""},null,null,null,null,null,null,null,null,null,null,null,null,null,null,null,0,"-",null,null,null,null,null,0,0,{"$error":"#VALUE!"},0,0,0,0,0,0,0,null,{"$f":"IF(AI127=\"x\",\"0\",Start!$F$19)","v":2.5},0,{"$f":"Start!$F$22","v":2},{"$f":"Start!$F$25","v":20},{"$error":"#NUM!"},900000000,{"$error":"#NUM!"},0,null,1," "]
["",null,null,"",null,null,null,null,null,null,null,null,null,null,null,{"$f":"IF(B128=\"\",\"\",Start!$F$22)","v":""},null,null,null,null,null,null,null,null,null,null,null,null,null,null,null,0,"-",null,null,null,null,null,0,0,{"$error":"#VALUE!"},0,0,0,0,0,0,0,null,{"$f":"IF(AI128=\"x\",\"0\",Start!$F$19)","v":2.5},0,{"$f":"Start!$F$22","v":2},{"$f":"Start!$F$25","v":20},{"$error":"#NUM!"},900000000,{"$error":"#NUM!"},0,null,1," "]
["",null,null,"",null,null,null,null,null,null,null,null,null,null,null,{"$f":"IF(B129=\"\",\"\",Start!$F$22)","v":""},null,null,null,null,null,null,null,null,null,null,null,null,null,null,null,0,"-",null,null,null,null,null,0,0,{"$error":"#VALUE!"},0,0,0,0,0,0,0,null,{"$f":"IF(AI129=\"x\",\"0\",Start!$F$19)","v":2.5},0,{"$f":"Start!$F$22","v":2},{"$f":"Start!$F$25","v":20},{"$error":"#NUM!"},900000000,{"$error":"#NUM!"},0,null,1," "]
["",null,null,"",null,null,null,null,null,null,null,null,null,null,null,{"$f":"IF(B130=\"\",\"\",Start!$F$22)","v":""},null,null,null,null,null,null,null,null,null,null,null,null,null,null,null,0,"-",null,null,null,null,null,0,0,{"$error":"#VALUE!"},0,0,0,0,0,0,0,null,{"$f":"IF(AI130=\"x\",\"0\",Start!$F$19)","v":2.5},0,{"$f":"Start!$F$22","v":2},{"$f":"Start!$F$25","v":20},{"$error":"#NUM!"},900000000,{"$error":"#NUM!"},0,null,1," "]
["",null,null,"",null,null,null,null,null,null,null,null,null,null,null,{"$f":"IF(B131=\"\",\"\",Start!$F$22)","v":""},null,null,null,null,null,null,null,null,null,null,null,null,null,null,null,0,"-",null,null,null,null,null,0,0,{"$error":"#VALUE!"},0,0,0,0,0,0,0,null,{"$f":"IF(AI131=\"x\",\"0\",Start!$F$19)","v":2.5},0,{"$f":"Start!$F$22","v":2},{"$f":"Start!$F$25","v":20},{"$error":"#NUM!"},900000000,{"$error":"#NUM!"},0,null,1," "]
["",null,null,"",null,null,null,null,null,null,null,null,null,null,null,{"$f":"IF(B132=\"\",\"\",Start!$F$22)","v":""},null,null,null,null,null,null,null,null,null,null,null,null,null,null,null,0,"-",null,null,null,null,null,0,0,{"$error":"#VALUE!"},0,0,0,0,0,0,0,null,{"$f":"IF(AI132=\"x\",\"0\",Start!$F$19)","v":2.5},0,{"$f":"Start!$F$22","v":2},{"$f":"Start!$F$25","v":20},{"$error":"#NUM!"},900000000,{"$error":"#NUM!"},0,null,1," "]
["",null,null,{"$f":"IF(BC133=900000000,\"\",IFERROR(IF(AK133=\"x\",\"A K\",SMALL(E133:M133,1)+SMALL(E133:M133,2)),SMALL(E133:M133,1)))","v":""},null,null,null,null,null,null,null,null,null,null,null,{"$f":"IF(B133=\"\",\"\",Start!$F$22)","v":""},null,null,null,null,null,null,null,null,null,null,null,null,null,null,null,{"$f":"IF(AK133=\"x\",\"\",SUM(O133,P133,R133,T133,V133,X133,Z133,AB133,AD133))","v":0},{"$f":"IF(AY133<=0,\"-\",AY133)","v":"-"},null,null,null,null,null,{"$f":"IF(AJ133<=0,AH133*Essengeld,0)","v":0},{"$f":"IF(N133<=0,AZ133*AW133/AZ133,0)","v":0},{"$f":"IF(Q133<=0,P133*AX133,0)","v":{"$error":"#VALUE!"}},{"$f":"IF(S133<=0,R133*AX133,0)","v":0},{"$f":"IF(U133<=0,T133*AX133,0)","v":0},{"$f":"IF(W133<=0,V133*AX133,0)","v":0},{"$f":"IF(Y133<=0,X133*AX133,0)","v":0},{"$f":"IF(AA133<=0,Z133*AX133,0)","v":0},{"$f":"IF(AC133<=0,AB133*AX133,0)","v":0},{"$f":"IF(AE133<=0,AD133*AX133,0)","v":0},null,{"$f":"IF(AI133=\"x\",\"0\",Start!$F$19)","v":2.5},{"$f":"IF(B133=0,0,SUM(AM133:AV133))","v":0},{"$f":"Start!$F$22","v":2},{"$f":"Start!$F$25","v":20},{"$error":"#NUM!"},900000000,{"$error":"#NUM!"},0,null,1," "]
[{"$f":"IF(D134=\"\",\"\",RANK(BE134,$BE$5:$BE$204,0))","v":""},null,null,"",null,null,null,null,null,null,null,null,null,null,null,{"$f":"IF(B134=\"\",\"\",Start!$F$22)","v":""},null,null,null,null,null,null,null,null,null,null,null,null,null,null,null,0,"-",null,null,null,null,null,0,0,{"$error":"#VALUE!"},0,0,0,0,0,0,0,null,{"$f":"IF(AI134=\"x\",\"0\",Start!$F$19)","v":2.5},0,{"$f":"Start!$F$22","v":2},{"$f":"Start!$F$25","v":20},{"$error":"#NUM!"},900000000,{"$error":"#NUM!"},0,null,{"$f":"IF(BC134=0,0,RANK(BE134,$BE$5:$BE$204,0))","v":1}," "]
["",null,null,"",null,null,null,null,null,null,null,null,null,null,null,{"$f":"IF(B135=\"\",\"\",Start!$F$22)","v":""},null,null,null,null,null,null,null,null,null,null,null,null,null,null,null,0,"-",null,null,null,null,null,0,0,{"$error":"#VALUE!"},0,0,0,0,0,0,0,null,{"$f":"IF(AI135=\"x\",\"0\",Start!$F$19)","v":2.5},0,{"$f":"Start!$F$22","v":2},{"$f":"Start!$F$25","v":20},{"$error":"#NUM!"},900000000,{"$error":"#NUM!"},0,null,1," "]
["",null,null,"",null,null,null,null,null,null,null,null,null,null,null,{"$f":"IF(B136=\"\",\"\",Start!$F$22)","v":""},null,null,null,null,null,null,null,null,null,null,null,null,null,null,null,0,"-",null,null,null,null,null,0,0,{"$error":"#VALUE!"},0,0,0,0,0,0,0,null,{"$f":"IF(AI136=\"x\",\"0\",Start!$F$19)","v":2.5},0,{"$f":"Start!$F$22","v":2},{"$f":"Start!$F$25","v":20},{"$error":"#NUM!"},900000000,{"$error":"#NUM!"},0,null,1," "]
["",null,null,"",null,null,null,null,null,null,null,null,null,null,null,{"$f":"IF(B137=\"\",\"\",Start!$F$22)","v":""},null,null,null,null,null,null,null,null,null,null,null,null,null,null,null,0,"-",null,null,null,null,null,0,0,{"$error":"#VALUE!"},0,0,0,0,0,0,0,null,{"$f":"IF(AI137=\"x\",\"0\",Start!$F$19)","v":2.5},0,{"$f":"Start!$F$22","v":2},{"$f":"Start!$F$25","v":20},{"$error":"#NUM!"},900000000,{"$error":"#NUM!"},0,null,1," "]
["",null,null,"",null,null,null,null,null,null,null,null,null,null,null,{"$f":"IF(B138=\"\",\"\",Start!$F$22)","v":""},null,null,null,null,null,null,null,null,null,null,null,null,null,null,null,0,"-",null,null,null,null,null,0,0,{"$error":"#VALUE!"},0,0,0,0,0,0,0,null,{"$f":"IF(AI138=\"x\",\"0\",Start!$F$19)","v":2.5},0,{"$f":"Start!$F$22","v":2},{"$f":"Start!$F$25","v":20},{"$error":"#NUM!"},900000000,{"$error":"#NUM!"},0,null,1," "]
["",null,null,"",null,null,null,null,null,null,null,null,null,null,null,{"$f":"IF(B139=\"\",\"\",Start!$F$22)","v":""},null,null,null,null,null,null,null,null,null,null,null,null,null,null,null,0,"-",null,null,null,null,null,0,0,{"$error":"#VALUE!"},0,0,0,0,0,0,0,null,{"$f":"IF(AI139=\"x\",\"0\",Start!$F$19)","v":2.5},0,{"$f":"Start!$F$22","v":2},{"$f":"Start!$F$25","v":20},{"$error":"#NUM!"},900000000,{"$error":"#NUM!"},0,null,1," "]
["",null,null,"",null,null,null,null,null,null,null,null,null,null,null,{"$f":"IF(B140=\"\",\"\",Start!$F$22)","v":""},null,null,null,null,null,null,null,null,null,null,null,null,null,null,null,0,"-",null,null,null,null,null,0,0,{"$error":"#VALUE!"},0,0,0,0,0,0,0,null,{"$f":"IF(AI140=\"x\",\"0\",Start!$F$19)","v":2.5},0,{"$f":"Start!$F$22","v":2},{"$f":"Start!$F$25","v":20},{"$error":"#NUM!"},900000000,{"$error":"#NUM!"},0,null,1," "]
["",null,null,"",null,null,null,null,null,null,null,null,null,null,null,{"$f":"IF(B141=\"\",\"\",Start!$F$22)","v":""},null,null,null,null,null,null,null,null,null,null,null,null,null,null,null,0,"-",null,null,null,null,null,0,0,{"$error":"#VALUE!"},0,0,0,0,0,0,0,null,{"$f":"IF(AI141=\"x\",\"0\",Start!$F$19)","v":2.5},0,{"$f":"Start!$F$22","v":2},{"$f":"Start!$F$25","v":20},{"$error":"#NUM!"},900000000,{"$error":"#NUM!"},0,null,1," "]
["",null,null,"",null,null,null,null,null,null,null,null,null,null,null,{"$f":"IF(B142=\"\",\"\",Start!$F$22)","v":""},null,null,null,null,null,null,null,null,null,null,null,null,null,null,null,0,"-",null,null,null,null,null,0,0,{"$error":"#VALUE!"},0,0,0,0,0,0,0,null,{"$f":"IF(AI142=\"x\",\"0\",Start!$F$19)","v":2.5},0,{"$f":"Start!$F$22","v":2},{"$f":"Start!$F$25","v":20},{"$error":"#NUM!"},900000000,{"$error":"#NUM!"},0,null,1," "]
["",null,null,"",null,null,null,null,null,null,null,null,null,null,null,{"$f":"IF(B143=\"\",\"\",Start!$F$22)","v":""},null,null,null,null,null,null,null,null,null,null,null,null,null,null,null,0,"-",null,null,null,null,null,0,0,{"$error":"#VALUE!"},0,0,0,0,0,0,0,null,{"$f":"IF(AI143=\"x\",\"0\",Start!$F$19)","v":2.5},0,{"$f":"Start!$F$22","v":2},{"$f":"Start!$F$25","v":20},{"$error":"#NUM!"},900000000,{"$error":"#NUM!"},0,null,1," "]
["",null,null,"",null,null,null,null,null,null,null,null,null,null,null,{"$f":"IF(B144=\"\",\"\",Start!$F$22)","v":""},null,null,null,null,null,null,null,null,null,null,null,null,null,null,null,0,"-",null,null,null,null,null,0,0,{"$error":"#VALUE!"},0,0,0,0,0,0,0,null,{"$f":"IF(AI144=\"x\",\"0\",Start!$F$19)","v":2.5},0,{"$f":"Start!$F$22","v":2},{"$f":"Start!$F$25","v":20},{"$error":"#NUM!"},900000000,{"$error":"#NUM!"},0,null,1," "]
["",null,null,"",null,null,null,null,null,null,null,null,null,null,null,{"$f":"IF(B145=\"\",\"\",Start!$F$22)","v":""},null,null,null,null,null,null,null,null,null,null,null,null,null,null,null,0,"-",null,null,null,null,null,0,0,{"$error":"#VALUE!"},0,0,0,0,0,0,0,null,{"$f":"IF(AI145=\"x\",\"0\",Start!$F$19)","v":2.5},0,{"$f":"Start!$F$22","v":2},{"$f":"Start!$F$25","v":20},{"$error":"#NUM!"},900000000,{"$error":"#NUM!"},0,null,1," "]
["",null,null,"",null,null,null,null,null,null,null,null,null,null,null,{"$f":"IF(B146=\"\",\"\",Start!$F$22)","v":""},null,null,null,null,null,null,null,null,null,null,null,null,null,null,null,0,"-",null,null,null,null,null,0,0,{"$error":"#VALUE!"},0,0,0,0,0,0,0,null,{"$f":"IF(AI146=\"x\",\"0\",Start!$F$19)","v":2.5},0,{"$f":"Start!$F$22","v":2},{"$f":"Start!$F$25","v":20},{"$error":"#NUM!"},900000000,{"$error":"#NUM!"},0,null,1," "]
["",null,null,"",null,null,null,null,null,null,null,null,null,null,null,{"$f":"IF(B147=\"\",\"\",Start!$F$22)","v":""},null,null,null,null,null,null,null,null,null,null,null,null,null,null,null,0,"-",null,null,null,null,null,0,0,{"$error":"#VALUE!"},0,0,0,0,0,0,0,null,{"$f":"IF(AI147=\"x\",\"0\",Start!$F$19)","v":2.5},0,{"$f":"Start!$F$22","v":2},{"$f":"Start!$F$25","v":20},{"$error":"#NUM!"},900000000,{"$error":"#NUM!"},0,null,1," "]
["",null,null,"",null,null,null,null,null,null,null,null,null,null,null,{"$f":"IF(B148=\"\",\"\",Start!$F$22)","v":""},null,null,null,null,null,null,null,null,null,null,null,null,null,null,null,0,"-",null,null,null,null,null,0,0,{"$error":"#VALUE!"},0,0,0,0,0,0,0,null,{"$f":"IF(AI148=\"x\",\"0\",Start!$F$19)","v":2.5},0,{"$f":"Start!$F$22","v":2},{"$f":"Start!$F$25","v":20},{"$error":"#NUM!"},900000000,{"$error":"#NUM!"},0,null,1," "]
["",null,null,"",null,null,null,null,null,null,null,null,null,null,null,{"$f":"IF(B149=\"\",\"\",Start!$F$22)","v":""},null,null,null,null,null,null,null,null,null,null,null,null,null,null,null,0,"-",null,null,null,null,null,0,0,{"$error":"#VALUE!"},0,0,0,0,0,0,0,null,{"$f":"IF(AI149=\"x\",\"0\",Start!$F$19)","v":2.5},0,{"$f":"Start!$F$22","v":2},{"$f":"Start!$F$25","v":20},{"$error":"#NUM!"},900000000,{"$error":"#NUM!"},0,null,1," "]
["",null,null,"",null,null,null,null,null,null,null,null,null,null,null,{"$f":"IF(B150=\"\",\"\",Start!$F$22)","v":""},null,null,null,null,null,null,null,null,null,null,null,null,null,null,null,0,"-",null,null,null,null,null,0,0,{"$error":"#VALUE!"},0,0,0,0,0,0,0,null,{"$f":"IF(AI150=\"x\",\"0\",Start!$F$19)","v":2.5},0,{"$f":"Start!$F$22","v":2},{"$f":"Start!$F$25","v":20},{"$error":"#NUM!"},900000000,{"$error":"#NUM!"},0,null,1," "]
["",null,null,"",null,null,null,null,null,null,null,null,null,null,null,{"$f":"IF(B151=\"\",\"\",Start!$F$22)","v":""},null,null,null,null,null,null,null,null,null,null,null,null,null,null,null,0,"-",null,null,null,null,null,0,0,{"$error":"#VALUE!"},0,0,0,0,0,0,0,null,{"$f":"IF(AI151=\"x\",\"0\",Start!$F$19)","v":2.5},0,{"$f":"Start!$F$22","v":2},{"$f":"Start!$F$25","v":20},{"$error":"#NUM!"},900000000,{"$error":"#NUM!"},0,null,1," "]
["",null,null,"",null,null,null,null,null,null,null,null,null,null,null,{"$f":"IF(B152=\"\",\"\",Start!$F$22)","v":""},null,null,null,null,null,null,null,null,null,null,null,null,null,null,null,0,"-",null,null,null,null,null,0,0,{"$error":"#VALUE!"},0,0,0,0,0,0,0,null,{"$f":"IF(AI152=\"x\",\"0\",Start!$F$19)","v":2.5},0,{"$f":"Start!$F$22","v":2},{"$f":"Start!$F$25","v":20},{"$error":"#NUM!"},900000000,{"$error":"#NUM!"},0,null,1," "]
["",null,null,"",null,null,null,null,null,null,null,null,null,null,null,{"$f":"IF(B153=\"\",\"\",Start!$F$22)","v":""},null,null,null,null,null,null,null,null,null,null,null,null,null,null,null,0,"-",null,null,null,null,null,0,0,{"$error":"#VALUE!"},0,0,0,0,0,0,0,null,{"$f":"IF(AI153=\"x\",\"0\",Start!$F$19)","v":2.5},0,{"$f":"Start!$F$22","v":2},{"$f":"Start!$F$25","v":20},{"$error":"#NUM!"},900000000,{"$error":"#NUM!"},0,null,1," "]
["",null,null,"",null,null,null,null,null,null,null,null,null,null,null,{"$f":"IF(B154=\"\",\"\",Start!$F$22)","v":""},null,null,null,null,null,null,null,null,null,null,null,null,null,null,null,0,"-",null,null,null,null,null,0,0,{"$error":"#VALUE!"},0,0,0,0,0,0,0,null,{"$f":"IF(AI154=\"x\",\"0\",Start!$F$19)","v":2.5},0,{"$f":"Start!$F$22","v":2},{"$f":"Start!$F$25","v":20},{"$error":"#NUM!"},900000000,{"$error":"#NUM!"},0,null,1," "]
["",null,null,"",null,null,null,null,null,null,null,null,null,null,null,{"$f":"IF(B155=\"\",\"\",Start!$F$22)","v":""},null,null,null,null,null,null,null,null,null,null,null,null,null,null,null,0,"-",null,null,null,null,null,0,0,{"$error":"#VALUE!"},0,0,0,0,0,0,0,null,{"$f":"IF(AI155=\"x\",\"0\",Start!$F$19)","v":2.5},0,{"$f":"Start!$F$22","v":2},{"$f":"Start!$F$25","v":20},{"$error":"#NUM!"},900000000,{"$error":"#NUM!"},0,null,1," "]
["",null,null,"",null,null,null,null,null,null,null,null,null,null,null,{"$f":"IF(B156=\"\",\"\",Start!$F$22)","v":""},null,null,null,null,null,null,null,null,null,null,null,null,null,null,null,0,"-",null,null,null,null,null,0,0,{"$error":"#VALUE!"},0,0,0,0,0,0,0,null,{"$f":"IF(AI156=\"x\",\"0\",Start!$F$19)","v":2.5},0,{"$f":"Start!$F$22","v":2},{"$f":"Start!$F$25","v":20},{"$error":"#NUM!"},900000000,{"$error":"#NUM!"},0,null,1," "]
["",null,null,"",null,null,null,null,null,null,null,null,null,null,null,{"$f":"IF(B157=\"\",\"\",Start!$F$22)","v":""},null,null,null,null,null,null,null,null,null,null,null,null,null,null,null,0,"-",null,null,null,null,null,0,0,{"$error":"#VALUE!"},0,0,0,0,0,0,0,null,{"$f":"IF(AI157=\"x\",\"0\",Start!$F$19)","v":2.5},0,{"$f":"Start!$F$22","v":2},{"$f":"Start!$F$25","v":20},{"$error":"#NUM!"},900000000,{"$error":"#NUM!"},0,null,1," "]
["",null,null,"",null,null,null,null,null,null,null,null,null,null,null,{"$f":"IF(B158=\"\",\"\",Start!$F$22)","v":""},null,null,null,null,null,null,null,null,null,null,null,null,null,null,null,0,"-",null,null,null,null,null,0,0,{"$error":"#VALUE!"},0,0,0,0,0,0,0,null,{"$f":"IF(AI158=\"x\",\"0\",Start!$F$19)","v":2.5},0,{"$f":"Start!$F$22","v":2},{"$f":"Start!$F$25","v":20},{"$error":"#NUM!"},900000000,{"$error":"#NUM!"},0,null,1," "]
["",null,null,"",null,null,null,null,null,null,null,null,null,null,null,{"$f":"IF(B159=\"\",\"\",Start!$F$22)","v":""},null,null,null,null,null,null,null,null,null,null,null,null,null,null,null,0,"-",null,null,null,null,null,0,0,{"$error":"#VALUE!"},0,0,0,0,0,0,0,null,{"$f":"IF(AI159=\"x\",\"0\",Start!$F$19)","v":2.5},0,{"$f":"Start!$F$22","v":2},{"$f":"Start!$F$25","v":20},{"$error":"#NUM!"},900000000,{"$error":"#NUM!"},0,null,1," "]
["",null,null,"",null,null,null,null,null,null,null,null,null,null,null,{"$f":"IF(B160=\"\",\"\",Start!$F$22)","v":""},null,null,null,null,null,null,null,null,null,null,null,null,null,null,null,0,"-",null,null,null,null,null,0,0,{"$error":"#VALUE!"},0,0,0,0,0,0,0,null,{"$f":"IF(AI160=\"x\",\"0\",Start!$F$19)","v":2.5},0,{"$f":"Start!$F$22","v":2},{"$f":"Start!$F$25","v":20},{"$error":"#NUM!"},900000000,{"$error":"#NUM!"},0,null,1," "]
["",null,null,"",null,null,null,null,null,null,null,null,null,null,null,{"$f":"IF(B161=\"\",\"\",Start!$F$22)","v":""},null,null,null,null,null,null,null,null,null,null,null,null,null,null,null,0,"-",null,null,null,null,null,0,0,{"$error":"#VALUE!"},0,0,0,0,0,0,0,null,{"$f":"IF(AI161=\"x\",\"0\",Start!$F$19)","v":2.5},0,{"$f":"Start!$F$22","v":2},{"$f":"Start!$F$25","v":20},{"$error":"#NUM!"},900000000,{"$error":"#NUM!"},0,null,1," "]
["",null,null,"",null,null,null,null,null,null,null,null,null,null,null,{"$f":"IF(B162=\"\",\"\",Start!$F$22)","v":""},null,null,null,null,null,null,null,null,null,null,null,null,null,null,null,0,"-",null,null,null,null,null,0,0,{"$error":"#VALUE!"},0,0,0,0,0,0,0,null,{"$f":"IF(AI162=\"x\",\"0\",Start!$F$19)","v":2.5},0,{"$f":"Start!$F$22","v":2},{"$f":"Start!$F$25","v":20},{"$error":"#NUM!"},900000000,{"$error":"#NUM!"},0,null,1," "]
["",null,null,"",null,null,null,null,null,null,null,null,null,null,null,{"$f":"IF(B163=\"\",\"\",Start!$F$22)","v":""},null,null,null,null,null,null,null,null,null,null,null,null,null,null,null,0,"-",null,null,null,null,null,0,0,{"$error":"#VALUE!"},0,0,0,0,0,0,0,null,{"$f":"IF(AI163=\"x\",\"0\",Start!$F$19)","v":2.5},0,{"$f":"Start!$F$22","v":2},{"$f":"Start!$F$25","v":20},{"$error":"#NUM!"},900000000,{"$error":"#NUM!"},0,null,1," "]
["",null,null,"",null,null,null,null,null,null,null,null,null,null,null,{"$f":"IF(B164=\"\",\"\",Start!$F$22)","v":""},null,null,null,null,null,null,null,null,null,null,null,null,null,null,null,0,"-",null,null,null,null,null,0,0,{"$error":"#VALUE!"},0,0,0,0,0,0,0,null,{"$f":"IF(AI164=\"x\",\"0\",Start!$F$19)","v":2.5},0,{"$f":"Start!$F$22","v":2},{"$f":"Start!$F$25","v":20},{"$error":"#NUM!"},900000000,{"$error":"#NUM!"},0,null,1," "]
["",null,null,{"$f":"IF(BC165=900000000,\"\",IFERROR(IF(AK165=\"x\",\"A K\",SMALL(E165:M165,1)+SMALL(E165:M165,2)),SMALL(E165:M165,1)))","v":""},null,null,null,null,null,null,null,null,null,null,null,{"$f":"IF(B165=\"\",\"\",Start!$F$22)","v":""},null,null,null,null,null,null,null,null,null,null,null,null,null,null,null,{"$f":"IF(AK165=\"x\",\"\",SUM(O165,P165,R165,T165,V165,X165,Z165,AB165,AD165))","v":0},{"$f":"IF(AY165<=0,\"-\",AY165)","v":"-"},null,null,null,null,null,{"$f":"IF(AJ165<=0,AH165*Essengeld,0)","v":0},{"$f":"IF(N165<=0,AZ165*AW165/AZ165,0)","v":0},{"$f":"IF(Q165<=0,P165*AX165,0)","v":{"$error":"#VALUE!"}},{"$f":"IF(S165<=0,R165*AX165,0)","v":0},{"$f":"IF(U165<=0,T165*AX165,0)","v":0},{"$f":"IF(W165<=0,V165*AX165,0)","v":0},{"$f":"IF(Y165<=0,X165*AX165,0)","v":0},{"$f":"IF(AA165<=0,Z165*AX165,0)","v":0},{"$f":"IF(AC165<=0,AB165*AX165,0)","v":0},{"$f":"IF(AE165<=0,AD165*AX165,0)","v":0},null,{"$f":"IF(AI165=\"x\",\"0\",Start!$F$19)","v":2.5},{"$f":"IF(B165=0,0,SUM(AM165:AV165))","v":0},{"$f":"Start!$F$22","v":2},{"$f":"Start!$F$25","v":20},{"$error":"#NUM!"},900000000,{"$error":"#NUM!"},0,null,1," "]
["",null,null,"",null,null,null,null,null,null,null,null,null,null,null,{"$f":"IF(B166=\"\",\"\",Start!$F$22)","v":""},null,null,null,null,null,null,null,null,null,null,null,null,null,null,null,0,"-",null,null,null,null,null,0,0,{"$error":"#VALUE!"},0,0,0,0,0,0,0,null,{"$f":"IF(AI166=\"x\",\"0\",Start!$F$19)","v":2.5},0,{"$f":"Start!$F$22","v":2},{"$f":"Start!$F$25","v":20},{"$error":"#NUM!"},900000000,{"$error":"#NUM!"},0,null,1," "]
["",null,null,"",null,null,null,null,null,null,null,null,null,null,null,{"$f":"IF(B167=\"\",\"\",Start!$F$22)","v":""},null,null,null,null,null,null,null,null,null,null,null,null,null,null,null,0,"-",null,null,null,null,null,0,0,{"$error":"#VALUE!"},0,0,0,0,0,0,0,null,{"$f":"IF(AI167=\"x\",\"0\",Start!$F$19)","v":2.5},0,{"$f":"Start!$F$22","v":2},{"$f":"Start!$F$25","v":20},{"$error":"#NUM!"},900000000,{"$error":"#NUM!"},0,null,1," "]
["",null,null,"",null,null,null,null,null,null,null,null,null,null,null,{"$f":"IF(B168=\"\",\"\",Start!$F$22)","v":""},null,null,null,null,null,null,null,null,null,null,null,null,null,null,null,0,"-",null,null,null,null,null,0,0,{"$error":"#VALUE!"},0,0,0,0,0,0,0,null,{"$f":"IF(AI168=\"x\",\"0\",Start!$F$19)","v":2.5},0,{"$f":"Start!$F$22","v":2},{"$f":"Start!$F$25","v":20},{"$error":"#NUM!"},900000000,{"$error":"#NUM!"},0,null,1," "]
["",null,null,"",null,null,null,null,null,null,null,null,null,null,null,{"$f":"IF(B169=\"\",\"\",Start!$F$22)","v":""},null,null,null,null,null,null,null,null,null,null,null,null,null,null,null,0,"-",null,null,null,null,null,0,0,{"$error":"#VALUE!"},0,0,0,0,0,0,0,null,{"$f":"IF(AI169=\"x\",\"0\",Start!$F$19)","v":2.5},0,{"$f":"Start!$F$22","v":2},{"$f":"Start!$F$25","v":20},{"$error":"#NUM!"},900000000,{"$error":"#NUM!"},0,null,1," "]
["",null,null,"",null,null,null,null,null,null,null,null,null,null,null,{"$f":"IF(B170=\"\",\"\",Start!$F$22)","v":""},null,null,null,null,null,null,null,null,null,null,null,null,null,null,null,0,"-",null,null,null,null,null,0,0,{"$error":"#VALUE!"},0,0,0,0,0,0,0,null,{"$f":"IF(AI170=\"x\",\"0\",Start!$F$19)","v":2.5},0,{"$f":"Start!$F$22","v":2},{"$f":"Start!$F$25","v":20},{"$f":"SMALL(E170:M170,1)","v":{"$error":"#NUM!"}},{"$f":"IFERROR(SMALL(E170:M170,2),900000000)","v":900000000},{"$f":"SUM(BB170:BC170)","v":{"$error":"#NUM!"}},{"$f":"IFERROR(1000000-(BD170*100)-BB170,0)","v":0},null,1," "]
["",null,null,"",null,null,null,null,null,null,null,null,null,null,null,{"$f":"IF(B171=\"\",\"\",Start!$F$22)","v":""},null,null,null,null,null,null,null,null,null,null,null,null,null,null,null,0,"-",null,null,null,null,null,0,0,{"$error":"#VALUE!"},0,0,0,0,0,0,0,null,{"$f":"IF(AI171=\"x\",\"0\",Start!$F$19)","v":2.5},0,{"$f":"Start!$F$22","v":2},{"$f":"Start!$F$25","v":20},{"$error":"#NUM!"},900000000,{"$error":"#NUM!"},0,null,1,{"$f":"CONCATENATE(B171,\" \",C171)","v":" "}]
["",null,null,"",null,null,null,null,null,null,null,null,null,null,null,{"$f":"IF(B172=\"\",\"\",Start!$F$22)","v":""},null,null,null,null,null,null,null,null,null,null,null,null,null,null,null,0,"-",null,null,null,null,null,0,0,{"$error":"#VALUE!"},0,0,0,0,0,0,0,null,{"$f":"IF(AI172=\"x\",\"0\",Start!$F$19)","v":2.5},0,{"$f":"Start!$F$22","v":2},{"$f":"Start!$F$25","v":20},{"$error":"#NUM!"},900000000,{"$error":"#NUM!"},0,null,1," "]
["",null,null,null,null,null,null,null,null,null,null,null,null,null,null,null,null,null,null,null,null,null,null,null,null,null,null,null,null,null,null,0,"-",null,null,null,null,null,0,0,0,0,0,0,0,0,0,0,null,{"$f":"IF(AI173=\"x\",\"0\",Start!$F$19)","v":2.5},0,{"$f":"Start!$F$22","v":2},{"$f":"Start!$F$25","v":20},{"$error":"#NUM!"},900000000,{"$error":"#NUM!"},0,null,1," "]
["",null,null,null,null,null,null,null,null,null,null,null,null,null,null,null,null,null,null,null,null,null,null,null,null,null,null,null,null,null,null,0,"-",null,null,null,null,null,0,0,0,0,0,0,0,0,0,0,null,{"$f":"IF(AI174=\"x\",\"0\",Start!$F$19)","v":2.5},0,{"$f":"Start!$F$22","v":2},{"$f":"Start!$F$25","v":20},{"$error":"#NUM!"},900000000,{"$error":"#NUM!"},0,null,1," "]
["",null,null,null,null,null,null,null,null,null,null,null,null,null,null,null,null,null,null,null,null,null,null,null,null,null,null,null,null,null,null,0,"-",null,null,null,null,null,0,0,0,0,0,0,0,0,0,0,null,{"$f":"IF(AI175=\"x\",\"0\",Start!$F$19)","v":2.5},0,{"$f":"Start!$F$22","v":2},{"$f":"Start!$F$25","v":20},{"$error":"#NUM!"},900000000,{"$error":"#NUM!"},0,null,1," "]
["",null,null,null,null,null,null,null,null,null,null,null,null,null,null,null,null,null,null,null,null,null,null,null,null,null,null,null,null,null,null,0,"-",null,null,null,null,null,0,0,0,0,0,0,0,0,0,0,null,{"$f":"IF(AI176=\"x\",\"0\",Start!$F$19)","v":2.5},0,{"$f":"Start!$F$22","v":2},{"$f":"Start!$F$25","v":20},{"$error":"#NUM!"},900000000,{"$error":"#NUM!"},0,null,1," "]
["",null,null,null,null,null,null,null,null,null,null,null,null,null,null,null,null,null,null,null,null,null,null,null,null,null,null,null,null,null,null,0,"-",null,null,null,null,null,0,0,0,0,0,0,0,0,0,0,null,{"$f":"IF(AI177=\"x\",\"0\",Start!$F$19)","v":2.5},0,{"$f":"Start!$F$22","v":2},{"$f":"Start!$F$25","v":20},{"$error":"#NUM!"},900000000,{"$error":"#NUM!"},0,null,1," "]
["",null,null,null,null,null,null,null,null,null,null,null,null,null,null,null,null,null,null,null,null,null,null,null,null,null,null,null,null,null,null,0,"-",null,null,null,null,null,0,0,0,0,0,0,0,0,0,0,null,{"$f":"IF(AI178=\"x\",\"0\",Start!$F$19)","v":2.5},0,{"$f":"Start!$F$22","v":2},{"$f":"Start!$F$25","v":20},{"$error":"#NUM!"},900000000,{"$error":"#NUM!"},0,null,1," "]
["",null,null,null,null,null,null,null,null,null,null,null,null,null,null,null,null,null,null,null,null,null,null,null,null,null,null,null,null,null,null,0,"-",null,null,null,null,null,0,0,0,0,0,0,0,0,0,0,null,{"$f":"IF(AI179=\"x\",\"0\",Start!$F$19)","v":2.5},0,{"$f":"Start!$F$22","v":2},{"$f":"Start!$F$25","v":20},{"$error":"#NUM!"},900000000,{"$error":"#NUM!"},0,null,1," "]
["",null,null,null,null,null,null,null,null,null,null,null,null,null,null,null,null,null,null,null,null,null,null,null,null,null,null,null,null,null,null,0,"-",null,null,null,null,null,0,0,0,0,0,0,0,0,0,0,null,{"$f":"IF(AI180=\"x\",\"0\",Start!$F$19)","v":2.5},0,{"$f":"Start!$F$22","v":2},{"$f":"Start!$F$25","v":20},{"$error":"#NUM!"},900000000,{"$error":"#NUM!"},0,null,1," "]
["",null,null,null,null,null,null,null,null,null,null,null,null,null,null,null,null,null,null,null,null,null,null,null,null,null,null,null,null,null,null,0,"-",null,null,null,null,null,0,0,0,0,0,0,0,0,0,0,null,{"$f":"IF(AI181=\"x\",\"0\",Start!$F$19)","v":2.5},0,{"$f":"Start!$F$22","v":2},{"$f":"Start!$F$25","v":20},{"$error":"#NUM!"},900000000,{"$error":"#NUM!"},0,null,1," "]
["",null,null,null,null,null,null,null,null,null,null,null,null,null,null,null,null,null,null,null,null,null,null,null,null,null,null,null,null,null,null,0,"-",null,null,null,null,null,0,0,0,0,0,0,0,0,0,0,null,{"$f":"IF(AI182=\"x\",\"0\",Start!$F$19)","v":2.5},0,{"$f":"Start!$F$22","v":2},{"$f":"Start!$F$25","v":20},{"$error":"#NUM!"},900000000,{"$error":"#NUM!"},0,null,1," "]
["",null,null,null,null,null,null,null,null,null,null,null,null,null,null,null,null,null,null,null,null,null,null,null,null,null,null,null,null,null,null,0,"-",null,null,null,null,null,0,0,0,0,0,0,0,0,0,0,null,{"$f":"IF(AI183=\"x\",\"0\",Start!$F$19)","v":2.5},0,{"$f":"Start!$F$22","v":2},{"$f":"Start!$F$25","v":20},{"$error":"#NUM!"},900000000,{"$error":"#NUM!"},0,null,1," "]
["",null,null,null,null,null,null,null,null,null,null,null,null,null,null,null,null,null,null,null,null,null,null,null,null,null,null,null,null,null,null,0,"-",null,null,null,null,null,0,0,0,0,0,0,0,0,0,0,null,{"$f":"IF(AI184=\"x\",\"0\",Start!$F$19)","v":2.5},0,{"$f":"Start!$F$22","v":2},{"$f":"Start!$F$25","v":20},{"$error":"#NUM!"},900000000,{"$error":"#NUM!"},0,null,1," "]
["",null,null,null,null,null,null,null,null,null,null,null,null,null,null,null,null,null,null,null,null,null,null,null,null,null,null,null,null,null,null,0,"-",null,null,null,null,null,0,0,0,0,0,0,0,0,0,0,null,{"$f":"IF(AI185=\"x\",\"0\",Start!$F$19)","v":2.5},0,{"$f":"Start!$F$22","v":2},{"$f":"Start!$F$25","v":20},{"$error":"#NUM!"},900000000,{"$error":"#NUM!"},0,null,1," "]
["",null,null,null,null,null,null,null,null,null,null,null,null,null,null,null,null,null,null,null,null,null,null,null,null,null,null,null,null,null,null,0,"-",null,null,null,null,null,0,0,0,0,0,0,0,0,0,0,null,{"$f":"IF(AI186=\"x\",\"0\",Start!$F$19)","v":2.5},0,{"$f":"Start!$F$22","v":2},{"$f":"Start!$F$25","v":20},{"$error":"#NUM!"},900000000,{"$error":"#NUM!"},0,null,1," "]
["",null,null,null,null,null,null,null,null,null,null,null,null,null,null,null,null,null,null,null,null,null,null,null,null,null,null,null,null,null,null,0,"-",null,null,null,null,null,0,0,0,0,0,0,0,0,0,0,null,{"$f":"IF(AI187=\"x\",\"0\",Start!$F$19)","v":2.5},0,{"$f":"Start!$F$22","v":2},{"$f":"Start!$F$25","v":20},{"$error":"#NUM!"},900000000,{"$error":"#NUM!"},0,null,1," "]
["",null,null,null,null,null,null,null,null,null,null,null,null,null,null,null,null,null,null,null,null,null,null,null,null,null,null,null,null,null,null,0,"-",null,null,null,null,null,0,0,0,0,0,0,0,0,0,0,null,{"$f":"IF(AI188=\"x\",\"0\",Start!$F$19)","v":2.5},0,{"$f":"Start!$F$22","v":2},{"$f":"Start!$F$25","v":20},{"$error":"#NUM!"},900000000,{"$error":"#NUM!"},0,null,1," "]
["",null,null,null,null,null,null,null,null,null,null,null,null,null,null,null,null,null,null,null,null,null,null,null,null,null,null,null,null,null,null,0,"-",null,null,null,null,null,0,0,0,0,0,0,0,0,0,0,null,{"$f":"IF(AI189=\"x\",\"0\",Start!$F$19)","v":2.5},0,{"$f":"Start!$F$22","v":2},{"$f":"Start!$F$25","v":20},{"$error":"#NUM!"},900000000,{"$error":"#NUM!"},0,null,1," "]
["",null,null,null,null,null,null,null,null,null,null,null,null,null,null,null,null,null,null,null,null,null,null,null,null,null,null,null,null,null,null,0,"-",null,null,null,null,null,0,0,0,0,0,0,0,0,0,0,null,{"$f":"IF(AI190=\"x\",\"0\",Start!$F$19)","v":2.5},0,{"$f":"Start!$F$22","v":2},{"$f":"Start!$F$25","v":20},{"$error":"#NUM!"},900000000,{"$error":"#NUM!"},0,null,1," "]
["",null,null,null,null,null,null,null,null,null,null,null,null,null,null,null,null,null,null,null,null,null,null,null,null,null,null,null,null,null,null,0,"-",null,null,null,null,null,0,0,0,0,0,0,0,0,0,0,null,{"$f":"IF(AI191=\"x\",\"0\",Start!$F$19)","v":2.5},0,{"$f":"Start!$F$22","v":2},{"$f":"Start!$F$25","v":20},{"$error":"#NUM!"},900000000,{"$error":"#NUM!"},0,null,1," "]
["",null,null,null,null,null,null,null,null,null,null,null,null,null,null,null,null,null,null,null,null,null,null,null,null,null,null,null,null,null,null,0,"-",null,null,null,null,null,0,0,0,0,0,0,0,0,0,0,null,{"$f":"IF(AI192=\"x\",\"0\",Start!$F$19)","v":2.5},0,{"$f":"Start!$F$22","v":2},{"$f":"Start!$F$25","v":20},{"$error":"#NUM!"},900000000,{"$error":"#NUM!"},0,null,1," "]
["",null,null,null,null,null,null,null,null,null,null,null,null,null,null,null,null,null,null,null,null,null,null,null,null,null,null,null,null,null,null,0,"-",null,null,null,null,null,0,0,0,0,0,0,0,0,0,0,null,{"$f":"IF(AI193=\"x\",\"0\",Start!$F$19)","v":2.5},0,{"$f":"Start!$F$22","v":2},{"$f":"Start!$F$25","v":20},{"$error":"#NUM!"},900000000,{"$error":"#NUM!"},0,null,1," "]
["",null,null,null,null,null,null,null,null,null,null,null,null,null,null,null,null,null,null,null,null,null,null,null,null,null,null,null,null,null,null,0,"-",null,null,null,null,null,0,0,0,0,0,0,0,0,0,0,null,{"$f":"IF(AI194=\"x\",\"0\",Start!$F$19)","v":2.5},0,{"$f":"Start!$F$22","v":2},{"$f":"Start!$F$25","v":20},{"$error":"#NUM!"},900000000,{"$error":"#NUM!"},0,null,1," "]
["",null,null,null,null,null,null,null,null,null,null,null,null,null,null,null,null,null,null,null,null,null,null,null,null,null,null,null,null,null,null,0,"-",null,null,null,null,null,0,0,0,0,0,0,0,0,0,0,null,{"$f":"IF(AI195=\"x\",\"0\",Start!$F$19)","v":2.5},0,{"$f":"Start!$F$22","v":2},{"$f":"Start!$F$25","v":20},{"$error":"#NUM!"},900000000,{"$error":"#NUM!"},0,null,1," "]
["",null,null,null,null,null,null,null,null,null,null,null,null,null,null,null,null,null,null,null,null,null,null,null,null,null,null,null,null,null,null,0,"-",null,null,null,null,null,0,0,0,0,0,0,0,0,0,0,null,{"$f":"IF(AI196=\"x\",\"0\",Start!$F$19)","v":2.5},0,{"$f":"Start!$F$22","v":2},{"$f":"Start!$F$25","v":20},{"$error":"#NUM!"},900000000,{"$error":"#NUM!"},0,null,1," "]
["",null,null,null,null,null,null,null,null,null,null,null,null,null,null,null,null,null,null,null,null,null,null,null,null,null,null,null,null,null,null,{"$f":"IF(AK197=\"x\",\"\",SUM(O197,P197,R197,T197,V197,X197,Z197,AB197,AD197))","v":0},{"$f":"IF(AY197<=0,\"-\",AY197)","v":"-"},null,null,null,null,null,{"$f":"IF(AJ197<=0,AH197*Essengeld,0)","v":0},{"$f":"IF(N197<=0,AZ197*AW197/AZ197,0)","v":0},{"$f":"IF(Q197<=0,P197*AX197,0)","v":0},{"$f":"IF(S197<=0,R197*AX197,0)","v":0},{"$f":"IF(U197<=0,T197*AX197,0)","v":0},{"$f":"IF(W197<=0,V197*AX197,0)","v":0},{"$f":"IF(Y197<=0,X197*AX197,0)","v":0},{"$f":"IF(AA197<=0,Z197*AX197,0)","v":0},{"$f":"IF(AC197<=0,AB197*AX197,0)","v":0},{"$f":"IF(AE197<=0,AD197*AX197,0)","v":0},null,{"$f":"IF(AI197=\"x\",\"0\",Start!$F$19)","v":2.5},{"$f":"IF(B197=0,0,SUM(AM197:AV197))","v":0},{"$f":"Start!$F$22","v":2},{"$f":"Start!$F$25","v":20},{"$error":"#NUM!"},900000000,{"$error":"#NUM!"},0,null,1," "]
[{"$f":"IF(D198=\"\",\"\",RANK(BE198,$BE$5:$BE$204,0))","v":""},null,null,null,null,null,null,null,null,null,null,null,null,null,null,null,null,null,null,null,null,null,null,null,null,null,null,null,null,null,null,0,"-",null,null,null,null,null,0,0,0,0,0,0,0,0,0,0,null,{"$f":"IF(AI198=\"x\",\"0\",Start!$F$19)","v":2.5},0,{"$f":"Start!$F$22","v":2},{"$f":"Start!$F$25","v":20},{"$error":"#NUM!"},900000000,{"$error":"#NUM!"},0,null,{"$f":"IF(BC198=0,0,RANK(BE198,$BE$5:$BE$204,0))","v":1}," "]
["",null,null,null,null,null,null,null,null,null,null,null,null,null,null,null,null,null,null,null,null,null,null,null,null,null,null,null,null,null,null,0,"-",null,null,null,null,null,0,0,0,0,0,0,0,0,0,0,null,{"$f":"IF(AI199=\"x\",\"0\",Start!$F$19)","v":2.5},0,{"$f":"Start!$F$22","v":2},{"$f":"Start!$F$25","v":20},{"$error":"#NUM!"},900000000,{"$error":"#NUM!"},0,null,1," "]
["",null,null,null,null,null,null,null,null,null,null,null,null,null,null,null,null,null,null,null,null,null,null,null,null,null,null,null,null,null,null,0,"-",null,null,null,null,null,0,0,0,0,0,0,0,0,0,0,null,{"$f":"IF(AI200=\"x\",\"0\",Start!$F$19)","v":2.5},0,{"$f":"Start!$F$22","v":2},{"$f":"Start!$F$25","v":20},{"$error":"#NUM!"},900000000,{"$error":"#NUM!"},0,null,1," "]
["",null,null,null,null,null,null,null,null,null,null,null,null,null,null,null,null,null,null,null,null,null,null,null,null,null,null,null,null,null,null,0,"-",null,null,null,null,null,0,0,0,0,0,0,0,0,0,0,null,{"$f":"IF(AI201=\"x\",\"0\",Start!$F$19)","v":2.5},0,{"$f":"Start!$F$22","v":2},{"$f":"Start!$F$25","v":20},{"$error":"#NUM!"},900000000,{"$error":"#NUM!"},0,null,1," "]
["",null,null,null,null,null,null,null,null,null,null,null,null,null,null,null,null,null,null,null,null,null,null,null,null,null,null,null,null,null,null,0,"-",null,null,null,null,null,0,0,0,0,0,0,0,0,0,0,null,{"$f":"IF(AI202=\"x\",\"0\",Start!$F$19)","v":2.5},0,{"$f":"Start!$F$22","v":2},{"$f":"Start!$F$25","v":20},{"$error":"#NUM!"},900000000,{"$error":"#NUM!"},0,null,1," "]
["",null,null,null,null,null,null,null,null,null,null,null,null,null,null,null,null,null,null,null,null,null,null,null,null,null,null,null,null,null,null,0,"-",null,null,null,null,null,0,0,0,0,0,0,0,0,0,0,null,{"$f":"IF(AI203=\"x\",\"0\",Start!$F$19)","v":2.5},0,{"$f":"Start!$F$22","v":2},{"$f":"Start!$F$25","v":20},{"$error":"#NUM!"},900000000,{"$error":"#NUM!"},0,null,1," "]
["",null,null,null,null,null,null,null,null,null,null,null,null,null,null,null,null,null,null,null,null,null,null,null,null,null,null,null,null,null,null,0,"-",null,null,null,null,null,0,0,0,0,0,0,0,0,0,0,null,{"$f":"IF(AI204=\"x\",\"0\",Start!$F$19)","v":2.5},0,{"$f":"Start!$F$22","v":2},{"$f":"Start!$F$25","v":20},{"$error":"#NUM!"},900000000,{"$error":"#NUM!"},0,null,1," "]

{"sheet":"Hilfe","index":2,"n_rows":18,"n_cols":2,"rows_kept":18,"cut":false,"hidden":false,"merged":[[0,1,0,7],[7,1,7,7],[1,1,1,7],[3,1,3,7],[2,1,2,7],[10,1,10,7],[4,1,4,7],[5,1,5,7],[6,1,6,7],[8,1,8,7],[9,1,9,7],[15,1,15,7],[16,1,16,7],[17,1,17,7],[18,1,18,7],[11,1,11,7],[12,1,12,7],[13,1,13,7],[14,1,14,7]]}
[null,"Bedienungsanleitung"]
[null,"Max 200 Teilnehmer"]
[null,"Auswertung: 1. Gesamtteiler\n                   2. Kleister Einzelteiler"]
[null,"Mit einem Klick auf das Eurosymbol am Ende der Zeile wird der zu zahlende Betrag angezeigt. Beim bestätigen werden alle offenen Beträge der Zeile abgehakt."]
[null,"Weitere Sätze und \"bez.\" (bezahlt) mit einem kleinen \"x\" Kennzeichnen."]
[null,"Wird die Liste gefiltert wird der gesamt zu zahlende Betrag der gefilterten Teilnehmer oben rechts angezeigt"]
[]
[null,"Es werden alle Einträge in der Schießkladde protokolliert."]
[null,"Aufräumen: Zuerst werden alle Einzel-Teiler nach links sortiert, dann die Rangliste erstellt. Danach werden die Eingabefelder der Teiler 5 bis 9 gelöscht, sodass die 4 kleinsten Einzelteiler immer zu sehen sind und die übrigen Eingabefelder frei werden für weitere Eingaben."]
[null,"Namen ordnen: Bei dieser Funktion werden nur die Nachnamen in eine Alphabetische Reihenfolge gebracht. Es wird keine Auswertung vorgenommen und keine Rangfolge festgelegt um weitere Schützen bearbeiten zu können ohne die bisherigen Eingaben zu beeinflussen."]
[null,"Neuer Schütze: Der Curser springt in die unterste freie Zelle der Namensspalte"]
[null,"Drucken: Diese Schaltfläche löst die Auswertung aus und Druckt die gesamte Liste, wenn ein Drucker erkannt wird, sonst wird nur eine Liste angezeigt und eine Fehlermeldung erscheint."]
[null,"Essenliste: Es werden die Teilnehmer angezeigt die mindestens eine 1 in der Anzahlspalte zum Essen haben."]
[null,"Wird ein Name eingetragen, werden die Pflichtsätze automatisch eingetragen. Wenn mehr oder weniger Sätze geschossen werden sollen, kann die Eingabe überschrieben werden. "]
[null,"Spenden können erfasst werden und sind in der Statistik ausgewiesen."]
[null,"Automatische Backups werden bei jedem speichern angelegt. Der Speicherort kann frei gewählt werden."]
[null,"Es wird automatisch eine Log- Datei im Verzeichnis der Datei angelegt (Logbuch_\"Dateiname\".txt)"]
[null,"Soll nur Essen oder eine Spende eingetragen werden aber kein schießen, muss die Anzahl der Pfilchtsätze gelöscht erden."]

{"sheet":"Info","index":3,"n_rows":20,"n_cols":60,"rows_kept":20,"cut":false,"hidden":false,"merged":[]}
["Zelle","vorher","neu","Teilnehmer","Änderungszeitpunkt"]
[]
[]
[]
[]
[]
[]
[]
[]
[]
[null,null,null,null,null,null,null,null,null,null,null,null,null,null,null,null,null,null,null,null,null,null,null,null,null,null,null,null,null,null,null,null,null,null,null,null,null,null,null,null,null,null,null,null,null,null,null,null,null,null,null,null,null,null,null,null,null,null,null,2]
[]
[null,null,null,null,null,null,null,null,null,null,null,null,null,null,null,null,null,null,null,null,null,null,null,null,null,null,null,null,null,null,null,null,null,null,null,null,null,null,null,null,null,null,null,null,null,null,null,null,null,null,null,null,null,null,null,null,null,null,null,776]
[]
[]
[]
[]
[]
[]
[null,null,null,null,null,null,null,null,null,null,null,null,null,null,null,null,null,null,null,null,null,null,null,null,null,null,null,null,null,null,null,null,null,null,null,null,null,1,1,1,1,1,1,1,1,1,1,1,1,1,1,1,1,1,1,1,1,1,1,1]